Workbook

Sheet Sheet1
B1: คำแถลงงบประมาณ
B2: ประกอบงบประมาณรายจ่ายประจำปีงบประมาณ พ.ศ. 2556
B4: ท่านประธานสภาฯ และสมาชิกสภาเทศบาลตำบลแวงใหญ่
B5: บัดนี้ถึงเวลาที่คณะผู้บริหารเทศบาล จะได้เสนอร่างเทศบัญญัตติงบประมาณรายจ่ายประจำปีต่อสภา
B6: เทศบาลอีกครั้งหนึ่ง ฉะนั้นในโอกาสนี้คณะผู้บริหารเทศบาล จึงขอแถลงให้ท่านประธานและสมาชิกทุกท่านได้ทราบ
B7: ถึงสถานะการคลัง ตลอดจนหลักการและนโยบายในการดำเนินงานในปีงบประมาณ พ.ศ. 2556 ดังต่อไปนี้
B9: 1. สถานะการคลัง
B10: ในปีงบประมาณ พ.ศ. 2556 เทศบาลตำบลแวงใหญ่ ได้ประมาณการรายรับไว้ 30,873,500.- บาท
B11: โดยในส่วนของรายได้ที่เทศบาลจัดเก็บเอง จะได้ปรับปรุงการจัดเก็บให้มีประสิทธิภาพยิ่งขึ้นและในส่วนของงบประมาณ
B12: รายจ่าย กำหนดวงเงินรายจ่ายไว้จำนวน 30,872,620 - บาท ซึ่งคาดว่าจะสามารถไปจัดทำบริการสาธารณะด้านต่าง ๆ
B13: ให้มีประสิทธิภาพยิ่งขึ้น ซึ่งการจัดทำงบประมาณของเทศบาลเป็นการจัดทำแบบเกินดุล (รายจ่ายน้อยกว่ารายรับ)
B14: นอกจากนี้เทศบาลมีเงินสะสมคงเหลืออยู่ 13,626,984.08 บาท และเงินทุนสำรองเงินสะสม 11,321,685.67 บาท
... B24: 2.1 รายรับ
B25: รายรับ | C25: รับจริง | D25: ประมาณการ | E25: ประมาณการ
C26: ปี 2554 | D26: ปี 2555 | E26: ปี 2556
B27: ก. รายได้ภาษีอากร (ยอดรวม) | C27: =SUM(C28,C33) -> 17461984 | D27: =SUM(D28,D33) -> 16951000 | E27: =SUM(E28,E33) -> 17553900
B28: 1. หมวดภาษีอากร 0100 (รวม) | C28: =SUM(C29:C32) -> 339834 | D28: =SUM(D29:D32) -> 291000 | E28: =SUM(E29:E32) -> 351900
B29: 1.1 ภาษีโรงเรือนและที่ดิน (0101) | C29: 221860 | D29: 210000 | E29: 231400
B30: 1.2 ภาษีบำรุงท้องที่ (0102) | C30: 50555 | D30: 53000 | E30: 50500
B31: 1.3 ภาษีป้าย (0103) | C31: 67419 | D31: 28000 | E31: 70000
B32: 1.4 อากรการฆ่าสัตว์ (0104) | C32: 0 | D32: 0 | E32: 0
B33: 2.หมวดภาษีจัดสรร (1000) (รวม) | C33: =SUM(C34:C45) -> 17122150 | D33: =SUM(D34:D45) -> 16660000 | E33: =SUM(E34:E46) -> 17202000
B34: 2.1 ภาษีธรรมเนียมรถยนต์ล้อเลื่อน(1001) | C34: - | D34: - | E34: 0
B35: 2.2 ภาษีมูลค่าเพิ่ม 1 ใน 9 (1002) | C35: 1977123.4 | D35: 13000000 | E35: 2000000
B36: 2.3 ภาษีมูลค่าเพิ่มตาม พ.ร.บ.กระจายอำนาจ | C36: 11057818 | E36: 11000000
B37: 2.4 ภาษีธรุกิจเฉพาะ(1004) | C37: 71437.12 | D37: 11000 | E37: 71000
B38: 2.5 ภาษีสุรา(1005) | C38: 796814.94 | D38: 740000 | E38: 805000
B39: 2.6 ภาษีสรรพสามิต(1006) | C39: 1918880 | D39: 2000000 | E39: 2010000
B40: 2.7ภาษีการพนัน(1007) | C40: - | D40: 0 | E40: -
B41: 2.8 ค่าภาคหลวงแร่ (1010) | C41: 86317.59 | D41: 29000 | E41: 86000
B42: รายรับ | C42: รับจริง | D42: ประมาณการ | E42: ประมาณการ
C43: ปี 2554 | D43: ปี 2555 | E43: ปี 2556
B44: 2.9 ค่าภาคหลวงปิโตรเลียม(1011) | C44: 171071.08 | D44: 100000 | E44: 170000
B45: 2.10 ค่าธรรมเนียมจดทะเบียนสิทธิและนิติกรรม(1013) | C45: 1042687 | D45: 780000 | E45: 1060000
B47: ข.รายได้ที่ไม่ใช่ภาษีอากร (ยอดรวม) | C47: =SUM(C49,C70,C74,C76) -> 1823353.9 | D47: =SUM(D49,D70,D74,D76) -> 1049000 | E47: =SUM(E49,E70,E74,E76) -> 1979600
B49: 1.หมวดค่าธรรมเนียมค่าปรับและใบอนุญาต0120 (รวม) | C49: =SUM(C51:C68) -> 441162 | D49: =SUM(D51:D68) -> 198000 | E49: =SUM(E51:E68) -> 443500
B51: 1.1 ค่าธรรมเนียมเกี่ยวกับควบคุมการฆ่าสัตว์ฯ (0121)(รวม) | C51: 0 | D51: 0 | E51: -
B52: 1.2 ค่าธรรมเนียมเกี่ยวกับพนันเพิ่ม (0123) | C52: 0 | D52: 0 | E52: -
B53: 1.3 ค่าธรรมเนียมเกี่ยวกับการควบคุมอาคาร (0125) | C53: - | D53: 0 | E53: -
B54: 1.4 ค่าธรรมเนียมเก็บและขนขยะมูลฝอย (0126) | C54: 144800 | D54: 130000 | E54: 144000
B55: 1.5ค่าธรรมเนียมเก็บและขนอุจจาระหรือสิ่งปฎิกูล(0127) | D55: 0 | E55: 0
B56: 1.6 ค่าธรรมเนียมออกหนังสือจำหน่ายและสะสมอาหาร(0128) | C56: - | D56: - | E56: 2500
B57: 1.7 ค่าธรรมเนียมฌาปนสถาน(0129) | C57: - | D57: - | E57: -
B58: 1.8 ค่าธรรมเนียมเกี่ยวกับการทะเบียนราษฎร(0131) | C58: 2530 | D58: 2000 | E58: 2500
B59: 1.9 ค่าปรับผู้กระทำผิดกฎหมายจราจรทางบก(0137) | C59: 28855 | D59: 11000 | E59: 29000
B60: 1.10 ค่าปรับผู้กระทำผิดกฎหมายและข้อบังคับท้องถิ่น(0139) | C60: - | D60: - | E60: -
B61: 1.11 ค่าปรับการผิดสัญญา (0140) | C61: 215400 | D61: 20000 | E61: 215000
B62: 1.12 ค่าปรับอื่น ๆ (0141) | C62: - | D62: - | E62: -
B63: 1.13 ค่าใบอนุญาตรับทำการเก็บขนฯ (0142) | C63: - | D63: - | E63: -
B64: 1.14 ค่าใบอนุญาตจัดตั้งสถานจำหน่ายอาหารฯ (0144) | C64: - | D64: 0 | E64: 0
B65: 1.15 ค่าใบอนุญาตจำหน่ายสินค้าในที่สาธารณะ (0145) | C65: - | D65: - | E65: -
B66: 1.16 ค่าใบอนุญาตเกี่ยวกับการควบคุมอาคาร(0146) | C66: 5257 | D66: 3000 | E66: 6000
B67: 1.17 ค่าใบอนุญาตเกี่ยวกับการโฆษณาโดยใช้เครื่องเสียง(0147) | C67: 2550 | D67: 2000 | E67: 2500
B68: 1.18 ค่าใบอนุญาตอื่น ๆ (0148) | C68: 41770 | D68: 30000 | E68: 42000
B70: 2.หมวดรายได้จากทรัพย์สิน 200 (รวม) | C70: =SUM(C71:C72) -> 772357.92 | D70: =SUM(D71:D72) -> 600000 | E70: =SUM(E71:E72) -> 926000
B71: 2.1 ค่าเช่าหรือค่าบริการสถานที่(0202) | C71: 553120 | D71: 440000 | E71: 553000
B72: 2.2 ดอกเบี้ย (0203) | C72: 219237.92 | D72: 160000 | E72: 373000
B74: 3.หมวดรายได้จากสาธารณูปโภคและการพานิชย์ | C74: - | D74: - | E74: -
B76: 4.หมวดรายได้เบ็ดเตล็ด 0300 (ยอดรวม) | C76: =SUM(C77:C85) -> 609834 | D76: =SUM(D77:D85) -> 251000 | E76: =SUM(E77:E85) -> 610100
B80: รายรับ | C80: รับจริง | D80: ประมาณการ | E80: ประมาณการ
C81: ปี 2554 | D81: ปี 2555 | E81: ปี 2556
B82: 4.1. เงินที่มีผู้อุทิศ(0301) | C82: - | D82: - | E82: -
B83: 4.2.ค่าขายแบบแปลน(0302) | C83: 89000 | D83: 150000 | E83: 89000
B84: 4.3.ค่าจำหน่ายแบบพิมพ์และคำร้อง (0304) | C84: 68 | D84: 1000 | E84: 100
B85: 4.4.รายได้เบ็ดเตล็ดอื่นๆ(0307) | C85: 520766 | D85: 100000 | E85: 521000
B86: ค.รายได้ทุน (ไม่มี) | C86: - | D86: - | E86: -
B88: ยอดรวมรายได้ไม่รวมเงินอุดหนุนทั่วไป | C88: =SUM(C27,C47,C86) -> 19285338 | D88: =SUM(D27,D47,D86) -> 18000000 | E88: =SUM(E27,E47) -> 19533500
B90: ง. หมวดเงินอุดหนุนทั่วไป | C90: =SUM(C92:C96) -> 11349554 | D90: =SUM(D92) -> 13000000 | E90: =SUM(E92) -> 11340000
B92: 1.1 เงินอุดหนุนทั่วไปเพื่อการบูรณะท้องถิ่นและกิจการ | C92: 11349554 | D92: 13000000 | E92: 11340000
B93: อื่นทั่วไป (หรือเงินอุดหนุนทั่วไป)
B94: 1.2 เงินอุดหนุนทั่วไปโดยระบุวัตถุประสงค์ | C94: - | D94: - | E94: -
B97: รวมรายรับตามประมาณการ | C97: =SUM(C27,C47,C92) -> 30634892 | D97: =SUM(D27,D47,D90) -> 31000000 | E97: =SUM(E27,E47,E92) -> 30873500
B98: รวมรายรับทั้งสิ้น | C98: =SUM(C27,C47,C92) -> 30634892 | D98: =SUM(D27,D47,D92) -> 31000000 | E98: =SUM(E27,E47,E92) -> 30873500
B100: 2.2 รายจ่ายจำแนกตามแผนงาน
B101: ด้าน / แผนงาน | C101: จ่ายจริง | D101: ประมาณการ | E101: ประมาณการ
C102: ปี 2554 | D102: ปี 2555 | E102: ปี 2556
B103: ด้านบริหารทั่วไป (00100) | C103: =SUM(C104:C105) -> 11299519 | D103: =SUM(D104:D105) -> 13943200 | E103: =SUM(E104:E105) -> 13309400
B104: - แผนงานบริหารทั่วไป (00110) | C104: 11204799 | D104: 13582200 | E104: =SUM([1]หลักการและเหตุผล!H11) -> 12768400
B105: - แผนงานการรักษาความสงบภายใน ฯ (00120) | C105: 94720 | D105: 361000 | E105: =SUM([1]หลักการและเหตุผล!H12) -> 541000
B106: ด้านบริการชุมชนและสังคม (00200) | C106: =SUM(C107:C112) -> 12279232 | D106: =SUM(D107:D112) -> 12992580 | E106: =SUM(E107:E112) -> 15320340
B107: - แผนงานการศึกษา (00210) | C107: 2178941.6 | D107: 2427700 | E107: =SUM([1]หลักการและเหตุผล!H15) -> 2421240
B108: - แผนงานสาธารณสุข (00220) | C108: 3289462.2 | D108: 3600820 | E108: =SUM([1]หลักการและเหตุผล!H16) -> 4846330
B109: - แผนงานสังคมสงเคราะห์ (00230) | C109: 60000 | D109: 60000 | E109: =SUM([1]หลักการและเหตุผล!H17) -> 50000
B110: - แผนงานเคหะและชุมชน (00240) | C110: 5553920.1 | D110: 5787060 | E110: =SUM([1]หลักการและเหตุผล!H18) -> 6715770
B111: - แผนงานสร้างความเข้มแข็ง (00250) | C111: 161097 | D111: 244000 | E111: =SUM([1]หลักการและเหตุผล!H19) -> 215000
B112: - แผนงานศาสนาวัฒนธรรมและนันทนาการ (00260) | C112: 1035811 | D112: 873000 | E112: =SUM([1]หลักการและเหตุผล!H20) -> 1072000
B113: ด้านการเศรษฐกิจ (00300) | C113: =SUM(C114:C116) -> 68950 | D113: =SUM(D114:D116) -> 170000 | E113: =SUM(E114:E116) -> 180000
B114: - แผนงานอุตสาหกรรมและการโยธา (00310) | C114: 0 | D114: - | E114: -
B115: - แผนงานการเกษตร (00320) | C115: 68950 | D115: 100000 | E115: =SUM([1]หลักการและเหตุผล!H23) -> 130000
B116: - แผนงานการพาณิชย์ (00330) | D116: 70000 | E116: =SUM([1]หลักการและเหตุผล!H24) -> 50000
B118: ด้าน / แผนงาน | C118: จ่ายจริง | D118: ประมาณการ | E118: ประมาณการ
C119: ปี 2554 | D119: ปี 2555 | E119: ปี 2556
B120: ด้านการดำเนินงานอื่น (00400) | C120: =SUM(C121) -> 2023692.4 | D120: =SUM(D121) -> 3894000 | E120: =SUM(E121) -> 2062880
B121: - แผนงานงบกลาง (00410) | C121: 2023692.4 | D121: 3894000 | E121: =SUM([1]หลักการและเหตุผล!H27) -> 2062880
B123: รวมรายจ่ายทั้งสิ้น | C123: =SUM(C103,C106,C113,C120) -> 25671393 | D123: =SUM(D103,D106,D113,D120) -> 30999780 | E123: =SUM(E103,E106,E113,E120) -> 30872620
B125: 2.3 รายจ่ายจำแนกตามหมวดรายจ่าย
B126: รายจ่าย | C126: จ่ายจริง | D126: ประมาณการ | E126: ประมาณการ
C127: ปี 2554 | D127: ปี 2555 | E127: ปี 2556
B128: 1. รายจ่ายงบกลาง | C128: 2023692.4 | D128: 3894000 | E128: =SUM([1]งบกลาง!F6) -> 2062880
B129: 2. หมวดเงินเดือน | C129: 5342872.6 | D129: 6430160 | E129: =SUM([1]สป.!F11,[1]กองคลัง!F11,[1]สาธารณสุข!F10,[1]กองช่าง!F11) -> 7493240
...

Sheet Sheet2

Sheet Sheet3
