Workbook

Sheet Sheet1
B1: คำแถลงงบประมาณ
B2: ประกอบงบประมาณรายจ่ายประจำปีงบประมาณ พ.ศ. 2556
B4: ท่านประธานสภาฯ และสมาชิกสภาเทศบาลตำบลแวงใหญ่
B5: บัดนี้ถึงเวลาที่คณะผู้บริหารเทศบาล จะได้เสนอร่างเทศบัญญัตติงบประมาณรายจ่ายประจำปีต่อสภา
B6: เทศบาลอีกครั้งหนึ่ง ฉะนั้นในโอกาสนี้คณะผู้บริหารเทศบาล จึงขอแถลงให้ท่านประธานและสมาชิกทุกท่านได้ทราบ
B7: ถึงสถานะการคลัง ตลอดจนหลักการและนโยบายในการดำเนินงานในปีงบประมาณ พ.ศ. 2556 ดังต่อไปนี้
B9: 1. สถานะการคลัง
B10: ในปีงบประมาณ พ.ศ. 2556 เทศบาลตำบลแวงใหญ่ ได้ประมาณการรายรับไว้ 30,873,500.- บาท
B11: โดยในส่วนของรายได้ที่เทศบาลจัดเก็บเอง จะได้ปรับปรุงการจัดเก็บให้มีประสิทธิภาพยิ่งขึ้นและในส่วนของงบประมาณ
B12: รายจ่าย กำหนดวงเงินรายจ่ายไว้จำนวน 30,872,620 - บาท ซึ่งคาดว่าจะสามารถไปจัดทำบริการสาธารณะด้านต่าง ๆ
B13: ให้มีประสิทธิภาพยิ่งขึ้น ซึ่งการจัดทำงบประมาณของเทศบาลเป็นการจัดทำแบบเกินดุล (รายจ่ายน้อยกว่ารายรับ)
B14: นอกจากนี้เทศบาลมีเงินสะสมคงเหลืออยู่ 13,626,984.08 บาท และเงินทุนสำรองเงินสะสม 11,321,685.67 บาท
... B24: 2.1 รายรับ
B25: รายรับ | C25: รับจริง | D25: ประมาณการ | E25: ประมาณการ
C26: ปี 2554 | D26: ปี 2555 | E26: ปี 2556
B27: ก. รายได้ภาษีอากร (ยอดรวม) | C27: =SUM(C28,C33) -> 17461984 | D27: =SUM(D28,D33) -> 16951000 | E27: =SUM(E28,E33) -> 17553900
B28: 1. หมวดภาษีอากร 0100 (รวม) | C28: =SUM(C29:C32) -> 339834 | D28: =SUM(D29:D32) -> 291000 | E28: =SUM(E29:E32) -> 351900
B29: 1.1 ภาษีโรงเรือนและที่ดิน (0101) | C29: 221860 | D29: 210000 | E29: 231400
B30: 1.2 ภาษีบำรุงท้องที่ (0102) | C30: 50555 | D30: 53000 | E30: 50500
B31: 1.3 ภาษีป้าย (0103) | C31: 67419 | D31: 28000 | E31: 70000
B32: 1.4 อากรการฆ่าสัตว์ (0104) | C32: 0 | D32: 0 | E32: 0
B33: 2.หมวดภาษีจัดสรร (1000) (รวม) | C33: =SUM(C34:C45) -> 17122150 | D33: =SUM(D34:D45) -> 16660000 | E33: =SUM(E34:E46) -> 17202000
B34: 2.1 ภาษีธรรมเนียมรถยนต์ล้อเลื่อน(1001) | C34: - | D34: - | E34: 0
B35: 2.2 ภาษีมูลค่าเพิ่ม 1 ใน 9 (1002) | C35: 1977123.4 | D35: 13000000 | E35: 2000000
B36: 2.3 ภาษีมูลค่าเพิ่มตาม พ.ร.บ.กระจายอำนาจ | C36: 11057818 | E36: 11000000
B37: 2.4 ภาษีธรุกิจเฉพาะ(1004) | C37: 71437.12 | D37: 11000 | E37: 71000
B38: 2.5 ภาษีสุรา(1005) | C38: 796814.94 | D38: 740000 | E38: 805000
B39: 2.6 ภาษีสรรพสามิต(1006) | C39: 1918880 | D39: 2000000 | E39: 2010000
B40: 2.7ภาษีการพนัน(1007) | C40: - | D40: 0 | E40: -
B41: 2.8 ค่าภาคหลวงแร่ (1010) | C41: 86317.59 | D41: 29000 | E41: 86000
B42: รายรับ | C42: รับจริง | D42: ประมาณการ | E42: ประมาณการ
C43: ปี 2554 | D43: ปี 2555 | E43: ปี 2556
B44: 2.9 ค่าภาคหลวงปิโตรเลียม(1011) | C44: 171071.08 | D44: 100000 | E44: 170000
B45: 2.10 ค่าธรรมเนียมจดทะเบียนสิทธิและนิติกรรม(1013) | C45: 1042687 | D45: 780000 | E45: 1060000
B47: ข.รายได้ที่ไม่ใช่ภาษีอากร (ยอดรวม) | C47: =SUM(C49,C70,C74,C76) -> 1823353.9 | D47: =SUM(D49,D70,D74,D76) -> 1049000 | E47: =SUM(E49,E70,E74,E76) -> 1979600
B49: 1.หมวดค่าธรรมเนียมค่าปรับและใบอนุญาต0120 (รวม) | C49: =SUM(C51:C68) -> 441162 | D49: =SUM(D51:D68) -> 198000 | E49: =SUM(E51:E68) -> 443500
B51: 1.1 ค่าธรรมเนียมเกี่ยวกับควบคุมการฆ่าสัตว์ฯ (0121)(รวม) | C51: 0 | D51: 0 | E51: -
B52: 1.2 ค่าธรรมเนียมเกี่ยวกับพนันเพิ่ม (0123) | C52: 0 | D52: 0 | E52: -
B53: 1.3 ค่าธรรมเนียมเกี่ยวกับการควบคุมอาคาร (0125) | C53: - | D53: 0 | E53: -
B54: 1.4 ค่าธรรมเนียมเก็บและขนขยะมูลฝอย (0126) | C54: 144800 | D54: 130000 | E54: 144000
...

Sheet Sheet2

Sheet Sheet3
