Workbook

Sheet คำแถลงงบประมาณ
A1: คำแถลงงบประมาณ
A2: ประกอบงบประมาณรายจ่ายประจำปีงบประมาณ พ.ศ. 2562
A4: ท่านประธานสภาฯ และสมาชิกสภาเทศบาลตำบลแวงใหญ่
A5: บัดนี้ ถึงเวลาที่คณะผู้บริหารเทศบาลตำบลแวงใหญ่ จะได้เสนอร่างเทศบัญญัติงบประมาณรายจ่าย
A6: ประจำปีต่อสภาเทศบาลตำบลแวงใหญ่อีกครั้งหนึ่ง ฉะนั้น ในโอกาสนี้คณะผู้บริหารเทศบาลตำบลแวงใหญ่
A7: จึงขอชี้แจงให้ท่านประธานและสมาชิกทุกท่านได้ทราบถึงสถานะการคลัง ตลอดจนหลักการและแนวนโยบาย
A8: การดำเนินการ ในปีงบประมาณ พ.ศ.2562 ดังต่อไปนี้
A9: 1. สถานะการคลัง
A10: 1.1 งบประมาณรายจ่ายทั่วไป
A11: ในปีงบประมาณ พ.ศ.2561 ณ วันที่ 30 มิถุนายน 2561 เทศบาลตำบลแวงใหญ่ มีสถานะการเงินดังนี้
A12: 1.1.1 เงินฝากธนาคาร จำนวน 60,666,973.66 บาท
A13: 1.1.2 เงินสะสม จำนวน 41,776,138.10 บาท
... A18: 2. การบริหารงบประมาณในปีงบประมาณ 2560
A19: (1) รายรับจริง จำนวน | B19: =SUM(B20:B29) -> 35369571 | C19: บาท ประกอบด้วย
A20: หมวดภาษีอากร | B20: 650981.3 | C20: บาท
A21: หมวดค่าธรรมเนียม ค่าปรับ และใบอนุญาต | B21: 182797 | C21: บาท
A22: หมวดรายได้จากทรัพย์สิน | B22: 736986.74 | C22: บาท
A23: หมวดรายได้จากสาธารณูปโภคและการพาณิชย์ | B23: - | C23: บาท
A24: หมวดรายได้เบ็ดเตล็ด | B24: 115466.76 | C24: บาท
A25: หมวดรายได้จากทุน | B25: - | C25: บาท
A26: หมวดภาษีจัดสรร | B26: 17365501 | C26: บาท
A27: หมวดเงินอุดหนุนทั่วไป | B27: 16317838 | C27: บาท
A29: (2) เงินอุดหนุนที่รัฐบาลให้โดยระบุวัตถุประสงค์ | B29: 0 | C29: บาท
A33: (3) รายจ่ายจริง จำนวน | B33: =SUM(B34:B44) -> 28213214 | C33: บาท ประกอบด้วย
A34: งบกลาง | B34: 7435047.8 | C34: บาท
A35: งบบุคลากร | B35: 10244693 | C35: บาท
A36: งบดำเนินงาน | B36: 6579647.3 | C36: บาท
A37: งบลงทุน | B37: 213450 | C37: บาท
A38: งบรายจ่ายอื่น | B38: - | C38: บาท
A39: งบเงินอุดหนุน | B39: 1944397.9 | C39: บาท
A40: (4) รายจ่ายที่จ่ายจากเงินอุดหนุนที่รัฐบาลให้โดยระบุวัตถุประสงค์ | B40: 0 | C40: บาท
A41: (5) รายจ่ายที่จ่ายจากเงินสะสม | B41: 1795978.2 | C41: บาท
A42: (6) รายจ่ายที่จ่ายจากเงินทุนสำรองเงินสะสม | B42: - | C42: บาท
A65: คำแถลงงบประมาณ
A66: ประจำปีงบประมาณ พ.ศ. 2562
A67: เทศบาลตำบลแวงใหญ่
A68: อำเภอแวงใหญ่ จังหวัดขอนแก่น
A69: 2.1 รายรับ
A71: รายรับ | B71: รายรับจริง | C71: ประมาณการ | D71: ประมาณการ
B72: ปี 2560 | C72: ปี 2561 | D72: ปี 2562
...

Sheet หลักการและเหตุผล
B1: บันทึกหลักการและเหตุผล
B2: ประกอบร่างเทศบัญญัติ งบประมาณรายจ่าย
B3: ประจำปีงบประมาณ พ.ศ.2562
B4: ของ เทศบาลตำบลแวงใหญ่
B5: อำเภอแวงใหญ่ จังหวัดขอนแก่น
B7: ด้าน | D7: ยอดรวม
B8: ด้านบริหารงานทั่วไป | D8: =SUM(D9:D10) -> 14752808
C9: แผนงานบริหารงานทั่วไป | D9: =SUM(แผนงานบริหารทั่วไป!H7) -> 13233378
C10: แผนงานการรักษาความสงบภายใน | D10: =SUM(แผนงานรักษาความสงบภายใน!H1) -> 1519430
B11: ด้านบริการชุมชนและสังคม | D11: =SUM(D12:D17) -> 17221810
C12: แผนงานการศึกษา | D12: =SUM(แผนงานการศึกษา!H1) -> 6214625
C13: แผนงานสาธารณสุข | D13: =SUM(แผนงานสาธารณสุข!H1) -> 5402450
C14: แผนงานสังคมสงเคราะห์ | D14: =SUM(แผนงานสังคมสงเคราะห์!H1) -> 90000
C15: แผนงานเคหะและชุมชน | D15: =SUM(แผนงานเคหะและชุมชน!H1) -> 4584735
C16: แผนงานสร้างความเข้มแข็งของชุมชน | D16: =SUM(แผนงานสร้างความเข้มแข็งของชุมชน!H1) -> 215000
C17: แผนงานการศาสนา วัฒนธรรม และนันทนาการ | D17: =SUM(แผนงานศาสนาวัฒนธรรมและนันทนาการ!H1) -> 715000
B18: ด้านเศรษฐกิจ | D18: =SUM(D19:D20) -> 120000
C19: แผนงานการเกษตร | D19: =SUM(แผนงานการเกษตร!H1) -> 70000
C20: แผนงานการพาณิชย์ | D20: =SUM(แผนงานการพาณิชย์!H1) -> 50000
B21: ด้านการดำเนินงานอื่น | D21: =SUM(D22) -> 10597642
C22: แผนงานงบกลาง | D22: =SUM(แผนงานงบกลาง!H1) -> 10597642
B24: งบประมาณรายจ่ายทั้งสิ้น | D24: =SUM(D8,D11,D18,D21) -> 42692260

Sheet รายจ่ายตามงานและงบรายจ่าย
A1: รายจ่ายตามงานและงบรายจ่าย
A2: เทศบาลตำบลแวงใหญ่
A3: อำเภอแวงใหญ่ จังหวัดขอนแก่น
A5: แผนงานบริหารงานทั่วไป
A6: งาน งบ | C6: งานบริหารทั่วไป | D6: งานวางแผนสถิติและวิชาการ | E6: งานบริหารงานคลัง | F6: รวม
A8: งบบุคลากร | C8: =SUM(C9:C10) -> 6372660 | D8: =SUM(D9:D10) -> 336360 | E8: =SUM(E9:E10) -> 2074260 | F8: =SUM(F9:F10) -> 8783280
B9: เงินเดือน(ฝ่ายการเมือง) | C9: =SUM(แผนงานบริหารทั่วไป!H11) -> 2392800 | D9: 0 | E9: 0 | F9: =SUM(รายงานประมาณการรายจ่าย!H21) -> 2392800
B10: เงินเดือน(ฝ่ายประจำ) | C10: =SUM(แผนงานบริหารทั่วไป!H72) -> 3979860 | D10: =SUM(แผนงานบริหารทั่วไป!H751) -> 336360 | E10: =SUM(แผนงานบริหารทั่วไป!H850) -> 2074260 | F10: =SUM(C10:E10) -> 6390480
A11: งบดำเนินงาน | C11: =SUM(C12:C15) -> 3224253 | D11: =SUM(D12:D15) -> 98015 | E11: =SUM(E12:E15) -> 1027430 | F11: =SUM(F12:F15) -> 4349698
B12: ค่าตอบแทน | C12: =SUM(แผนงานบริหารทั่วไป!H157) -> 395353 | D12: =SUM(แผนงานบริหารทั่วไป!H763) -> 14015 | E12: =SUM(แผนงานบริหารทั่วไป!H896) -> 280430 | F12: =SUM(C12:E12) -> 689798
B13: ค่าใช้สอย | C13: =SUM(แผนงานบริหารทั่วไป!H226) -> 1742500 | D13: =SUM(แผนงานบริหารทั่วไป!H782) -> 84000 | E13: =SUM(แผนงานบริหารทั่วไป!H959) -> 357000 | F13: =SUM(C13:E13) -> 2183500
B14: ค่าวัสดุ | C14: =SUM(แผนงานบริหารทั่วไป!H450) -> 591400 | D14: 0 | E14: =SUM(แผนงานบริหารทั่วไป!H1028) -> 140000 | F14: =SUM(C14:E14) -> 731400
B15: ค่าสาธารณูปโภค | C15: =SUM(แผนงานบริหารทั่วไป!H658) -> 495000 | D15: 0 | E15: =SUM(แผนงานบริหารทั่วไป!H1146) -> 250000 | F15: =SUM(C15:E15) -> 745000
A16: งบลงทุน | C16: =SUM(C17:C18) -> 61400 | D16: =SUM(D17) -> 0 | E16: =SUM(E17) -> 39000 | F16: =SUM(C16:E16) -> 100400
B17: ค่าครุภัณฑ์ | C17: =SUM(แผนงานบริหารทั่วไป!H702) -> 61400 | D17: 0 | E17: =SUM(แผนงานบริหารทั่วไป!H1167) -> 39000 | F17: =SUM(C17:E17) -> 100400
B18: ค่าที่ดินและสิ่งก่อสร้าง | D18: - | E18: - | F18: =SUM(C18:E18) -> 0
A19: งบรายจ่ายอื่น
B20: รายจ่ายอื่น
A21: งบเงินอุดหนุน | D21: =SUM(D22) -> 0 | F21: =SUM(C21:E21) -> 0
B22: เงินอุดหนุน | D22: 0
A23: รวม | C23: =SUM(C8,C11,C16,C21) -> 9658313 | D23: =SUM(D8,D11,D16,D21) -> 434375 | E23: =SUM(E8,E11,E16,E21) -> 3140690 | F23: =SUM(F8,F11,F16,F19,F21) -> 13233378
A40: แผนงานการรักษาความสงบภายใน
A41: งาน งบ | C41: งานบริหารทั่วไปเกี่ยวกับการรักษาความสงบภายใน | D41: งานป้องกันภัยฝ่ายพลเรือนและระงับอัคคีภัย | E41: รวม
A43: งบบุคลากร | C43: =SUM(C44:C45) -> 655920 | D43: =SUM(D44:D45) -> 0 | E43: =SUM(E44:E45) -> 655920
B44: เงินเดือน(ฝ่ายการเมือง) | C44: 0 | D44: 0 | E44: =SUM(B44:D44) -> 0
B45: เงินเดือน(ฝ่ายประจำ) | C45: =SUM(แผนงานรักษาความสงบภายใน!H5) -> 655920 | D45: =SUM(แผนงานรักษาความสงบภายใน!I5) -> 0 | E45: =SUM(B45:D45) -> 655920
A46: งบดำเนินงาน | C46: =SUM(C47:C50) -> 535110 | D46: =SUM(D47:D50) -> 315000 | E46: =SUM(E47:E50) -> 850110
B47: ค่าตอบแทน | C47: =SUM(แผนงานรักษาความสงบภายใน!H44) -> 55110 | D47: =SUM(แผนงานรักษาความสงบภายใน!H87) -> 70000 | E47: =SUM(B47:D47) -> 125110
B48: ค่าใช้สอย | C48: =SUM(แผนงานรักษาความสงบภายใน!H73) -> 480000 | D48: =SUM(แผนงานรักษาความสงบภายใน!H112) -> 75000 | E48: =SUM(B48:D48) -> 555000
B49: ค่าวัสดุ | D49: =SUM(แผนงานรักษาความสงบภายใน!H175) -> 170000 | E49: =SUM(B49:D49) -> 170000
B50: ค่าสาธารณูปโภค | E50: =SUM(B50:D50) -> 0
A51: งบลงทุน | C51: =SUM(C52) -> 0 | D51: =SUM(D52:D53) -> 13400 | E51: =SUM(E52:E53) -> 13400
B52: ค่าครุภัณฑ์ | D52: =SUM(แผนงานรักษาความสงบภายใน!H219) -> 13400 | E52: =SUM(B52:D52) -> 13400
B53: ค่าที่ดินและสิ่งก่อสร้าง | E53: =SUM(D53) -> 0
A54: งบรายจ่ายอื่น | C54: - | D54: - | E54: -
B55: รายจ่ายอื่น | C55: - | D55: - | E55: -
A56: งบเงินอุดหนุน | C56: =SUM(C57) -> 0 | D56: =SUM(D57) -> 0 | E56: =SUM(E57) -> 0
B57: เงินอุดหนุน | E57: =SUM(B57:D57) -> 0
A58: รวม | C58: =SUM(C43,C46,C51,C56) -> 1191030 | D58: =SUM(D43,D46,D51,D56) -> 328400 | E58: =SUM(E43,E46,E51,E56) -> 1519430
A70: แผนงานการศึกษา
...

Sheet เทศบัญญัติ
A1: เทศบัญญัติ
A2: งบประมาณรายจ่าย ประจำปีงบประมาณ พ.ศ. 2562
A3: เทศบาลตำบลแวงใหญ่
A4: อำเภอแวงใหญ่ จังหวัดขอนแก่น
B5: โดยที่เป็นการสมควรตั้งงบประมาณรายจ่ายประจำปีงบประมาณ พ.ศ. 2561 อาศัยอำนาจ
A6: ตามความในพระราชบัญญัติเทศบาล พ.ศ. 2496 แก้ไขเพิ่มเติมถึง (ฉบับที่ 13) พ.ศ.2552 มาตรา 65 จึงตรา
A7: เทศบัญญัติงบประมาณรายจ่ายประจำปีงบประมาณ พ.ศ. 2562 ขึ้นไว้โดยความเห็นชอบของสภาเทศบาล
A8: ตำบลแวงใหญ่ และโดยอนุมัติของผู้ว่าราชการจังหวัดขอนแก่น
B9: ข้อ 1. เทศบัญญัตินี้เรียกว่า "เทศบัญญัติงบประมาณรายจ่ายประจำปีงบประมาณ พ.ศ.2562"
B10: ข้อ 2. เทศบัญญัตินี้ให้ใช้บังคับตั้งแต่วันที่ 1 เดือน ตุลาคม พ.ศ. 2561 เป็นต้นไป
B11: ข้อ 3. งบประมาณรายจ่ายประจำปีงบประมาณ พ.ศ. 2562 เป็นจำนวนเงินรวมทั้งสิ้น
A12: =SUM(I32) -> 42692260 | B12: บาท
B13: ข้อ 4. งบประมาณรายจ่ายทั่วไป จ่ายจากรายได้จัดเก็บเอง หมวดภาษีจัดสรร และหมวดเงิน
A14: อุดหนุนทั่วไปเป็นจำนวนเงินรวมทั้งสิ้น | D14: =SUM(I32) -> 42692260 | E14: บาท | F14: โดยแยกรายละเอียดตามแผนงาน
A15: ได้ดังนี้
A16: แผนงาน | I16: ยอดรวม
A17: ด้านบริหารทั่วไป | I17: =SUM(I18:I19) -> 14752808
B18: แผนงานบริหารงานทั่วไป | I18: =SUM(แผนงานบริหารทั่วไป!H7) -> 13233378
B19: แผนงานการรักษาความสงบภายใน | I19: =SUM(แผนงานรักษาความสงบภายใน!H1) -> 1519430
A20: ด้านบริการชุมชนและสังคม | I20: =SUM(I21:I26) -> 17221810
B21: แผนงานการศึกษา | I21: =SUM(แผนงานการศึกษา!H1) -> 6214625
B22: แผนงานสาธารณสุข | I22: =SUM(แผนงานสาธารณสุข!H1) -> 5402450
B23: แผนงานสังคมสงเคราะห์ | I23: =SUM(แผนงานสังคมสงเคราะห์!H1) -> 90000
B24: แผนงานเคหะและชุมชน | I24: =SUM(แผนงานเคหะและชุมชน!H1) -> 4584735
B25: แผนงานสร้างความเข้มแข็งของชุมชน | I25: =SUM(แผนงานสร้างความเข้มแข็งของชุมชน!H1) -> 215000
B26: แผนงานศาสนา วัฒนธรรม และนันทนาการ | I26: =SUM(แผนงานศาสนาวัฒนธรรมและนันทนาการ!H1) -> 715000
A27: ด้านการเศรษฐกิจ | I27: =SUM(I28:I29) -> 120000
B28: แผนงานการเกษตร | I28: =SUM(แผนงานการเกษตร!H1) -> 70000
B29: แผนงานการพาณิชย์ | I29: =SUM(แผนงานการพาณิชย์!H1) -> 50000
A30: ด้านการดำเนินงานอื่น | I30: =SUM(I31) -> 10597642
B31: งบกลาง | I31: =SUM(แผนงานงบกลาง!H1) -> 10597642
A32: งบประมาณรายจ่ายทั้งสิ้น | I32: =SUM(I17,I20,I27,I30) -> 42692260
B36: ข้อ 5. งบประมาณรายจ่ายเฉพาะการ จ่ายจากรายได้ เป็นจำนวนรวมทั้งสิ้น 0 บาท
A37: ดังนี้
A38: งบ | I38: ยอดรวม
A39: งบกลาง | I39: 0
A40: งบบุคลากร (หมวดเงินเดือน ค่าจ้างประจำ และค่าจ้างชั่วคราว)
A41: งบดำเนินงาน (หมวดค่าตอบแทน ใช้สอยและวัสดุ และหมวดค่าสาธารณูปโภค)
A42: งบลงทุน (หมวดค่าครุภัณฑ์ที่ดินและสิ่งก่อสร้าง)
A43: งบรายจ่ายอื่น (หมวดรายจ่ายอื่น)
...

Sheet รายงานประมาณการรายรับ
A1: รายงานประมาณการรายรับ
A2: ประจำปีงบประมาณ 2562
A3: เทศบาลตำบลแวงใหญ่
A4: อำเภอแวงใหญ่ จังหวัดขอนแก่น
B6: รายรับจริง | F6: ประมาณการ
B7: ปี 2557 | C7: ปี 2558 | D7: ปี 2559 | E7: ปี 2560 | F7: ปี 2561 | G7: ยอด | H7: ปี 2562
G8: ต่าง
G9: (%)
A10: หมวดภาษีอากร
A11: (1) ภาษีโรงเรือนและที่ดิน | B11: 322738 | C11: 382319.5 | D11: 434139.5 | E11: 466090.99 | F11: 500000 | G11: =SUM(H11-F11)*100/F11 -> -6.4 | H11: =SUM(รายละเอียดประมาณการรายรับ!F9) -> 468000
A12: (2) ภาษีบำรุงท้องที่ | B12: 50447 | C12: 58748 | D12: 47353 | E12: 48017 | F12: 48000 | G12: =SUM(H12-F12)*100/F12 -> 29.166667 | H12: =SUM(รายละเอียดประมาณการรายรับ!F13) -> 62000
A13: (3) ภาษีป้าย | B13: 94321 | C13: 116423.6 | D13: 117971 | E13: 118931 | F13: 110000 | G13: =SUM(H13-F13)*100/F13 -> 9.0909091 | H13: =SUM(รายละเอียดประมาณการรายรับ!F16) -> 120000
A14: (4) อากรการฆ่าสัตว์ | B14: 0 | D14: 0 | F14: 0 | H14: 0
A15: รวมหมวดภาษีอากร | B15: =SUM(B11:B14) -> 467506 | C15: =SUM(C11:C14) -> 557491.1 | D15: =SUM(D11:D14) -> 599463.5 | E15: =SUM(E11:E14) -> 633038.99 | F15: =SUM(F11:F14) -> 658000 | G15: =SUM(H15-F15)*100/F15 -> -1.2158055 | H15: =SUM(H11:H14) -> 650000
A16: หมวดค่าธรรมเนียม ค่าปรับและใบอนุญาต
A17: (1) ค่าธรรมเนียมเกี่ยวกับการควบคุมการฆ่าสัตว์และจำหน่ายเนื้อสัตว์ | B17: 0 | C17: 0 | D17: 0 | E17: 0 | F17: 0 | G17: 0 | H17: 0
A18: (2) ค่าธรรมเนียมเกี่ยวกับพนันเพิ่ม | B18: 0 | C18: 0 | D18: 0 | E18: 0 | F18: 0 | G18: 0 | H18: 0
A19: (3) ค่าธรรมเนียมเกี่ยวกับการควบคุมอาคาร | B19: 560 | C19: 1222 | D19: 360 | E19: 520 | F19: 500 | G19: =SUM(H19-F19)*100/F19 -> 20 | H19: =SUM(รายละเอียดประมาณการรายรับ!F27) -> 600
A20: (4) ค่าธรรมเนียมเก็บขนขยะมูลฝอย | B20: 211310 | C20: 207410 | D20: 207630 | E20: 181090 | F20: 208000 | G20: =SUM(H20-F20)*100/F20 -> -12.5 | H20: =SUM(รายละเอียดประมาณการรายรับ!F31) -> 182000
A21: (5) ค่าธรรมเนียมเก็บและขนอุจจาระหรื่อสิ่งปฎิกูล | B21: - | F21: 0 | G21: 0 | H21: 0
A22: (6) ค่าธรรมเนียมในการออกหนังสือรับรองการแจ้งสถานที่จำหน่ายอาหารหรือสะสมอาหาร | B22: 13250 | C22: 8100 | D22: 9300 | E22: 7000 | F22: 10000 | G22: =SUM(H22-F22)*100/F22 -> -25 | H22: =SUM(รายละเอียดประมาณการรายรับ!F36) -> 7500
A23: (7) ค่าธรรมเนียมจดทะเบียนพาณิชย์ | D23: 1760 | E23: 1890 | F23: 2000 | G23: =SUM(H23-F23)*100/F23 -> 0 | H23: =SUM(รายละเอียดประมาณการรายรับ!F38) -> 2000
A24: (8) ค่าธรรมเนียมเกี่ยวกับทะเบียนราษฎร | B24: 2200 | C24: 2720 | D24: 1220 | E24: 2180 | F24: 1500 | G24: =SUM(H24-F24)*100/F24 -> 46.666667 | H24: =SUM(รายละเอียดประมาณการรายรับ!F41) -> 2200
A25: (9) ค่าธรรมเนียมอื่น ๆ | E25: 62320 | F25: 65000 | G25: =SUM(H25-F25)*100/F25 -> -3.0769231 | H25: =SUM(รายละเอียดประมาณการรายรับ!F44) -> 63000
A26: (10) ค่าปรับผู้กระทำผิดกฎหมายจราจรทางบก | B26: 16600 | C26: 6900 | D26: 7150 | E26: 9150 | F26: 7200 | G26: =SUM(H26-F26)*100/F26 -> 38.888889 | H26: =SUM(รายละเอียดประมาณการรายรับ!F46) -> 10000
A27: (11) ค่าปรับผู้กระทำผิดกฎหมายและข้อบังคับท้องถิ่น | B27: - | D27: 69360 | F27: 0 | H27: 0
A28: (12) ค่าปรับการผิดสัญญา | B28: 36137.6 | D28: 3596 | E28: 126535 | F28: 51455 | G28: =SUM(H28-F28)*100/F28 -> 45.175396 | H28: =SUM(รายละเอียดประมาณการรายรับ!F50) -> 74700
A29: (13) ค่าปรับอื่น ๆ | B29: - | F29: 0 | H29: 0
A30: (14) ค่าปรับใบอนุญาตรับทำการเก็บขนฯ | B30: - | F30: 0 | H30: 0
A31: (15) ค่าใบอนุญาตจัดตั้งสถานจำหน่ายอาหารฯ | B31: - | F31: 0 | H31: 0
A32: (16) ค่าใบอนุญาตจำหน่ายสินค้าในที่สาธารณะ | B32: - | F32: 0 | H32: 0
A33: (17) ค่าใบอนุญาตเกี่ยวกับการควบคุมอาคาร | B33: 3510 | C33: 5532 | D33: 3788 | E33: 2968 | F33: 5000 | G33: =SUM(H33-F33)*100/F33 -> -40 | H33: =SUM(รายละเอียดประมาณการรายรับ!F62) -> 3000
A34: (18) ค่าใบอนุญาตเกี่ยวกับการโฆษณาโดยใช้เครื่องขยายเสียง | B34: 4575 | C34: 5698 | D34: 4575 | E34: 4175 | F34: 5000 | G34: =SUM(H34-F34)*100/F34 -> 0 | H34: =SUM(รายละเอียดประมาณการรายรับ!F65) -> 5000
A35: (19) ค่าใบอนุญาตอื่น ๆ | B35: 49710 | C35: 76110 | F35: 0 | H35: =SUM(รายละเอียดประมาณการรายรับ!F67) -> 0
A36: รวมหมวดค่าธรรมเนียม ค่าปรับและใบอนุญาต | B36: =SUM(B17:B35) -> 337852.6 | C36: =SUM(C17:C35) -> 313692 | D36: =SUM(D17:D35) -> 308739 | E36: =SUM(E17:E35) -> 397828 | F36: =SUM(F17:F35) -> 355655 | G36: =SUM(H36-F36)*100/F36 -> -1.590024 | H36: =SUM(H17:H35) -> 350000
A37: หมวดรายได้จากทรัพย์สิน
A38: (1) ค่าเช่าหรือค่าบริการสถานที่ | B38: 609560 | C38: 622610 | D38: 720080 | E38: 705935 | F38: 730000 | G38: =SUM(H38-F38)*100/F38 -> -4.109589 | H38: =SUM(รายละเอียดประมาณการรายรับ!F71) -> 700000
A39: (2) ดอกเบี้ย | B39: 556438.3 | C39: 548748.47 | D39: 378729.66 | E39: 539975 | F39: 500000 | G39: =SUM(H39-F39)*100/F39 -> 6 | H39: =SUM(รายละเอียดประมาณการรายรับ!F73) -> 530000
A40: (3) รายได้จากทรัพย์สินอื่น ๆ | B40: - | C40: - | D40: - | E40: - | F40: - | G40: - | H40: -
A41: รวมหมวดรายได้จากทรัพย์สิน | B41: =SUM(B37:B39) -> 1165998.3 | C41: =SUM(C37:C39) -> 1171358.5 | D41: =SUM(D37:D39) -> 1098809.7 | E41: =SUM(E37:E39) -> 1245910 | F41: =SUM(F38:F39) -> 1230000 | G41: =SUM(H41-F41)*100/F41 -> 0 | H41: =SUM(H38:H40) -> 1230000
...

Sheet รายละเอียดประมาณการรายรับ
A1: รายงานรายละเอียดประมาณการรายรับงบประมาณรายจ่ายทั่วไป
A2: ประจำปีงบประมาณ พ.ศ. 2562
A3: เทศบาลตำบลแวงใหญ่
A4: อำเภอแวงใหญ่ จังหวัดขอนแก่น
A6: ประมาณการรายรับรวมทั้งสิ้น | E6: จำนวน | F6: =SUM(F8,F22,F70,F78,F92,F116) -> 42692260 | G6: บาท แยกเป็น
A7: รายได้จัดเก็บเอง
A8: หมวดภาษีอากร | E8: รวม | F8: =SUM(F9,F13,F16,F19) -> 650000 | G8: บาท แยกเป็น
B9: (1) ภาษีโรงเรือนและที่ดิน | E9: จำนวน | F9: 468000 | G9: บาท
B10: คำชี้แจง ประมาณการจากรายได้ที่จัดเก็บจากเจ้าของอาคารสิ่งก่อสร้างที่เข้าเกณฑ์จะต้องเสียภาษี
A11: โรงเรือนและที่ดินให้กับเทศบาลโดยตั้งรับตาม กค.1 (บัญชีรายละเอียดเกณฑ์ค้างรับภาษีโรงเรือนและที่ดิน)
A12: ผู้อยู่ในข่ายชำระภาษี
B13: (2) ภาษีบำรุงท้องที่ | E13: จำนวน | F13: 62000 | G13: บาท
B14: คำชี้แจง ประมาณการจากรายได้ที่จัดเก็บจากเจ้าของที่ดิน ซึ่งต้องชำระภาษีบำรุงท้องที่ตาม พ.ร.บ.
A15: ภาษีบำรุงท้องที่ โดยตั้งรับตาม ก.ค.1 (บัญชีรายละเอียดเกณฑ์ค้างรับภาษีบำรุงท้องที่) ผู้อยู่ในข่ายชำระภาษี
B16: (3) ภาษีป้าย | E16: จำนวน | F16: 120000 | G16: บาท
B17: คำชี้แจง ประมาณการจากรายได้จัดเก็บจากเจ้าของป้ายที่จะต้องชำระภาษีป้าย ตาม พ.ร.บ. ภาษีป้าย
A18: โดยตั้งรับตาม ก.ค.1 (บัญชีรายละเอียดเกณฑ์ค้างรับภาษีป้าย) ผู้อยู่ในข่ายชำระภาษี
B19: (4) อากรฆ่าสัตว์ | E19: จำนวน | F19: 0 | G19: บาท
B20: คำชี้แจง -ไม่ได้ประมาณการรายรับไว้-
A22: หมวดค่าธรรเนียม ค่าปรับ และใบอนุญาต | E22: รวม | F22: =SUM(F23:F67) -> 350000 | G22: บาท แยกเป็น
B23: (1) ค่าธรรมเนียมเกี่ยวกับการฆ่าสัตว์ฯ | E23: จำนวน | F23: 0 | G23: บาท
B24: คำชี้แจง -ไม่ได้ประมาณการรายรับไว้-
B25: (2) ค่าธรรมเนียมเกี่ยวกับพนันเพิ่ม | E25: จำนวน | F25: 0 | G25: บาท
B26: คำชี้แจง -ไม่ได้ประมาณการรายรับไว้-
B27: (3) ค่าธรรมเนียมเกี่ยวกับการควบคุมอาคาร | E27: จำนวน | F27: 600 | G27: บาท
B28: คำชี้แจง ประมาณการโดยคาดว่าจะได้รับจากการตรวจแบบแปลนก่อสร้างที่ประชาชนยื่นขออนุญาต
A29: ก่อสร้างอาคาร
B31: (4) ค่าธรรมเนียมเก็บขนขยะมูลฝอย | E31: จำนวน | F31: 182000 | G31: บาท
B32: คำชี้แจง ประมาณการไว้ใกล้เคียงกับรับจริงปีที่ผ่านมาและคาดการณ์เพิ่มขึ้นจากการขยายตัวของชุมชน
B33: (5) ค่าธรรมเนียมเก็บและขนอุจจาระหรือสิ่งปฏิกูล | E33: จำนวน | F33: 0 | G33: บาท
B34: คำชี้แจง -ไม่ได้ประมาณการรายรับไว้-
B35: (6) ค่าธรรมเนียมในการออกหนังสือรับรองการแจ้งสถานที่จำหน่ายหรือสะสมอาหาร
E36: จำนวน | F36: 7500 | G36: บาท
B37: คำชี้แจง ประมาณการไว้ใกล้เคียงกับรับจริงปีที่ผ่านมา
B38: (7) ค่าธรรมเนียมจดทะเบียนพาณิชย์ | E38: จำนวน | F38: 2000 | G38: บาท
B39: คำชี้แจง ประมาณการไว้ใกล้เคียงกับปีที่ผ่านมา โดยถือปฏิบัติตามกฎกระทรวง ฉบับที่ 3 (พ.ศ.2540)
A40: ออกตามความในพระราชบัญญัติทะเบียนพาณิชย์ พ.ศ.2499 ข้อ 3 อัตราค่าธรรมเนียม
B41: (8) ค่าธรรมเนียมเกี่ยวกับทะเบียนราษฎร | E41: จำนวน | F41: 2200 | G41: บาท
B42: คำชี้แจง ประมาณการไว้โดยถือปฏิบัติตามกฎกระทรวง ฉบับที่ 2 (พ.ศ.2535) ออกตามความใน
A43: พระราชบัญญัติการทะเบียนราษฎร พ.ศ. 2534 มาตรา 7 ข้อ 1 และอาศัยการรับจริงในปีงบประมาณที่ผ่านมา
...

Sheet รายงานประมาณการรายจ่าย
A1: รายงานประมาณการรายจ่าย
A2: ประจำปีงบประมาณ พ.ศ. 2562
A3: เทศบาลตำบลแวงใหญ่
A4: อำเภอแวงใหญ่ จังหวัดขอนแก่น
B5: รายจ่ายจริง | F5: ประมาณการ
B6: ปี 2557 | C6: ปี 2558 | D6: ปี 2559 | E6: ปี 2560 | F6: ปี 2561 | G6: ยอด | H6: ปี 2562
G7: ต่าง
G8: (%)
A9: แผนงานบริหารงานทั่วไป
A10: งานบริหารทั่วไป
A11: งบบุคลากร
A12: หมวดเงินเดือน ค่าจ้างประจำ และค่าจ้างชั่วคราว
A13: เงินเดือน (ฝ่ายการเมือง)
A14: (1) เงินเดือนนายก/รองนายก | B14: 695520 | C14: 695520 | D14: 695520 | E14: 695520 | F14: 695520 | G14: =SUM(F14-H14)*100/F14 -> 0 | H14: =SUM(แผนงานบริหารทั่วไป!H12) -> 695520
A15: (2) เงินค่าตอบแทนประจำตำแหน่งนายก/รองนายก | B15: 120000 | C15: 120000 | D15: 120000 | E15: 120000 | F15: 120000 | G15: =SUM(F15-H15)*100/F15 -> 0 | H15: =SUM(แผนงานบริหารทั่วไป!H23) -> 120000
A16: (3) เงินค่าตอบแทนพิเศษนายก/รองนายก | B16: 120000 | C16: 120000 | D16: 120000 | E16: 120000 | F16: 120000 | G16: =SUM(F16-H16)*100/F16 -> 0 | H16: =SUM(แผนงานบริหารทั่วไป!H36) -> 120000
A17: (4) เงินค่าตอบแทนเลขานุการ/ที่ปรึกษานายกเทศมนตรี | B17: 198720 | C17: 198720 | D17: 198720 | E17: 198720 | F17: 198720 | G17: =SUM(F17-H17)*100/F17 -> 0 | H17: =SUM(แผนงานบริหารทั่วไป!H46) -> 198720
A18: (5) เงินค่าตอบแทนประธานสภาเทศบาล | B18: 1490400 | C18: 1454564.5 | D18: 1258560 | E18: 1258560 | F18: 1258560 | G18: =SUM(H18-F18)*100/F18 -> 0 | H18: =SUM(แผนงานบริหารทั่วไป!H57) -> 1258560
A19: รองประธานสภาเทศบาลและสมาชิกสภาเทศบาล
A21: รวมเงินเดือน (ฝ่ายการเมือง) | B21: =SUM(B14:B18) -> 2624640 | C21: =SUM(C14:C18) -> 2588804.5 | D21: =SUM(D14:D18) -> 2392800 | E21: =SUM(E14:E18) -> 2392800 | F21: =SUM(F14:F18) -> 2392800 | G21: =SUM(H21-F21)*100/F21 -> 0 | H21: =SUM(H14:H18) -> 2392800
B26: รายจ่ายจริง | F26: ประมาณการ
B27: ปี 2557 | C27: ปี 2558 | D27: ปี 2559 | E27: ปี 2560 | F27: ปี 2561 | G27: ยอด | H27: ปี 2562
G28: ต่าง
G29: (%)
A30: เงินเดือน (ฝ่ายประจำ)
A31: (1) เงินเดือนพนักงาน | B31: 2020219 | C31: 2406274.4 | D31: 2978312.1 | E31: 3139410 | F31: 3346440 | G31: =SUM(H31-F31)*100/F31 -> 6.074515 | H31: =SUM(แผนงานบริหารทั่วไป!H73) -> 3549720
A32: (2) เงินเพิ่มต่าง ๆ ของพนักงาน
A33: - เงินเพิ่มค่าครองชีพชั่วคราว | B33: 18420 | C33: 3871.08 | D33: 18570 | E33: 11790 | F33: =SUM([2]แผนงานบริหารงานทั่วไป!$E$24) -> 6660 | G33: =SUM(H33-F33)*100/F33 -> -100 | H33: 0
A34: - เงินเพิ่มค่าตอบแทนรายเดือนของปลัดเทศบาล | F34: 84000 | G34: =SUM(H34-F34)*100/F34 -> 0 | H34: =SUM(แผนงานบริหารทั่วไป!H97) -> 84000
A35: - เงินเพิ่มตามวุฒิ | C35: 0 | D35: 0 | F35: 0 | H35: 0
A36: (3) เงินประจำตำแหน่ง
A37: - เงินประจำตำแหน่งปลัดเทศบาล | B37: 134400 | C37: 134400 | D37: 159600 | E37: 168000 | F37: 84000 | G37: =SUM(H37-F37)*100/F37 -> 0 | H37: =SUM(แผนงานบริหารทั่วไป!H112) -> 84000
A38: - เงินประจำตำแหน่งรองปลัดเทศบาล,หัวหน้าสำนักปลัดเทศบาลและหัวหน้าฝ่ายธุรการ | B38: 41323 | C38: 77000 | D38: 97500 | E38: 102000 | F38: 102000 | G38: =SUM(H38-F38)*100/F38 -> 0 | H38: 102000
A39: (4) ค่าจ้างลูกจ้างประจำ | G39: 0
A40: (5) เงินเพิ่มต่าง ๆ ของลูกจ้างประจำ
A41: - เงินเพิ่มค่าครองชีพชั่วคราว
A42: (6) ค่าตอบแทนพนักงานจ้าง | B42: 220800 | C42: 134360 | D42: 140040 | E42: 144550 | F42: 149880 | G42: =SUM(H42-F42)*100/F42 -> 4.1633307 | H42: =SUM(แผนงานบริหารทั่วไป!H128) -> 156120
A43: (7) เงินเพิ่มต่าง ๆ ของพนักงานจ้าง | B43: 106060 | C43: 24000 | D43: 19380 | E43: 14870 | F43: 9540 | G43: =SUM(H43-F43)*100/F43 -> -57.861635 | H43: =SUM(แผนงานบริหารทั่วไป!H140) -> 4020
A45: รวมเงินเดือน (ฝ่ายประจำ) | B45: =SUM(B26:B43) -> 2541222 | C45: =SUM(C26:C43) -> 2779905.5 | D45: =SUM(D26:D43) -> 3413402.1 | E45: =SUM(E26:E43) -> 3580620 | F45: =SUM(F26:F43) -> 3782520 | G45: =SUM(H45-F45)*100/F45 -> 5.2171568 | H45: =SUM(H26:H43) -> 3979860
A46: รวมงบบุคลากร | B46: =SUM(B21,B45) -> 5165862 | C46: =SUM(C21,C45) -> 5368710 | D46: =SUM(D21,D45) -> 5806202.1 | E46: =SUM(E21,E45) -> 5973420 | F46: =SUM(F21,F45) -> 6175320 | G46: =SUM(H46-F46)*100/F46 -> 3.1956239 | H46: =SUM(H21,H45) -> 6372660
...

Sheet แผนงานบริหารทั่วไป
A1: รายงานรายละเอียดประมาณการรายจ่ายงบประมาณรายจ่ายทั่วไป
A2: ประจำปีงบประมาณ 2562
A3: เทศบาลตำบลแวงใหญ่
A4: อำเภอแวงใหญ่ จังหวัดขอนแก่น
A5: ประมาณการรายจ่ายรวมทั้งสิ้น | G5: ตั้งไว้รวม | H5: =SUM(H7+แผนงานรักษาความสงบภายใน!H1+แผนงานการศึกษา!H1+แผนงานสาธารณสุข!H1+แผนงานสังคมสงเคราะห์!H1+แผนงานเคหะและชุมชน!H1+แผนงานสร้างความเข้มแข็งของชุมชน!H1+แผนงานศาสนาวัฒนธรรมและนันทนาการ!H1+แผนงานการเกษตร!H1+แผนงานการพาณิชย์!H1+แผนงานงบกลาง!H1) -> 42692260 | I5: บาท
A6: จ่ายจากรายได้จัดเก็บเอง หมวดภาษีจัดสรร และหมวดเงินอุดหนุนทั่วไป แยกเป็น
A7: แผนงานบริหารงานทั่วไป | G7: รวม | H7: =SUM(H8,H748,H847) -> 13233378 | I7: บาท
A8: งานบริหารทั่วไป | G8: รวม | H8: =SUM(H9,H155,H700) -> 9658313 | I8: บาท
A9: งบบุคลากร | G9: รวม | H9: =SUM(H11,H72) -> 6372660 | I9: บาท
A10: หมวดเงินเดือน ค่าจ้างประจำ และค่าจ้างชั่วคราว
A11: เงินเดือน (ฝ่ายการเมือง) | G11: รวม | H11: =SUM(H12,H23,H36,H46,H57) -> 2392800 | I11: บาท
A12: (1) เงินเดือนนายก/รองนายก | G12: จำนวน | H12: =SUM([2]งด.ผู้บริหารและสมาชิกสภาเทศบาล!$D$14) -> 695520 | I12: บาท
A13: เพื่อจ่ายเป็นค่าตอบแทนรายเดือนนายกเทศมนตรี อัตราๆ ละ 27,600 บาท/เดือน จำนวน 12 เดือน เป็นเงิน 331,200 บาท
A14: และเงินค่าตอบแทนรายเดือนรองนายกเทศมนตรี จำนวน 2 อัตราๆ ละ 15,180 บาท/เดือน จำนวน 12 เดือน เป็นเงิน
A15: 364,320 บาท
A16: - เป็นไปตามระเบียบ และหนังสือสั่งการ ดังนี้
B17: 1) ระเบียบกระทรวงมหาดไทย ว่าด้วยเงินเดือน เงินค่าตอบแทน และประโยชน์ตอบแทนอื่นของนายกเทศมนตรี
A18: รองนายกเทศมนตรี ประธานสภาเทศบาล รองประธานสภาเทศบาล สมาชิกสภาเทศบาล เลขานุการนายกเทศมนตรี
A19: ที่ปรึกษานายกเทศมนตรี และการจ่ายค่าเบี้ยประชุมกรรมการสภาเทศบาล (ฉบับที่ 2) พ.ศ. 2557
B20: 2) หนังสือกรมส่งเสริมการปกครองท้องถิ่น ที่ มท 0809.7/ว 1155 ลงวันที่ 8 กรกฎาคม 2557 เรื่อง การออกระเบียบ
A21: กระทรวงมหาดไทย ว่าด้วยเงินเดือน และค่าตอบแทนผู้บริหาร และสมาชิกสภาองค์การบริหารส่วนจังหวัด เทศบาล และ
A22: องค์การบริหารส่วนตำบล (ฉบับที่ 2) พ.ศ. 2557
A23: (2) เงินค่าตอบแทนประจำตำแหน่งนายก/รองนายก | G23: จำนวน | H23: =SUM([2]งด.ผู้บริหารและสมาชิกสภาเทศบาล!$F$14) -> 120000 | I23: บาท
A24: เพื่อจ่ายเป็นเงินค่าตอบแทนประจำตำแหน่งนายกเทศมนตรี อัตราๆ ละ 4,000 บาท/เดือน จำนวน 12 เดือน เป็นเงิน 48,000
A25: บาท และเงินค่าตอบแทนประจำตำแหน่งรองนายกเทศมนตรีจำนวน 2 อัตราๆ ละ 3,000 บาท รวม 12 เดือน เป็นเงิน
A26: 72,000 บาท
A27: - เป็นไปตามระเบียบ และหนังสือสั่งการ ดังนี้
B28: 1) ระเบียบกระทรวงมหาดไทย ว่าด้วยเงินเดือน เงินค่าตอบแทน และประโยชน์ตอบแทนอื่นของนายกเทศมนตรี
A29: รองนายกเทศมนตรี ประธานสภาเทศบาล รองประธานสภาเทศบาล สมาชิกสภาเทศบาล เลขานุการนายกเทศมนตรี
A30: ที่ปรึกษานายกเทศมนตรี และการจ่ายค่าเบี้ยประชุมกรรมการสภาเทศบาล (ฉบับที่ 2) พ.ศ. 2557
B31: 2) หนังสือกรมส่งเสริมการปกครองท้องถิ่น ที่ มท 0809.7/ว 1155 ลงวันที่ 8 กรกฎาคม 2557 เรื่อง การออกระเบียบ
A32: กระทรวงมหาดไทย ว่าด้วยเงินเดือน และค่าตอบแทนผู้บริหาร และสมาชิกสภาองค์การบริหารส่วนจังหวัด เทศบาล และ
A33: องค์การบริหารส่วนตำบล (ฉบับที่ 2) พ.ศ. 2557
A36: (3) เงินค่าตอบแทนพิเศษนายก/รองนายก | G36: จำนวน | H36: =SUM([2]งด.ผู้บริหารและสมาชิกสภาเทศบาล!$H$14) -> 120000 | I36: บาท
A37: เพื่อจ่ายเป็นเงินค่าตอบแทนพิเศษนายกเทศมนตรี อัตราๆ ละ 4,000 บาท/เดือน จำนวน 12 เดือน เป็นเงิน 48,000 บาท
A38: และเงินค่าตอบแทนพิเศษรองนายกเทศมนตรี จำนวน 2 อัตราๆ ละ 3,000 บาท/เดือน รวม 12 เดือน เป็นเงิน 72,000 บาท
A39: - เป็นไปตามระเบียบ และหนังสือสั่งการ ดังนี้
B40: 1) ระเบียบกระทรวงมหาดไทย ว่าด้วยเงินเดือน เงินค่าตอบแทน และประโยชน์ตอบแทนอื่นของนายกเทศมนตรี
A41: รองนายกเทศมนตรี ประธานสภาเทศบาล รองประธานสภาเทศบาล สมาชิกสภาเทศบาล เลขานุการนายกเทศมนตรี
A42: ที่ปรึกษานายกเทศมนตรี และการจ่ายค่าเบี้ยประชุมกรรมการสภาเทศบาล (ฉบับที่ 2) พ.ศ. 2557
...

Sheet แผนงานรักษาความสงบภายใน
A1: แผนงานรักษาความสงบภายใน | H1: =SUM(H2,H84) -> 1519430 | I1: บาท
A2: งานบริหารทั่วไปเกี่ยวกับการรักษาความสงบภายใน | G2: รวม | H2: =SUM(H4,H42) -> 1191030 | I2: บาท
A3: หมวดเงินเดือน ค่าจ้างประจำ และค่าจ้างชั่วคราว
A4: งบบุคลากร | G4: รวม | H4: =SUM(H5) -> 655920 | I4: บาท
A5: เงินเดือน (ฝ่ายประจำ) | G5: รวม | H5: =SUM(H6,H22) -> 655920 | I5: บาท
A6: (1) เงินเดือนพนักงาน | G6: จำนวน | H6: =SUM([7]แผนงานรักษาความสงบภายใน!$E$11) -> 216720 | I6: บาท
A7: เพื่อจ่ายเป็นเงินเดือนพนักงานส่วนท้องถิ่นและเงินปรับปรุงเงินเดือนประจำปีของพนักงานส่วนท้องถิ่น จำนวน 1 อัตรา
A8: จำนวน 12 เดือน เป็นเงิน 216,720 บาท โดยจ่ายให้กับพนักงานส่วนท้องถิ่น ดังนี้
B9: (1) เจ้าพนักงานป้องกันและบรรเทาสาธารณภัย จำนวน 1 ตำแหน่ง
A10: - เป็นไปตามพระราชบัญญัติ พระราชกฤษฎีกา ประกาศ และหนังสือสั่งการ ดังนี้
B11: 1) พระราชบัญญัติระเบียบบริหารงานบุคคลส่วนท้องถิ่น พ.ศ. 2542
B12: 2) พระราชกฤษฎีกาการจ่ายเงินเดือน เงินปี บำเหน็จ บำนาญและเงินอื่นในลักษณะเดียวกัน พ.ศ. 2535
B13: 3) ประกาศคณะกรรมการมาตรฐานการบริหารงานบุคคลส่วนท้องถิ่น เรื่อง กำหนดมาตรฐานกลางการบริหาร
A14: งานบุคคลส่วนท้องถิ่น (ฉบับที่ 11) ลงวันที่ 6 มิถุนายน 2560
B15: 4) หนังสือสำนักงาน ก.จ., ก.ท. และ ก.อบต. ด่วนที่สุด ที่ มท 0809.3/ว 2683 ลงวันที่ 15 ธันวาคม 2558 เรื่อง
A16: ประกาศ ก.จ., ก.ท. และ ก.อบต. เรื่อง มาตรฐานทั่วไปเกี่ยวกับอัตราเงินเดือนและวิธีการจ่ายเงินเดือนและประโยชน์ตอบ
A17: แทนอื่น (ฉบับที่ 4) และประกาศ ก.จ., ก.ท. และ ก.อบต. เรื่องมาตรฐานทั่วไปเกี่ยวกับอัตราค่าจ้างและการให้ลูกจ้างของ
A18: องค์กรปกครองส่วนท้องถิ่นได้รับค่าจ้าง (ฉบับที่ 4)
B19: 5) หนังสือสำนักงาน ก.จ., ก.ท. และ ก.อบต. ด่วนที่สุด ที่ มท 0809.3/ว 13 ลงวันที่ 3 กรกฎาคม 2561
A20: ประกาศ ก.จ., ก.ท. และ ก.อบต. เรื่อง มาตรฐานทั่วไปเกี่ยวกับการกำหนดหลักเกณฑ์การเลื่อนขั้นเงินเดือนข้าราชการ
A21: และพนักงานส่วนท้องถิ่น (ฉบับที่ 2) พ.ศ. 2561
A22: (2) ค่าจ้างลูกจ้างประจำ | G22: จำนวน | H22: =SUM([7]แผนงานรักษาความสงบภายใน!$E$15) -> 439200 | I22: บาท
A23: เพื่อจ่ายเป็นเงินค่าจ้างประจำให้แก่ลูกจ้างประจำ พร้อมทั้งเงินปรับปรุงค่าจ้างประจำปีและเงินปรับอัตราค่าจ้าง จำนวน
A24: 2 อัตรา จำนวน 12 เดือน เป็นเงิน 439,200 บาท โดยจ่ายให้กับลูกจ้างประจำ ดังนี้
B25: (1) พนักงานขับรถยนต์ จำนวน 2 ตำแหน่ง
A26: - เป็นไปตามพระราชบัญญัติ พระราชกฤษฎีกา ประกาศ และหนังสือสั่งการ ดังนี้
B27: 1) พระราชบัญญัติระเบียบบริหารงานบุคคลส่วนท้องถิ่น พ.ศ. 2542
B28: 2) พระราชกฤษฎีกาการจ่ายเงินเดือน เงินปี บำเหน็จ บำนาญและเงินอื่นในลักษณะเดียวกัน พ.ศ. 2535
B29: 3) ประกาศคณะกรรมการมาตรฐานการบริหารงานบุคคลส่วนท้องถิ่น เรื่อง กำหนดมาตรฐานกลางการบริหาร
A30: งานบุคคลส่วนท้องถิ่น (ฉบับที่ 11) ลงวันที่ 6 มิถุนายน 2560
B34: 4) หนังสือสำนักงาน ก.จ., ก.ท. และ ก.อบต. ด่วนที่สุด ที่ มท 0809.3/ว 2683 ลงวันที่ 15 ธันวาคม 2558 เรื่อง
A35: ประกาศ ก.จ., ก.ท. และ ก.อบต. เรื่อง มาตรฐานทั่วไปเกี่ยวกับอัตราเงินเดือนและวิธีการจ่ายเงินเดือนและประโยชน์ตอบ
A36: แทนอื่น (ฉบับที่ 4) และประกาศ ก.จ., ก.ท. และ ก.อบต. เรื่องมาตรฐานทั่วไปเกี่ยวกับอัตราค่าจ้างและการให้ลูกจ้างของ
A37: องค์กรปกครองส่วนท้องถิ่นได้รับค่าจ้าง (ฉบับที่ 4)
B38: 5) หนังสือสำนักงาน ก.จ., ก.ท. และ ก.อบต. ด่วนที่สุด ที่ มท 0809.3/ว 13 ลงวันที่ 3 กรกฎาคม 2561
A39: ประกาศ ก.จ., ก.ท. และ ก.อบต. เรื่อง มาตรฐานทั่วไปเกี่ยวกับการกำหนดหลักเกณฑ์การเลื่อนขั้นเงินเดือนข้าราชการ
A40: และพนักงานส่วนท้องถิ่น (ฉบับที่ 2) พ.ศ. 2561
A42: งบดำเนินงาน | G42: รวม | H42: =SUM(H44,H73) -> 535110 | I42: บาท
A43: หมวดค่าตอบแทน ใช้สอย และวัสดุ
A44: ค่าตอบแทน | G44: รวม | H44: =SUM(H46,H63) -> 55110 | I44: บาท
...

Sheet แผนงานการศึกษา
A1: แผนงานการศึกษา | H1: =SUM(H2,H66) -> 6214625 | I1: บาท
A2: งานบริหารทั่วไปเกี่ยวกับการศึกษา | H2: =SUM(H3,H23) -> 489185 | I2: บาท
A3: งบบุคลากร | G3: รวม | H3: =SUM(H5) -> 318000 | I3: บาท
A4: หมวดเงินเดือน ค่าจ้างประจำ และค่าจ้างชั่วคราว
A5: เงินเดือน (ฝ่ายประจำ) | G5: รวม | H5: =SUM(H6) -> 318000 | I5: บาท
A6: (1) เงินเดือนพนักงาน | G6: จำนวน | H6: =SUM([6]แผนงานการศึกษา!$E$8) -> 318000 | I6: บาท
A7: เพื่อจ่ายเป็นเงินเดือนพนักงานส่วนท้องถิ่นและเงินปรับปรุงเงินเดือนประจำปีของพนักงานส่วนท้องถิ่น จำนวน 1 อัตรา
A8: จำนวน 12 เดือน เป็นเงิน 318,000 บาท โดยจ่ายให้กับพนักงานส่วนท้องถิ่น ดังนี้
B9: (1) นักวิชาการศึกษา จำนวน 1 ตำแหน่ง
A10: - เป็นไปตามพระราชบัญญัติ พระราชกฤษฎีกา ประกาศ และหนังสือสั่งการ ดังนี้
B11: 1) พระราชบัญญัติระเบียบบริหารงานบุคคลส่วนท้องถิ่น พ.ศ. 2542
B12: 2) พระราชกฤษฎีกาการจ่ายเงินเดือน เงินปี บำเหน็จ บำนาญและเงินอื่นในลักษณะเดียวกัน พ.ศ. 2535
B13: 3) ประกาศคณะกรรมการมาตรฐานการบริหารงานบุคคลส่วนท้องถิ่น เรื่อง กำหนดมาตรฐานกลางการ
A14: บริหารงานบุคคลส่วนท้องถิ่น (ฉบับที่ 11) ลงวันที่ 6 มิถุนายน 2560
B15: 4) หนังสือสำนักงาน ก.จ., ก.ท. และ ก.อบต. ด่วนที่สุด ที่ มท 0809.3/ว 2683 ลงวันที่ 15 ธันวาคม 2558
A16: เรื่อง ประกาศ ก.จ., ก.ท. และ ก.อบต. เรื่อง มาตรฐานทั่วไปเกี่ยวกับอัตราเงินเดือนและวิธีการจ่ายเงินเดือนและประโยชน์
A17: ตอบแทนอื่น (ฉบับที่ 4) และประกาศ ก.จ., ก.ท. และ ก.อบต. เรื่อง มาตรฐานทั่วไปเกี่ยวกับอัตราค่าจ้างและการให้ลูกจ้าง
A18: ขององค์กรปกครองส่วนท้องถิ่นได้รับค่าจ้าง (ฉบับที่ 4)
B19: 5) หนังสือสำนักงาน ก.จ., ก.ท. และ ก.อบต. ด่วนที่สุด ที่ มท 0809.3/ว 13 ลงวันที่ 3 กรกฎาคม 2561
A20: ประกาศ ก.จ., ก.ท. และ ก.อบต. เรื่อง มาตรฐานทั่วไปเกี่ยวกับการกำหนดหลักเกณฑ์การเลื่อนขั้นเงินเดือนข้าราชการ
A21: และพนักงานส่วนท้องถิ่น (ฉบับที่ 2) พ.ศ. 2561
A23: งบดำเนินงาน | G23: รวม | H23: =SUM(H25,H55) -> 171185 | I23: บาท
A24: หมวดค่าตอบแทน ใช้สอย และวัสดุ
A25: ค่าตอบแทน | G25: รวม | H25: =SUM(H27,H46) -> 87185 | I25: บาท
A26: 1) ค่าตอบแทนผู้ปฏิบัติราชการอันเป็นประโยชน์แก่องค์กรปกครองส่วนท้องถิ่น
G27: รวม | H27: =SUM(H28) -> 57185 | I27: บาท
B28: (1) เงินประโยชน์ตอบแทนอื่นเป็นกรณีพิเศษ | G28: จำนวน | H28: =SUM('[6]โบนัส 62(0.5 เท่า)'!$F$35) -> 57185 | I28: บาท
A29: เพื่อจ่ายเป็นเงินประโยชน์ตอบแทนอื่นเป็นกรณีพิเศษ (โบนัส) แก่พนักงานเทศบาลและลูกจ้าง
A30: - เป็นไปตามระเบียบ และหนังสือสั่งการ ดังนี้
B31: 1) ระเบียบกระทรวงมหาดไทย ว่าด้วยการกำหนดเงินประโยชน์ตอบแทนอื่นเป็นกรณีพิเศษอันมีลักษณะ
A32: เป็นเงินรางวัลประจำปีแก่พนักงานส่วนท้องถิ่นให้เป็นรายจ่ายอื่นขององค์กรปกครองส่วนท้องถิ่น พ.ศ. 2557
B33: 2) หนังสือกรมส่งเสริมการปกครองส่วนท้องถิ่น ที่ 0808.2/ว 859 ลงวันที่ 29 พฤษภาคม 2557 เรื่อง การ
A34: ดำเนินการตามระเบียบกระทรวงมหาดไทยว่าด้วยการกำหนดเงินประโยชน์ตอบแทนอื่นเป็นกรณีพิเศษอันมีลักษณะ
A35: เป็นเงินรางวัลประจำปีแก่พนักงานส่วนท้องถิ่นให้เป็นรายจ่ายอื่นขององค์กรปกครองส่วนท้องถิ่น พ.ศ. 2557
B38: 3) หนังสือสำนักงาน ก.จ., ก.ท. และ ก.อบต. ด่วนที่สุด ที่ มท 0809.3/ว 380 ลงวันที่ 26 กุมภาพันธ์ 2558
A39: เรื่อง ประกาศ ก.จ, ก.ท. และ ก.อบต. เรื่อง กำหนดมาตรฐานทั่วไปเกี่ยวกับหลักเกณฑ์ เงื่อนไข และวิธีการกำหนดเงิน
A40: ประโยชน์ตอบแทนอื่นเป็นกรณีพิเศษอันมีลักษณะเป็นเงินรางวัลประจำปีสำหรับพนักงานส่วนท้องถิ่น ลูกจ้าง และ
A41: พนักงานจ้างขององค์กรปกครองส่วนท้องถิ่น พ.ศ. 2558
B42: 4) หนังสือสำนักงาน ก.จ, ก.ท. และ ก.อบต. ด่วนที่สุด ที่ มท 0809.3/ว 27 ลงวันที่ 29 ธันวาคม 2559
A43: เรื่อง ซักซ้อมแนวทางปฏิบัติเกี่ยวกับหลักเกณฑ์ เงื่อนไข และวิธีการกำหนดประโยชน์ตอบแทนอื่นเป็นกรณีพิเศษ
...

Sheet แผนงานสาธารณสุข
A1: แผนงานสาธารณสุข | G1: รวม | H1: =SUM(H2,H446) -> 5402450 | I1: บาท
A2: งานบริหารทั่วไปเกี่ยวกับสาธารณสุข | G2: รวม | H2: =SUM(H3,H88) -> 4885750 | I2: บาท
A3: งบบุคลากร | G3: รวม | H3: =SUM(H5) -> 1931580 | I3: บาท
A4: หมวดเงินเดือน ค่าจ้างประจำ และค่าจ้างชั่วคราว
A5: เงินเดือน (ฝ่ายประจำ) | G5: รวม | H5: =SUM(H6,H26,H43,H52,H62) -> 1931580 | I5: บาท
A6: 1) เงินเดือนพนักงาน | G6: จำนวน | H6: =SUM([5]แผนงานสาธารณสุข!$E$16) -> 1507920 | I6: บาท
A7: เพื่อจ่ายเป็นเงินเดือนพนักงานส่วนท้องถิ่นและเงินปรับปรุงเงินเดือนประจำปีของพนักงานส่วนท้องถิ่น จำนวน 5 อัตรา
A8: จำนวน 12 เดือน เป็นเงิน 1,507,920 บาท โดยจ่ายให้กับพนักงานเทศบาลสามัญ ดังนี้
B9: (1) ผู้อำนวยการกองสาธารณสุขและสิ่งแวดล้อม จำนวน 1 ตำแหน่ง
B10: (2) หัวหน้าฝ่ายบริหารงานสาธารณสุข จำนวน 1 ตำแหน่ง
B11: (3) เจ้าพนักงานธุรการ จำนวน 1 ตำแหน่ง
B12: (4) เจ้าพนักงานสาธารณสุข จำนวน 1 ตำแหน่ง
B13: (5) นักวิชาการสาธารณสุข จำนวน 1 ตำแหน่ง
A14: - เป็นไปตามพระราชบัญญัติ พระราชกฤษฎีกา ประกาศ และหนังสือสั่งการ ดังนี้
B15: 1) พระราชบัญญัติระเบียบบริหารงานบุคคลส่วนท้องถิ่น พ.ศ. 2542
B16: 2) พระราชกฤษฎีกาการจ่ายเงินเดือน เงินปี บำเหน็จ บำนาญและเงินอื่นในลักษณะเดียวกัน พ.ศ. 2535
B17: 3) ประกาศคณะกรรมการมาตรฐานการบริหารงานบุคคลส่วนท้องถิ่น เรื่อง กำหนดมาตรฐานกลางการ
A18: บริหารงานบุคคลส่วนท้องถิ่น (ฉบับที่ 11) ลงวันที่ 6 มิถุนายน 2560
B19: 4) หนังสือสำนักงาน ก.จ., ก.ท. และ ก.อบต. ด่วนที่สุด ที่ มท 0809.3/ว 2683 ลงวันที่ 15 ธันวาคม 2558
A20: เรื่อง ประกาศ ก.จ., ก.ท. และ ก.อบต. เรื่อง มาตรฐานทั่วไปเกี่ยวกับอัตราเงินเดือนและวิธีการจ่ายเงินเดือนและประโยชน์
A21: ตอบแทนอื่น (ฉบับที่ 4) และประกาศ ก.จ., ก.ท. และ ก.อบต. เรื่อง มาตรฐานทั่วไปเกี่ยวกับอัตราค่าจ้างและการให้ลูกจ้าง
A22: ขององค์กรปกครองส่วนท้องถิ่นได้รับค่าจ้าง (ฉบับที่ 4)
B23: 5) หนังสือสำนักงาน ก.จ., ก.ท. และ ก.อบต. ด่วนที่สุด ที่ มท 0809.3/ว 13 ลงวันที่ 3 กรกฎาคม 2561
A24: ประกาศ ก.จ., ก.ท. และ ก.อบต. เรื่อง มาตรฐานทั่วไปเกี่ยวกับการกำหนดหลักเกณฑ์การเลื่อนขั้นเงินเดือนข้าราชการ
A25: และพนักงานส่วนท้องถิ่น (ฉบับที่ 2) พ.ศ. 2561
A26: 2) เงินประจำตำแหน่งหัวหน้าส่วนราชการ | G26: จำนวน | H26: =SUM([2]แผนงานสาธารณสุข!$E$20) -> 60000 | I26: บาท
A27: เพื่อจ่ายเป็นเงินประจำตำแหน่งพนักงาน ดังนี้
B28: 1) ผู้อำนวยการกองสาธารณสุขและสิ่งแวดล้อม ในอัตราเดือนละ 3,500 บาท จำนวน 12 เดือน
G29: เป็นเงิน | H29: 42000 | I29: บาท
B30: 2) หัวหน้าฝ่ายบริหารงานสาธารณสุข ในอัตราเดือนละ 1,500 บาท รวม 12 เดือน
G31: เป็นเงิน | H31: 18000 | I31: บาท
A32: - เป็นไปตามพระราชบัญญัติ พระราชกฤษฎีกา ประกาศ และหนังสือสั่งการ ดังนี้
B33: 1) พระราชบัญญัติระเบียบข้าราชการพลเรือน พ.ศ. 2551
B34: 2) พระราชบัญญัติระเบียบบริหารงานบุคคลส่วนท้องถิ่น พ.ศ. 2542
B35: 3) พระราชบัญญัติเงินเดือนและเงินประจำตำแหน่ง พ.ศ. 2538 และที่แก้ไขเพิ่มเติมถึง (ฉบับที่ 3) พ.ศ. 2544
B36: 4) พระราชกฤษฎีกาการจ่ายเงินเดือน เงินปี บำเหน็จ บำนาญและเงินอื่นในลักษณะเดียวกัน พ.ศ. 2535
B37: 5) ระเบียบกระทรวงการคลังว่าด้วยการเบิกจ่ายเงินค่าตอบแทนนอกเหนือจากเงินเดือนข้าราชการและลูกจ้าง
A38: ประจำส่วนราชการ (ฉบับที่ 4) พ.ศ. 2553 ประกาศลงวันที่ 3 ธันวาคม 2553
B39: 6) ประกาศคณะกรรมการมาตรฐานการบริหารงานบุคคลส่วนท้องถิ่น เรื่องกำหนดมาตรฐานกลางการบริหาร
A40: บุคคลท้องถิ่น (ฉบับที่ 2)
...

Sheet แผนงานสังคมสงเคราะห์
A1: แผนงานสังคมสงเคราะห์ | G1: รวม | H1: =SUM(H2) -> 90000 | I1: บาท
A2: งานสวัสดิการสังคมและสังคมสงเคราะห์ | G2: รวม | H2: =SUM(H3,H21) -> 90000 | I2: บาท
A3: งบดำเนินงาน | G3: รวม | H3: =SUM(H5,H63,H291,H408) -> 70000 | I3: บาท
A4: หมวดค่าตอบแทน ใช้สอย และวัสดุ
A5: ค่าใช้สอย | G5: รวม | H5: =SUM(H7,H23,H34,H42,H50) -> 70000 | I5: บาท
A6: (1) รายจ่ายเกี่ยวเนื่องกับการปฏิบัติราชการที่ไม่เข้าลักษณะรายจ่ายหมวดอื่น ๆ
G7: รวม | H7: =SUM(H8,H15) -> 70000 | I7: บาท
B8: 1) โครงการช่วยเหลือประชาชนด้านที่อยู่อาศัย | G8: จำนวน | H8: 60000 | I8: บาท
A9: เพื่อจ่ายเป็นค่าใช้จ่ายในการจัดทำโครงการช่วยเหลือประชาชนด้านที่อยู่อาศัย สำหรับผู้ยากไร้ ไม่มีที่พึ่งพา ไม่มีที่อยู่อาศัยที่
A10: มั่นคงถาวร โดยมีค่าใช้จ่ายเกี่ยวกับ ค่าวัสดุอุปกรณ์ในการซ่อมแซมที่อยู่อาศัย หรือซ่อมแซมที่อยู่อาศัย ค่าใช้จ่ายอื่นที่
A11: จำเป็นและเกี่ยวข้องในการจัดทำโครงการ ตามระเบียบ ดังนี้
B12: 1) ระเบียบกรมพัฒนาสังคมและสวัสดิการ ว่าด้วยสงเคราะห์ครอบครัวผู้มีรายได้น้อยและผู้ไร้ที่พึ่ง พ.ศ. 2552
A13: (ปรากฎในแผนพัฒนาท้องถิ่นสี่ปี พ.ศ. 2561-2564 หน้า 139 ลำดับที่ 3)
B14: 4. โครงการสงเคราะห์ผู้ด้อยโอกาสและครัวเรือนที่ตกเกณฑ์ จปฐ.
G15: จำนวน | H15: 10000 | I15: บาท
A16: เพื่อจ่ายเป็นค่าใช้จ่ายในการจัดทำโครงการสงเคราะห์ผู้ด้อยโอกาสและครัวเรือนที่ตกเกณฑ์ จปฐ. โดยการฝึกอบรมอาชีพ
A17: และสวัสดิการให้กับผู้ด้อยโอกาสและครัวเรือนที่ตกเกณฑ์ จปฐ. เพื่อให้ความช่วยเหลือประชาชน ตามระเบียบ ดังนี้
B18: 1) ระเบียบกรมพัฒนาสังคมและสวัสดิการ ว่าด้วยสงเคราะห์ครอบครัวผู้มีรายได้น้อยและผู้ไร้ที่พึ่ง พ.ศ. 2552
A19: (ปรากฎในแผนพัฒนาท้องถิ่นสี่ปี พ.ศ. 2561-2564 หน้า 139 ลำดับที่ 4)
A21: งบเงินอุดหนุน | G21: รวม | H21: =SUM(H25) -> 20000 | I21: บาท
A22: หมวดเงินอุดหนุน
A23: (1) เงินอุดหนุนส่วนราชการ
B24: 1. อุดหนุนโครงการศูนย์เฉลิมพระเกีรติเพื่อช่วยเหลือผู้ป่วยโรคเอดส์ และผู้ติดเชื้อ H.I.V.
G25: จำนวน | H25: 20000 | I25: บาท
A26: เพื่อจ่ายเป็นเงินอุดหนุนที่ทำการปกครองอำเภอแวงใหญ่ ในการดำเนินงานตามโครงการศูนย์เฉลิมพระเกียรติเพื่อช่วยเหลือ
A27: ผู้ป่วยโรคเอดส์ และผู้ติดเชื้อ H.I.V. ตามระเบียบ และหนังสือสั่งการ ดังนี้
B28: 1) ระเบียบกระทรวงมหาดไทย ว่าด้วยเงินอุดหนุนขององค์กรปกครองส่วนท้องถิ่น พ.ศ. 2559
B29: 2) หนังสือกระทรวงมหาดไทย ด่วนมาก ที่ มท 0808.2/ว 3616 ลงวันที่ 24 มิถุนายน 2559 เรื่อง ระเบียบ
A30: กระทรวงมหาดไทย ว่าด้วยเงินอุดหนุนขององค์กรปกครองส่วนท้องถิ่น พ.ศ. 2559
A31: (ปรากฎในแผนพัฒนาท้องถิ่นสี่ปี พ.ศ. 2561-2564 เพิ่มเติม ครั้งที่ 1 พ.ศ. 2560 หน้า 45 ลำดับที่ 1)

Sheet แผนงานเคหะและชุมชน
A1: แผนงานเคหะและชุมชน | G1: รวม | H1: =SUM(H2,H424,H462,H482) -> 4584735 | I1: บาท
A2: งานบริหารทั่วไปเกี่ยวกับเคหะและชุมชน | G2: รวม | H2: =SUM(H3,H64,H401) -> 3392735 | I2: บาท
A3: งบบุคลากร | G3: รวม | H3: =SUM(H5) -> 2403900 | I3: บาท
A4: หมวดเงินเดือน ค่าจ้างประจำ และค่าจ้างชั่วคราว
A5: เงินเดือน (ฝ่ายประจำ) | G5: รวม | H5: =SUM(H6,H19,H38,H42,H53) -> 2403900 | I5: บาท
A6: 1. เงินเดือนพนักงาน | G6: จำนวน | H6: =SUM([5]แผนงานเคหะและชุมชน!$E$13) -> 1663560 | I6: บาท
A7: เพื่อจ่ายเป็นเงินเดือนพนักงานเทศบาลสามัญและเงินปรับปรุงเงินเดือนประจำปีของพนักงานเทศบาลสามัญ จำนวน 5 อัตรา
A8: จำนวน 12 เดือน เป็นเงิน 1,663,560 บาท โดยจ่ายให้กับพนักงานเทศบาลสามัญ ดังนี้
B9: (1) ผู้อำนวยการกองช่าง จำนวน 1 ตำแหน่ง
B10: (2) หัวหน้าฝ่ายแบบแปลนและก่อสร้าง จำนวน 1 ตำแหน่ง
B11: (3) นายช่างโยธา จำนวน 1 ตำแหน่ง
B12: (4) นายช่างไฟฟ้า จำนวน 1 ตำแหน่ง
B13: (5) วิศวกรโยธา จำนวน 1 ตำแหน่ง
A14: - เป็นไปตามพระราชบัญญัติ พระราชกฤษฎีกา ประกาศ และหนังสือสั่งการ ดังนี้
B15: 1) พระราชบัญญัติระเบียบบริหารงานบุคคลส่วนท้องถิ่น พ.ศ. 2542
B16: 2) พระราชกฤษฎีกาการจ่ายเงินเดือน เงินปี บำเหน็จ บำนาญและเงินอื่นในลักษณะเดียวกัน พ.ศ. 2535
B17: 3) ประกาศคณะกรรมการกลางพนักงานเทศบาลจังหวัดขอนแก่น เรื่อง หลักเกณฑ์และเงื่อนไขเกี่ยวกับการบริหารงาน
A18: บุคคลของเทศบาล (ฉบับที่ 62) พ.ศ. 2559
A19: (2) เงินประจำตำแหน่ง | G19: จำนวน | H19: =SUM([2]แผนงานเคหะและชุมชน!$E$17) -> 60000 | I19: บาท
A20: เพื่อจ่ายเป็นเงินประจำตำแหน่งพนักงาน ดังนี้
B21: 1) ผู้อำนวยการกองช่าง ในอัตราเดือนละ 3,500 บาท จำนวน 12 เดือน
G22: เป็นเงิน | H22: 42000 | I22: บาท
B23: 2) หัวหน้าฝ่ายแบบแปลนและก่อสร้าง ในอัตราเดือนละ 1,500 บาท จำนวน 12 เดือน
G24: เป็นเงิน | H24: 18000 | I24: บาท
A25: - เป็นไปตามพระราชบัญญัติ พระราชกฤษฎีกา ประกาศ และหนังสือสั่งการ ดังนี้
B26: 1) พระราชบัญญัติระเบียบข้าราชการพลเรือน พ.ศ. 2551
B27: 2) พระราชบัญญัติระเบียบบริหารงานบุคคลส่วนท้องถิ่น พ.ศ. 2542
B28: 3) พระราชบัญญัติเงินเดือนและเงินประจำตำแหน่ง พ.ศ. 2538 และที่แก้ไขเพิ่มเติมถึง (ฉบับที่ 3) พ.ศ. 2544
B29: 4) พระราชกฤษฎีกาการจ่ายเงินเดือน เงินปี บำเหน็จ บำนาญและเงินอื่นในลักษณะเดียวกัน พ.ศ. 2535
B30: 5) ระเบียบกระทรวงการคลังว่าด้วยการเบิกจ่ายเงินค่าตอบแทนนอกเหนือจากเงินเดือนข้าราชการและลูกจ้างประจำ
A31: ส่วนราชการ (ฉบับที่ 4) พ.ศ. 2553 ประกาศลงวันที่ 3 ธันวาคม 2553
B32: 6) ประกาศคณะกรรมการมาตรฐานการบริหารงานบุคคลส่วนท้องถิ่น เรื่องกำหนดมาตรฐานกลางการบริหารบุคคล
A33: ท้องถิ่น (ฉบับที่ 2)
B34: 7) ประกาศคณะกรรมการพนักงานเทศบาลจังหวัดขอนแก่น เรื่องหลักเกณฑ์และเงื่อนไขเกี่ยวกับการบริหารงาน
A35: บุคคลของเทศบาล (ฉบับที่ 64) พ.ศ. 2559
A38: (3) ค่าจ้างลูกจ้างประจำ | G38: จำนวน | H38: =SUM([5]แผนงานเคหะและชุมชน!$E$20) -> 199800 | I38: บาท
A39: เพื่อจ่ายเป็นเงินค่าจ้างประจำให้กับลูกจ้างประจำ พร้อมทั้งเงินปรับปรุงค่าจ้างประจำปีและเงินปรับอัตราค่าจ้าง จำนวน
A40: 1 อัตรา จำนวน 12 เดือน โดยจ่ายให้กับลูกจ้างประจำ ดังนี้
B41: 1) ผู้ช่วยช่างไฟฟ้า จำนวน 1 ตำแหน่ง
A42: (4) ค่าตอบแทนพนักงานจ้าง | G42: จำนวน | H42: =SUM([5]แผนงานเคหะและชุมชน!$E$26) -> 453600 | I42: บาท
...

Sheet แผนงานสร้างความเข้มแข็งของชุมชน
A1: แผนงานสร้างความเข้มแข็งของชุมชน | G1: รวม | H1: =SUM(H2) -> 215000 | I1: บาท
A2: งานส่งเสริมและสนับสนุนความเข้มแข็งของชุมชน | G2: รวม | H2: =SUM(H3,H96) -> 215000 | I2: บาท
A3: งบดำเนินงาน | G3: รวม | H3: =SUM(H5) -> 135000 | I3: บาท
A4: หมวดค่าตอบแทน ใช้สอย และวัสดุ
A5: ค่าใช้สอย | G5: รวม | H5: =SUM(H7) -> 135000 | I5: บาท
A6: (1) รายจ่ายเกี่ยวเนื่องกับการปฏิบัติราชการที่ไม่เข้าลักษณะรายจ่ายหมวดอื่น ๆ
G7: รวม | H7: =SUM(H8,H18,H35,H59,H73,H84) -> 135000 | I7: บาท
B8: 1. โครงการปลูกป่ารักษ์โลกเพิ่มพื้นที่สีเขียว | G8: จำนวน | H8: 15000 | I8: บาท
A9: เพื่อจ่ายเป็นค่าใช้จ่ายในการจัดทำโครงการปลูกป่ารักษ์โลกเพิ่มพื้นที่สีเขียวในสถานที่ราชการ ชุมชน ริมคลอง ป่าเสื่อม
A10: โทรม พื้นที่สาธารณะต่าง ๆ โดยมีค่าใช้จ่ายเกี่ยวกับค่าจัดซื้อวัสดุอุปกรณ์ ค่าจัดซื้อต้นไม้ หญ้า ค่าป้ายโครงการ ค่าป้าย
A11: ประชาสัมพันธ์ ค่าใช้จ่ายอื่นที่จำเป็นในการจัดทำโครงการ ตามพระราชบัญญัติ และระเบียบ ดังนี้
B12: 1) พระราชบัญญัติเทศบาล พ.ศ. 2496
B13: 2) พระราชบัญญัติกำหนดแผนและขั้นตอนการกระจายอำนาจให้แก่องค์กรปกครองส่วนท้องถิ่น พ.ศ. 2542
B14: 3) ระเบียบกระทรวงมหาดไทย ว่าด้วยการเบิกจ่ายในการจัดงาน การจัดการแข่งขันกีฬาและการส่งนักกีฬาเข้า
A15: เข้าร่วมการแข่งขันกีฬาขององค์กรปกครองส่วนท้องถิ่น พ.ศ. 2559
A16: (ปรากฎในแผนพัฒนาท้องถิ่นสี่ปี พ.ศ. 2561-2564 หน้า 195 ลำดับที่ 1)
B17: 2. โครงการจัดกิจกรรมพัฒนาเด็กและเยาวชนเนื่องในวันเยาวชนแห่งชาติ
G18: จำนวน | H18: 25000 | I18: บาท
A19: เพื่อจ่ายเป็นค่าใช้จ่ายในการจัดโครงการจัดกิจรรมพัฒนาเด็กและเยาวชนเนื่องในวันเยาวชนแห่งชาติ โดยมีค่าใช้จ่าย
A20: เกี่ยวกับการใช้และการตกแต่งสถานที่ ค่าใช้จ่ายในพิธีเปิดและปิด ค่าวัสดุ เครื่องเขียน และอุปกรณ์ ค่าประกาศนียบัตร
A21: ค่าถ่ายเอกสาร ค่าพิมพ์เอกสารและสิ่งพิมพ์ ค่าหนังสือ ค่าใช้จ่ายในการติดต่อสื่อสาร ค่าเช่าอุปกรณ์ต่างๆ ค่ากระเป๋าหรือ
A22: สิ่งที่ใช้บรรจุเอกสาร ค่าอาหารว่างและเครื่องดื่ม ค่าตอบแทนวิทยากร ค่าอาหาร ค่าป้ายโครงการ ค่าป้ายประชาสัมพันธ์
A23: ค่าใช้จ่ายอื่นที่จำเป็นสำหรับการจัดทำโครงการ
A24: - เป็นไปตามพระราชบัญญัติ และระเบียบ ดังนี้
B25: 1) พระราชบัญญัติเทศบาล พ.ศ. 2496
B26: 2) พระราชบัญญัติกำหนดแผนและขั้นตอนการกระจายอำนาจให้แก่องค์กรปกครองส่วนท้องถิ่น พ.ศ. 2542
B27: 3) ระเบียบกระทรวงมหาดไทย ว่าด้วยการเบิกจ่ายในการจัดงาน การจัดการแข่งขันกีฬาและการส่งนักกีฬาเข้า
A28: ร่วมการแข่งขันกีฬาขององค์กรปกครองส่วนท้องถิ่น พ.ศ. 2559
A29: (ปรากฎในแผนพัฒนาท้องถิ่นสี่ปี พ.ศ. 2561-2564 หน้า 139 ลำดับที่ 2)
B35: 3. โครงการประชุมประชาคมเพื่อจัดทำแผนชุมชน | G35: จำนวน | H35: 25000 | I35: บาท
A36: เพื่อจ่ายเป็นค่าใช้จ่ายในการจัดทำโครงการประชุมประชาคมเพื่อจัดทำแผนชุมชน เพื่อการส่งเสริม สนับสนุน การจัดทำ
A37: แผนชุมชน และกิจกรรมสนับสนุนการจัดประชุมประชาคมแผนชุมชน การพัฒนาผู้นำชุมชน สร้างเครือข่ายองค์กรชุมชน
A38: และสนับสนุนการขับเคลื่อนแผนชุมชนแบบบูรณาการ เพื่อนำข้อมูลมาจัดทำแผนพัฒนาท้องถิ่น โดยจ่ายเป็นค่าใช้จ่าย
A39: เกี่ยวกับการใช้และการตกแต่งสถานที่ ค่าใช้จ่ายในพิธีเปิดและปิด ค่าวัสดุ เครื่องเขียน และอุปกรณ์ ค่าประกาศนียบัตร
A40: เกี่ยวกับการใช้และการตกแต่งสถานที่ ค่าใช้จ่ายในพิธีเปิดและปิด ค่าวัสดุ เครื่องเขียน และอุปกรณ์ ค่าประกาศนียบัตร
A41: ค่าถ่ายเอกสาร ค่าพิมพ์เอกสารและสิ่งพิมพ์ ค่าหนังสือ ค่าใช้จ่ายในการติดต่อสื่อสาร ค่าเช่าอุปกรณ์ต่างๆ ค่ากระเป๋าหรือ
A42: สิ่งที่ใช้บรรจุเอกสาร ค่าอาหารว่างและเครื่องดื่ม ค่าตอบแทนวิทยากร ค่าอาหาร ค่าป้ายโครงการ ค่าป้ายประชาสัมพันธ์
A43: ค่าใช้จ่ายอื่นที่จำเป็นสำหรับการจัดทำโครงการ
A44: - เป็นไปตามพระราชบัญญัติ และระเบียบ ดังนี้
B45: 1) พระราชบัญญัติเทศบาล พ.ศ. 2496
...

Sheet แผนงานศาสนาวัฒนธรรมและนันทนาการ
A1: แผนงานการศาสนาวัฒนธรรมและนันทนาการ | G1: รวม | H1: =SUM(H2) -> 715000 | I1: บาท
A2: งานศาสนาวัฒนธรรมท้องถิ่น | G2: รวม | H2: =SUM(H3,H96) -> 715000 | I2: บาท
A3: งบดำเนินงาน | G3: รวม | H3: =H5 -> 545000 | I3: บาท
A4: หมวดค่าตอบแทน ใช้สอย และวัสดุ
A5: ค่าใช้สอย | G5: รวม | H5: =SUM(H7) -> 545000 | I5: บาท
A6: (1) รายจ่ายเกี่ยวเนื่องกับการปฏิบัติราชการที่ไม่เข้าลักษณะรายจ่ายหมวดอื่น ๆ
G7: รวม | H7: =SUM(H9,H26,H43,H60,H79) -> 545000 | I7: บาท
B8: 1. โครงการจัดงานฉลองศาลเจ้าปู่หลวงกลางและงานประเพณีลอยกระทง
G9: จำนวน | H9: 400000 | I9: บาท
A10: เพื่อจ่ายเป็นค่าใช้จ่ายในการดำเนินงานโครงการจัดงานฉลองศาลเจ้าปู่หลวงกลางและงานประเพณีลอยกระทง โดย
A11: จ่ายเป็นค่าใช้จ่ายเกี่ยวกับการดำเนินโครงการ ดังนี้ ค่าใช้จ่ายพิธีทางศาสนา ค่ารับรองผู้ที่เชิญมาร่วมงานและผู้มาร่วม
A12: ประกอบกิจกรรมตามวัตถุประสงค์ ได้แก่ ค่าอาหารว่างและเครื่องดื่ม ค่าใช้จ่ายเกี่ยวกับสถานที่และค่าใช้จ่ายอื่นๆ
A13: ที่จำเป็นและเกี่ยวข้อง ได้แก่ ค่าสถานที่จัดงาน เช่น ค่าเช่าหรือค่าบำรุง ค่าเช่าหรือค่าบริการวัสดุอุปกรณ์ที่จำเป็นในการ
A14: จัดงาน รวมค่าติดตั้งรื้อถอน เช่น เครื่องโปรเจคเตอร์ เครื่องเสียง เต้นท์ เวที ค่าใช้จ่ายเกี่ยวกับการรักษาความปลอดภัย
A15: เช่น ค่าจ้างเหมารักษาความปลอดภัยหรืออื่นๆ ค่าจ้างเหมาทำความสะอาด ค่าใช้จ่ายในการตกแต่ง จัดสถานที่
A16: ค่าสาธารณูปโภคต่างๆ เช่น กระแสไฟฟ้า น้ำประปา โทรทัศน์ รวมถึงค่าติดตั้ง ค่าเช่าอุปกรณ์ และอื่นๆ ที่เกี่ยวข้อง
A17: ค่าใช้จ่ายในการประกวดหรือแข่งขัน ได้แก่ ค่าตอบแทนกรรมการตัดสิน ค่าโล่ หรือถ้วยรางวัลที่มอบให้ผู้ชนะการ
A18: ประกวดหรือการแข่งขันเป็นการประกาศเกียรติคุณ เงินหรือของรางวัลที่มอบให้ผู้ชนะการประกวดหรือแข่งขัน ค่าจ้าง
A19: เหมาจัดนิทรรศการ ค่ามหรศพ การแสดง และค่าใช้จ่ายในการโฆษณาประชาสัมพันธ์งาน เช่น ค่าโฆษณาทางวิทยุ
A20: โทรทัศน์ และสื่อประเภทสิ่งพิมพ์ต่างๆ ค่าใช้จ่ายในการออกอากาศทางวิทยุ โทรทัศน์ ค่าจ้างเหมาทำป้ายโฆษณาหรือ
A21: สิ่งพิมพ์ ค่าใช้จ่ายอื่นๆ ที่จำเป็นและเกี่ยวข้องในการจัดงาน
A22: - เป็นไปตามระเบียบ ดังนี้
B23: 1) ระเบียบกระทรวงมหาดไทย ว่าด้วยการเบิกจ่ายในการจัดงาน การจัดการแข่งขันกีฬาและการส่งนักกีฬา
A24: เข้าร่วมการแข่งขันกีฬาขององค์กรปกครองส่วนท้องถิ่น พ.ศ. 2559
A25: (ปรากฎในแผนพัฒนาท้องถิ่นสี่ปี พ.ศ. 2561-2564 หน้า 135 ลำดับที่ 1)
B26: 2. โครงการจัดงานวันขึ้นปีใหม่ | G26: จำนวน | H26: 25000 | I26: บาท
A27: เพื่อจ่ายเป็นค่าใช้จ่ายในการดำเนินงานโครงการจัดงานวันขึ้นปีใหม่ โดยจ่ายเป็นค่าใช้จ่ายเกี่ยวกับการดำเนินโครงการ
A28: ดังนี้ ค่าใช้จ่ายพิธีทางศาสนา ค่ารับรองผู้ที่เชิญมาร่วมงานและผู้มาร่วมประกอบกิจกรรมตามวัตถุประสงค์ ได้แก่
A29: ค่าอาหารว่างและเครื่องดื่ม ค่าใช้จ่ายเกี่ยวกับสถานที่และค่าใช้จ่ายอื่นๆ ที่จำเป็นและเกี่ยวข้อง ได้แก่ ค่าสถานที่จัดงาน
A30: เช่น ค่าเช่าหรือค่าบำรุง ค่าเช่าหรือค่าบริการวัสดุอุปกรณ์ที่จำเป็นในการจัดงาน รวมค่าติดตั้งรื้อถอน เช่น
A31: เครื่องโปรเจคเตอร์ เครื่องเสียง เต้นท์ เวที ค่าใช้จ่ายเกี่ยวกับการรักษาความปลอดภัย เช่น ค่าจ้างเหมารักษาความ
A32: หรืออื่นๆ ค่าจ้างเหมาทำความสะอาด ค่าใช้จ่ายในการตกแต่ง จัดสถานที่ ค่าสาธารณูปโภคต่างๆ เช่น กระแสไฟฟ้า
A33: น้ำประปา โทรทัศน์ รวมถึงค่าติดตั้ง ค่าเช่าอุปกรณ์ และอื่นๆ ที่เกี่ยวข้อง ค่าใช้จ่ายในการประกวดหรือแข่งขัน ได้แก่
A34: ค่าตอบแทนกรรมการตัดสิน ค่าโล่ หรือถ้วยรางวัลที่มอบให้ผู้ชนะการประกวดหรือการแข่งขันเป็นการประกาศเกียรติคุณ
A35: เงินหรือของรางวัลที่มอบให้ผู้ชนะการประกวดหรือแข่งขัน ค่าจ้างเหมาจัดนิทรรศการ ค่ามหรศพ การแสดง และ
A36: ค่าใช้จ่ายในการโฆษณาประชาสัมพันธ์งาน เช่น ค่าโฆษณาทางวิทยุ โทรทัศน์ และสื่อประเภทสิ่งพิมพ์ต่างๆ
A37: ค่าใช้จ่ายในการออกอากาศทางวิทยุ โทรทัศน์ ค่าจ้างเหมาทำป้ายโฆษณาหรือสิ่งพิมพ์ ค่าใช้จ่ายอื่นๆ ที่จำเป็นและ
A38: เกี่ยวข้องในการจัดงาน
A39: - เป็นไปตามระเบียบ ดังนี้
B40: 1) ระเบียบกระทรวงมหาดไทย ว่าด้วยการเบิกจ่ายในการจัดงาน การจัดการแข่งขันกีฬาและการส่งนักกีฬา
...

Sheet แผนงานการเกษตร
A1: แผนงานการเกษตร | G1: รวม | H1: =SUM(H2,H34) -> 70000 | I1: บาท
A2: งานส่งเสริมการเกษตร | G2: รวม | H2: =SUM(H3) -> 60000 | I2: บาท
A3: งบดำเนินการ | G3: รวม | H3: =SUM(H5) -> 60000 | I3: บาท
A4: หมวดค่าตอบแทน ใช้สอย และวัสดุ
A5: ค่าใช้สอย | G5: รวม | H5: =SUM(H7) -> 60000 | I5: บาท
A6: 1) รายจ่ายเกี่ยวเนื่องกับการปฏิบัติราชการที่ไม่เข้าลักษณะรายจ่ายหมวดอื่น ๆ
G7: รวม | H7: =SUM(H9,H22) -> 60000 | I7: บาท
B8: 1) โครงการส่งเสริมและพัฒนาศูนย์บริการและถ่ายทอดเทคโนโลยีการเกษตร
G9: จำนวน | H9: 20000 | I9: บาท
A10: เพื่อจ่ายเป็นค่าใช้จ่ายในการการจัดทำโครงการส่งเสริมและพัฒนาศูนย์บริการและถ่ายทอดเทคโนโลยีการเกษตร
A11: โดยมีค่าใช้จ่ายเกี่ยวกับ ค่าดำเนินการจัดประชุมคณะกรรมการบริหาร เช่น ค่าอาหารว่างและเครื่องดื่ม ค่าอาหาร และ
A12: ค่าใช้จ่ายเกี่ยวกับค่าจัดทำป้ายประชาสัมพันธ์หรือป้ายแนะนำองค์ความรู้ด้านเทคโนโลยีการเกษตร เพื่อปรับปรุงศูนย์
A13: เรียนรู้เชิงเกษตร การจัดเป็นแปลงสาธิตการทำเกษตรทฤษฎีใหม่ ค่าใช้จ่ายอื่นที่จำเป็นในการดำเนินโครงการ
A14: - เป็นไปตามพระราชบัญญัติ และระเบียบ ดังนี้
B15: 1) พระราชบัญญัติเทศบาล พ.ศ. 2496
B16: 2) พระราชบัญญัติกำหนดแผนและขั้นตอนการกระจายอำนาจให้แก่องค์กรปกครองส่วนท้องถิ่น พ.ศ. 2542
B17: 3) ระเบียบกระทรวงมหาดไทย ว่าด้วยการเบิกจ่ายในการจัดงาน การจัดการแข่งขันกีฬาและการส่งนักกีฬา
A18: เข้าร่วมการแข่งขันกีฬาขององค์กรปกครองส่วนท้องถิ่น พ.ศ. 2559
B19: 4) ระเบียบกระทรวงมหาดไทย ว่าด้วยค่าใช้จ่ายในการฝึกอบรมขององค์กรปกครองส่วนท้องถิ่น พ.ศ. 2557
A20: (ปรากฎในแผนพัฒนาท้องถิ่นสี่ปี พ.ศ. 2561-2564 หน้า 149 ลำดับที่ 7)
B21: 2) โครงการอบรมให้ความรู้แก่ประชาชนด้านการเกษตร
G22: จำนวน | H22: 40000 | I22: บาท
A23: เพื่อจ่ายเป็นค่าใช้จ่ายในการจัดทำโครงการอบรมให้ความรู้แก่ประชาชนด้านการเกษตร เช่น การเลี้ยงโคเนื้อ การเลี้ยง
A24: กระบือ การทำนาหยอด การผลิตข้าวหอมมะลิปลอดสารพิษ การปลูกผักปลอดสารพิษ การเพาะเห็ดฟางแบบกองเตี้ย
A25: การส่งเสริมการใช้ปุ๋ยหมัก การจัดทำไร่นาสวนผสม การรณรงค์ไม่เผาตอซังข้าว โดยมีค่าใช้จ่ายเกี่ยวกับ ค่าวัสดุ
A26: ค่าเครื่องเขียน และอุปกรณ์ ค่าอาหารว่างและเครื่องดื่ม ค่าอาหาร ค่าป้ายโครงการ ค่าป้ายประชาสัมพันธ์ ค่าใช้จ่าย
A27: ที่เกี่ยวข้องและจำเป็นในการจัดทำโครงการ
A28: - เป็นไปตามพระราชบัญญัติ และระเบียบ ดังนี้
B29: 1) พระราชบัญญัติเทศบาล พ.ศ. 2496
B30: 2) พระราชบัญญัติกำหนดแผนและขั้นตอนการกระจายอำนาจให้แก่องค์กรปกครองส่วนท้องถิ่น พ.ศ. 2542
B31: 3) ระเบียบกระทรวงมหาดไทย ว่าด้วยค่าใช้จ่ายในการฝึกอบรมขององค์กรปกครองส่วนท้องถิ่น พ.ศ. 2557
A32: (ปรากฎในแผนพัฒนาท้องถิ่นสี่ปี พ.ศ. 2561-2564 หน้า 149 ลำดับที่ 7)
A34: งานอนุรักษ์แหล่งน้ำและป่าไม้ | G34: รวม | H34: =SUM(H35) -> 10000 | I34: บาท
A35: งบดำเนินการ | G35: รวม | H35: =SUM(H37) -> 10000 | I35: บาท
A36: หมวดค่าตอบแทน ใช้สอย และวัสดุ
A37: ค่าใช้สอย | G37: รวม | H37: =SUM(H39) -> 10000 | I37: บาท
A38: 1) รายจ่ายเกี่ยวเนื่องกับการปฏิบัติราชการที่ไม่เข้าลักษณะรายจ่ายหมวดอื่น ๆ
G39: รวม | H39: =SUM(H41) -> 10000 | I39: บาท
B40: 1) โครงการอนุรักษ์พันธุกรรมพืชอันเนื่องมาจากพระราชดำริสมเด็จพระเทพรัตนราชสุดาฯ
A41: สยามบรมราชกุมารี (อพ.สธ.) | G41: จำนวน | H41: 10000 | I41: บาท
...

Sheet แผนงานการพาณิชย์
A1: แผนงานการพาณิชย์ | G1: รวม | H1: =SUM(H2,) -> 50000 | I1: บาท
A2: งานตลาดสด | G2: รวม | H2: =SUM(H3) -> 50000 | I2: บาท
A3: งบดำเนินงาน | G3: รวม | H3: =SUM(H5) -> 50000 | I3: บาท
A4: หมวดค่าตอบแทน ใช้สอย และวัสดุ
A5: ค่าใช้สอย | G5: รวม | H5: =SUM(H7) -> 50000 | I5: บาท
A6: 1. ค่าบำรุงรักษาและซ่อมแซม
B7: 1. ค่าบำรุงรักษาหรือซ่อมแซมที่ดินและสิ่งก่อสร้าง | G7: จำนวน | H7: 50000 | I7: บาท
A8: เพื่อจ่ายเป็นค่าบำรุงรักษาหรือซ่อมแซมตลาดสดเทศบาลให้เป็นตลาดสดน่าซื้อ ที่เป็นการซ่อมแซมปกติ มิใช่เป็นการ
A9: ต่อเติม ดัดแปลงอาคาร ได้แก่ ค่าซ่อมแซมแผงขายของ ค่าซ่อมแซมไฟฟ้าที่ชำรุด ค่าปรับปรุงระบบระบายน้ำ
A10: หลังคา ฯลฯ กรณีเป็นการจ้างเหมาทั้งค่าสิ่งของและค่าแรงงาน ให้จ่ายจากค่าใช้สอย ส่วนกรณีที่องค์กรปกครอง
A11: ส่วนท้องถิ่นเป็นผู้ดำเนินการซ่อมแซมบำรุงรักษาทรัพย์สินเองให้ปฏิบัติ ดังนี้
B12: 1) ค่าจ้างเหมาแรงงานของบุคคลภายนอกให้จ่ายจากค่าใช้สอย
B13: 2) ค่าสิ่งของที่ซื้อมาใช้ในการบำรุงรักษาทรัพย์สินให้จ่ายจากวัสดุ

Sheet แผนงานงบกลาง
A1: แผนงานงบกลาง | G1: รวม | H1: =SUM(H2) -> 10597642 | I1: บาท
A2: งานงบกลาง | G2: รวม | H2: =SUM(H3,H11,H19,H33,H54,H77,H88,H112,H162,H171) -> 10597642 | I2: บาท
B3: 1. ค่าชำระหนี้เงินต้น | G3: จำนวน | H3: 549000 | I3: บาท
A4: เพื่อจ่ายเป็นค่าชำระเงินต้น เงินกู้ธนาคารกรุงไทย จำกัด (มหาชน)
A5: - เป็นไปตามพระราชบัญญัติ และหนังสือสั่งการ ดังนี้
B6: 1) พระราชับัญญัติเทศบาล พ.ศ. 2496
B7: 2) หนังสือกระทรวงมหาดไทย ด่วนที่สุดที่ มท 0808.3/ว 4715 ลงวันที่ 23 พฤศจิกายน 2544 เรื่อง
A8: หลักเกณฑ์ในการพิจารณาการขอกู้เงินขององค์การบริหารส่วนจังหวัด เทศบาล และเมืองพัทยา
B9: 3) หนังสือกรมส่งเสริมการปกครองท้องถิ่น ที่ มท 0808.4/ว 298 ลงวันที่ 10 กุมภาพันธ์ 2559 เรื่อง การจัดส่ง
A10: รายงานการเงินและแนวทางการกู้ยืมเงินขององค์กรปกครองส่วนท้องถิ่น
B11: 2. ค่าชำระดอกเบี้ย | G11: จำนวน | H11: 85000 | I11: บาท
A12: เพื่อจ่ายเป็นค่าชำระดอกเบี้ยเงินกู้ธนาคารกรุงไทย จำกัด (มหาชน)
A13: - เป็นไปตามพระราชบัญญัติ และหนังสือสั่งการ ดังนี้
B14: 1) พระราชับัญญัติเทศบาล พ.ศ. 2496
B15: 2) หนังสือกระทรวงมหาดไทย ด่วนที่สุดที่ มท 0808.3/ว 4715 ลงวันที่ 23 พฤศจิกายน 2544 เรื่อง
A16: หลักเกณฑ์ในการพิจารณาการขอกู้เงินขององค์การบริหารส่วนจังหวัด เทศบาล และเมืองพัทยา
B17: 3) หนังสือกรมส่งเสริมการปกครองท้องถิ่น ที่ มท 0808.4/ว 298 ลงวันที่ 10 กุมภาพันธ์ 2559 เรื่อง การจัดส่ง
A18: รายงานการเงินและแนวทางการกู้ยืมเงินขององค์กรปกครองส่วนท้องถิ่น
B19: 3. เงินสมทบกองทุนประกันสังคม | G19: จำนวน | H19: =SUM([8]เงินประกันสังคม!$H$30) -> 53535 | I19: บาท
A20: เพื่อจ่ายเป็นเงินสมทบกองทุนประกันสังคมของพนักงานจ้างกรณีนายจ้างในอัตราร้อยละ 5 ของค่าจ้างที่เทศบาลจะต้อง
A21: จ่าย เพื่ออุดหนุนเงินค่าเบี้ยประกันสังคมของพนักงานจ้าง และผู้ดูแลเด็กของศูนย์พัฒนาเด็กเล็ก
A22: - เป็นไปตามพระราชบัญญัติ
B23: 1) พระราชบัญญัติประกันสังคม พ.ศ. 2533
B24: 2) หนังสือสำนักงาน ก.จ. ก.ท. และ ก.อบต. ด่วนที่สุด ที่ มท 0809.5/ว 9 ลงวันที่ 22 มกราคม 2557
A25: เรื่อง การจ่ายเบี้ยประกันสังคมของพนักงานจ้าง
B26: 3) หนังสือสำนักงาน ก.จ. ก.ท. และ ก.อบต. ด่วนที่สุดที่ มท 0809.5/ว 81 ลงวันที่ 10 กรกฎาคม 2557 เรื่อง
A27: ประกาศ ก.จ. ก.ท. และ ก.อบต. เรื่องมาตรฐานทั่วไปเกี่ยวกับพนักงานจ้าง (ฉบับที่ 3)
B28: 4) หนังสือกระทรวงมหาดไทย ด่วนที่สุด ที่ มท 0808.2/ว 3028 ลงวันที่ 6 มิถุนายน 2561 เรื่อง ซักซ้อม
A29: แนวทางการจัดทำงบประมาณรายจ่ายประจำปีงบประมาณ พ.ศ. 2562 ขององค์กรปกครองส่วนท้องถิ่น
B30: 5) หนังสือกระทรวงมหาดไทย ด่วนที่สุด ที่ มท 0816.2/ว 3274 ลงวันที่ 19 มิถุนายน 2561 เรื่อง ซักซ้อม
A31: แนวทางการจัดทำงบประมาณรายจ่ายรองรับเงินอุดหนุนทั่วไปด้านการศึกษาขององค์กรปกครองส่วนท้องถิ่น ประจำปี
A32: งบประมาณ พ.ศ. 2562
B33: 4. เบี้ยยังชีพผู้สูงอายุ | G33: จำนวน | H33: 7132800 | I33: บาท
A34: เพื่อจ่ายเป็นเบี้ยยังชีพให้แก่ผู้สูงอายุ
A35: - เป็นไปตามพระราชบัญญัติ ระเบียบ และหนังสือสั่งการ ดังนี้
B36: 1) พระราชบัญญัติกำหนดแผนและขั้นตอนการกระจายอำนาจให้แก่องค์กรปกครองส่วนท้องถิ่น พ.ศ. 2542
B37: 2) ระเบียบกระทรวงมหาดไทย ว่าด้วยการจ่ายเงินสงเคราะห์เพื่อการยังชีพขององค์กรปกครองส่วนท้องถิ่น
A38: พ.ศ. 2548
B39: 3) ระเบียบกระทรวงมหาดไทย ว่าด้วยหลักเกณฑ์การจ่ายเบี้ยยังชีพผู้สูงอายุขององค์กรปกครองส่วนท้องถิ่น
A40: พ.ศ. 2552
...

Sheet รายจ่ายแยกตามหมวด
A1: รายจ่ายตามหมวดรายจ่าย
A2: ประจำปีงบประมาณ พ.ศ. 2562
A3: เทศบาลตำบลแวงใหญ่
A4: อำเภอแวงใหญ่ จังหวัดขอนแก่น
A6: หมวดรายจ่าย | B6: จำนวนเงิน
A7: เงินเดือน (ฝ่ายการเมือง) | B7: =SUM(แผนงานบริหารทั่วไป!H11) -> 2392800
A8: เงินเดือน (ฝ่ายประจำ) | B8: =SUM(แผนงานบริหารทั่วไป!H850,แผนงานบริหารทั่วไป!H751,แผนงานบริหารทั่วไป!H72+แผนงานรักษาความสงบภายใน!H5+แผนงานการศึกษา!H5+แผนงานการศึกษา!H69+แผนงานสาธารณสุข!H5+แผนงานเคหะและชุมชน!H5) -> 12931680
A9: ค่าตอบแทน | B9: =SUM(เทศบัญญัติงบประมาณรายจ่าย!P45) -> 1313098
A10: ค่าใช้สอย | B10: =SUM(เทศบัญญัติงบประมาณรายจ่าย!P60) -> 8256120
A11: ค่าวัสดุ | B11: =SUM(เทศบัญญัติงบประมาณรายจ่าย!P90) -> 2760640
A12: ค่าสาธารณูปโภค | B12: =SUM(เทศบัญญัติงบประมาณรายจ่าย!P95) -> 833200
A13: เงินอุดหนุน | B13: =SUM(เทศบัญญัติงบประมาณรายจ่าย!P126) -> 2576000
A14: ค่าครุภัณฑ์ | B14: =SUM(เทศบัญญัติงบประมาณรายจ่าย!P115) -> 332700 | D14: =SUM(B14:B15) -> 1031080 | E14: 10 %
A15: ค่าที่ดินและสิ่งก่อสร้าง | B15: =SUM(เทศบัญญัติงบประมาณรายจ่าย!P116) -> 698380
A16: งบกลาง | B16: =SUM(เทศบัญญัติงบประมาณรายจ่าย!D127) -> 10597642
A18: รวม | B18: =SUM(B7:B17) -> 42692260

Sheet เทศบัญญัติงบประมาณรายจ่าย
A1: เทศบัญญัติงบประมาณรายจ่าย
A2: แผนงาน | D2: แผนงาน งบกลาง | E2: แผนงานบริหารทั่วไป | F2: แผนงานการรักษาความสงบภายใน | G2: แผนงานการศึกษา | H2: แผนงานสาธารณสุข | I2: แผนงานสังคมสงเคราะห์ | J2: แผนงานเคหะและชุมชน | K2: แผนงานสร้างความเข้มแข็งของชุมชน | L2: แผนงานศาสนาวัฒนธรรมและนันทนาการ | M2: แผนงานการเกษตร | N2: แผนงานการพานิชย์ | O2: รวม
A3: งบ/หมวด/ประเภทรายจ่าย
A4: งบกลาง | B4: งบกลาง | C4: (1) ค่าชำระหนี้เงินต้น | D4: =SUM(แผนงานงบกลาง!H3) -> 549000 | O4: =SUM(D4:N4) -> 549000
C5: (2) ค่าชำระดอกเบี้ย | D5: =SUM(แผนงานงบกลาง!H11) -> 85000 | O5: =SUM(D5:N5) -> 85000
C6: (3) เงินสมทบกองทุนประกันสังคม | D6: =SUM(แผนงานงบกลาง!H19) -> 53535 | O6: =SUM(D6:N6) -> 53535
C7: (4) เบี้ยยังชีพผู้สูงอายุ | D7: =SUM(แผนงานงบกลาง!H33) -> 7132800 | O7: =SUM(D7:N7) -> 7132800
C8: (5) เบี้ยยังชีพคนพิการ | D8: =SUM(แผนงานงบกลาง!H54) -> 1920000 | O8: =SUM(D8:N8) -> 1920000
C9: (6) เบี้ยยังชีพผู้ป่วยเอดส์ | D9: =SUM(แผนงานงบกลาง!H77) -> 36000 | O9: =SUM(D9:N9) -> 36000
C10: (5) เงินสำรองจ่าย | D10: =SUM(แผนงานงบกลาง!H88) -> 120000 | O10: =SUM(D10:N10) -> 120000
C11: (6) รายจ่ายตามข้อผูกพัน | D11: =SUM(แผนงานงบกลาง!H112) -> 229087 | O11: =SUM(D11:N11) -> 229087
C12: (7) เงินช่วยพิเศษ | D12: =SUM(แผนงานงบกลาง!H162) -> 5000 | O12: =SUM(D12:N12) -> 5000
C13: (8) เงินสมทบกองทุนบำเหน็จข้าราชการส่วนท้องถิ่น (กบท.) | D13: =SUM(แผนงานงบกลาง!H171) -> 467220 | O13: =SUM(D13:N13) -> 467220 | P13: =SUM(O4:O13) -> 10597642
A18: แผนงาน | D18: แผนงานงบกลาง | E18: แผนงานบริหารทั่วไป | F18: แผนงานการรักษาความสงบภายใน | G18: แผนงานการศึกษา | H18: แผนงานสาธารณสุข | I18: แผนงานสังคมสงเคราะห์ | J18: แผนงานเคหะและชุมชน | K18: แผนงานสร้างความเข้มแข็งของชุมชน | L18: แผนงานศาสนาวัฒนธรรมและนันทนาการ | M18: แผนงานการเกษตร | N18: แผนงานการพานิชย์ | O18: รวม
A19: งบ/หมวด/ประเภทรายจ่าย
A20: งบบุคลากร | B20: เงินเดือน (ฝ่ายการเมือง) | C20: (1) เงินเดือนนายก/รองนายก | E20: =SUM(แผนงานบริหารทั่วไป!H12) -> 695520 | O20: =SUM(D20:N20) -> 695520
C21: (2) เงินค่าตอบแทนประจำตำแหน่งนายก/รองนายก | E21: =SUM(แผนงานบริหารทั่วไป!H23) -> 120000 | O21: =SUM(D21:N21) -> 120000
C22: (3) เงินค่าตอบแทนพิเศษนายก/รองนายก | E22: =SUM(แผนงานบริหารทั่วไป!H36) -> 120000 | O22: =SUM(D22:N22) -> 120000
C23: (4) เงินค่าตอบแทนเลขานุการ/ที่ปรึกษานายกเทศมนตรี | E23: =SUM(แผนงานบริหารทั่วไป!H46) -> 198720 | O23: =SUM(D23:N23) -> 198720
C24: (5) เงินค่าตอบแทนสมาชิกสภาองค์กรปกครองส่วนท้องถิ่น | E24: =SUM(แผนงานบริหารทั่วไป!H57) -> 1258560 | O24: =SUM(D24:N24) -> 1258560 | P24: =SUM(O20:O24) -> 2392800
A29: แผนงาน | D29: แผนงานงบกลาง | E29: แผนงานบริหารทั่วไป | F29: แผนงานการรักษาความสงบภายใน | G29: แผนงานการศึกษา | H29: แผนงานสาธารณสุข | I29: แผนงานสังคมสงเคราะห์ | J29: แผนงานเคหะและชุมชน | K29: แผนงานสร้างความเข้มแข็งของชุมชน | L29: แผนงานศาสนาวัฒนธรรมและนันทนาการ | M29: แผนงานการเกษตร | N29: แผนงานการพานิชย์ | O29: รวม
A30: งบ/หมวด/ประเภทรายจ่าย
A31: งบบุคลากร | B31: เงินเดือน (ฝ่ายประจำ) | C31: (1) เงินเดือนพนักงานเทศบาล | E31: =SUM(แผนงานบริหารทั่วไป!H73,แผนงานบริหารทั่วไป!H752,แผนงานบริหารทั่วไป!H851) -> 5290200 | F31: =SUM(แผนงานรักษาความสงบภายใน!H6) -> 216720 | G31: =SUM(แผนงานการศึกษา!H6,แผนงานการศึกษา!H70) -> 1137000 | H31: =SUM(แผนงานสาธารณสุข!H6) -> 1507920 | J31: =SUM(แผนงานเคหะและชุมชน!H6) -> 1663560 | O31: =SUM(D31:N31) -> 9815400
C32: (2) เงินเพิ่มต่างๆ ของพนักงานเทศบาล | E32: =SUM(แผนงานบริหารทั่วไป!H97) -> 84000 | G32: 0 | O32: =SUM(D32:N32) -> 84000
C33: (3) เงินเพิ่มตามวุฒิพนักงานเทศบาล | G33: 0 | O33: =SUM(D33:N33) -> 0
C34: (4) เงินประจำตำแหน่งปลัดเทศบาล/รองปลัดเทศบาล/หัวหน้าส่วนราชการและหัวฝ่าย | E34: =SUM(แผนงานบริหารทั่วไป!H110,แผนงานบริหารทั่วไป!H863) -> 246000 | F34: 0 | H34: =SUM(แผนงานสาธารณสุข!H26) -> 60000 | J34: =SUM(แผนงานเคหะและชุมชน!H19) -> 60000 | O34: =SUM(D34:N34) -> 366000
C35: (5) ค่าจ้างลูกจ้างประจำ | E35: =SUM(แผนงานบริหารทั่วไป!H880) -> 442140 | F35: =SUM(แผนงานรักษาความสงบภายใน!H22) -> 439200 | H35: =SUM(แผนงานสาธารณสุข!H43) -> 203520 | J35: =SUM(แผนงานเคหะและชุมชน!H38) -> 199800 | O35: =SUM(D35:N35) -> 1284660
C36: (6) เงินเพิ่มต่าง ๆ ของลูกจ้างประจำ | F36: 0 | O36: =SUM(D36:N36) -> 0
C37: (7) ค่าตอบแทนพนักงานจ้าง | E37: =SUM(แผนงานบริหารทั่วไป!H128,แผนงานบริหารทั่วไป!H885) -> 324120 | G37: =SUM(แผนงานการศึกษา!H88) -> 352800 | H37: =SUM(แผนงานสาธารณสุข!H52) -> 150240 | J37: =SUM(แผนงานเคหะและชุมชน!H42) -> 453600 | O37: =SUM(D37:N37) -> 1280760
C38: (8) เงินเพิ่มต่าง ๆของพนักงานจ้าง | E38: =SUM(แผนงานบริหารทั่วไป!H140) -> 4020 | F38: 0 | G38: =SUM(แผนงานการศึกษา!H100) -> 60000 | H38: =SUM(แผนงานสาธารณสุข!H62) -> 9900 | J38: =SUM(แผนงานเคหะและชุมชน!H53) -> 26940 | O38: =SUM(D38:N38) -> 100860 | P38: =SUM(O31:O38) -> 12931680
A39: แผนงาน | D39: แผนงานงบกลาง | E39: แผนงานบริหารทั่วไป | F39: แผนงานการรักษาความสงบภายใน | G39: แผนงานการศึกษา | H39: แผนงานสาธารณสุข | I39: แผนงานสังคมสงเคราะห์ | J39: แผนงานเคหะและชุมชน | K39: แผนงานสร้างความเข้มแข็งของชุมชน | L39: แผนงานศาสนาวัฒนธรรมและนันทนาการ | M39: แผนงานการเกษตร | N39: แผนงานการพานิชย์ | O39: รวม
A40: งบ/หมวด/ประเภทรายจ่าย
