Workbook

Sheet คำแถลงงบประมาณ
A1: คำแถลงงบประมาณ
A2: ประกอบงบประมาณรายจ่ายประจำปีงบประมาณ พ.ศ. 2562
A4: ท่านประธานสภาฯ และสมาชิกสภาเทศบาลตำบลแวงใหญ่
A5: บัดนี้ ถึงเวลาที่คณะผู้บริหารเทศบาลตำบลแวงใหญ่ จะได้เสนอร่างเทศบัญญัติงบประมาณรายจ่าย
A6: ประจำปีต่อสภาเทศบาลตำบลแวงใหญ่อีกครั้งหนึ่ง ฉะนั้น ในโอกาสนี้คณะผู้บริหารเทศบาลตำบลแวงใหญ่
A7: จึงขอชี้แจงให้ท่านประธานและสมาชิกทุกท่านได้ทราบถึงสถานะการคลัง ตลอดจนหลักการและแนวนโยบาย
A8: การดำเนินการ ในปีงบประมาณ พ.ศ.2562 ดังต่อไปนี้
A9: 1. สถานะการคลัง
A10: 1.1 งบประมาณรายจ่ายทั่วไป
A11: ในปีงบประมาณ พ.ศ.2561 ณ วันที่ 30 มิถุนายน 2561 เทศบาลตำบลแวงใหญ่ มีสถานะการเงินดังนี้
A12: 1.1.1 เงินฝากธนาคาร จำนวน 60,666,973.66 บาท
A13: 1.1.2 เงินสะสม จำนวน 41,776,138.10 บาท
... A18: 2. การบริหารงบประมาณในปีงบประมาณ 2560
A19: (1) รายรับจริง จำนวน | B19: =SUM(B20:B29) -> 35369571 | C19: บาท ประกอบด้วย
A20: หมวดภาษีอากร | B20: 650981.3 | C20: บาท
A21: หมวดค่าธรรมเนียม ค่าปรับ และใบอนุญาต | B21: 182797 | C21: บาท
A22: หมวดรายได้จากทรัพย์สิน | B22: 736986.74 | C22: บาท
A23: หมวดรายได้จากสาธารณูปโภคและการพาณิชย์ | B23: - | C23: บาท
A24: หมวดรายได้เบ็ดเตล็ด | B24: 115466.76 | C24: บาท
A25: หมวดรายได้จากทุน | B25: - | C25: บาท
A26: หมวดภาษีจัดสรร | B26: 17365501 | C26: บาท
A27: หมวดเงินอุดหนุนทั่วไป | B27: 16317838 | C27: บาท
A29: (2) เงินอุดหนุนที่รัฐบาลให้โดยระบุวัตถุประสงค์ | B29: 0 | C29: บาท
A33: (3) รายจ่ายจริง จำนวน | B33: =SUM(B34:B44) -> 28213214 | C33: บาท ประกอบด้วย
A34: งบกลาง | B34: 7435047.8 | C34: บาท
A35: งบบุคลากร | B35: 10244693 | C35: บาท
A36: งบดำเนินงาน | B36: 6579647.3 | C36: บาท
A37: งบลงทุน | B37: 213450 | C37: บาท
A38: งบรายจ่ายอื่น | B38: - | C38: บาท
A39: งบเงินอุดหนุน | B39: 1944397.9 | C39: บาท
A40: (4) รายจ่ายที่จ่ายจากเงินอุดหนุนที่รัฐบาลให้โดยระบุวัตถุประสงค์ | B40: 0 | C40: บาท
A41: (5) รายจ่ายที่จ่ายจากเงินสะสม | B41: 1795978.2 | C41: บาท
A42: (6) รายจ่ายที่จ่ายจากเงินทุนสำรองเงินสะสม | B42: - | C42: บาท
A65: คำแถลงงบประมาณ
A66: ประจำปีงบประมาณ พ.ศ. 2562
A67: เทศบาลตำบลแวงใหญ่
A68: อำเภอแวงใหญ่ จังหวัดขอนแก่น
A69: 2.1 รายรับ
A71: รายรับ | B71: รายรับจริง | C71: ประมาณการ | D71: ประมาณการ
B72: ปี 2560 | C72: ปี 2561 | D72: ปี 2562
A73: รายได้จัดเก็บเอง
A74: หมวดภาษีอากร | B74: 633038.99 | C74: 658000 | D74: =SUM(รายละเอียดประมาณการรายรับ!F8) -> 650000
A75: หมวดค่าธรรมเนียม ค่าปรับ และใบอนุญาต | B75: 397828 | C75: 355655 | D75: =SUM(รายละเอียดประมาณการรายรับ!F22) -> 350000
A76: หมวดรายได้จากทรัพย์สิน | B76: 1245910 | C76: 1230000 | D76: =SUM(รายละเอียดประมาณการรายรับ!F70) -> 1230000
A77: หมวดรายได้จากสาธาณูปโภคและการพานิชย์ | B77: 0 | C77: - | D77: -
A78: หมวดรายได้เบ็ดเตล็ด | B78: 247723.05 | C78: 288120 | D78: =SUM(รายละเอียดประมาณการรายรับ!F78) -> 250000
A79: หมวดรายได้จากทุน | B79: 0 | D79: -
A80: รวมรายได้จัดเก็บเอง | B80: =SUM(B74:B79) -> 2524500 | C80: =SUM(C74:C79) -> 2531775 | D80: =SUM(D74:D79) -> 2480000
A81: รายได้ที่รัฐบาลจัดเก็บแล้วจัดสรรให้องค์กรปกครองส่วนท้องถิ่น
A82: หมวดภาษีจัดสรร | B82: 20880909 | C82: 23563090 | D82: =SUM(รายละเอียดประมาณการรายรับ!F92) -> 20881000
A84: รวมรายได้ที่รัฐบาลจัดเก็บแล้วจัดสรรให้องค์กรปกครองส่วนท้องถิ่น | B84: =SUM(B82) -> 20880909 | C84: =SUM(C82) -> 23563090 | D84: =SUM(D82) -> 20881000
A86: รายได้ที่รัฐบาลอุดหนุนให้องค์กรปกครองส่วนท้องถิ่น
A87: หมวดเงินอุดหนุนทั่วไป | B87: 7542905 | C87: 18867175 | D87: =SUM(รายละเอียดประมาณการรายรับ!F116) -> 19331260
A88: - เงินอุดหนุนระบุวัตถุประสงค์ | B88: 11397657
A89: รวมรายได้ที่รัฐบาลจัดเก็บแล้วจัดสรรให้องค์กรปกครองส่วนท้องถิ่น | B89: =SUM(B87:B88) -> 18940562 | C89: =SUM(C87) -> 18867175 | D89: =SUM(D87) -> 19331260
A90: รวม | B90: =SUM(B80,B84,B89) -> 42345971 | C90: =SUM(C80,C82,C87) -> 44962040 | D90: =SUM(D80,D84,D89) -> 42692260
A95: คำแถลงงบประมาณ
A96: ประกอบงบประมาณรายจ่ายประจำปีงบประมาณ พ.ศ. 2562
A98: 2.2 รายจ่าย
A100: รายจ่าย | B100: รายจ่ายจริง | C100: ประมาณการ | D100: ประมาณการ
B101: ปี 2560 | C101: ปี 2561 | D101: ปี 2562
A102: จ่ายจากงบประมาณ
A103: งบกลาง | B103: 9069335.1 | C103: 10031076 | D103: =SUM(เทศบัญญัติงบประมาณรายจ่าย!P13) -> 10597642 | E103: =SUM([1]แผนงานบริหารทั่วไป!#REF!) -> #REF!
A104: งบบุคลากร (หมวดเงินเดือน ค่าจ้างประจำ และค่าจ้างชั่วคราว) | B104: 13334282 | C104: 14928660 | D104: =SUM(เทศบัญญัติงบประมาณรายจ่าย!P24,เทศบัญญัติงบประมาณรายจ่าย!P38) -> 15324480
A105: งบดำเนินงาน (หมวดค่าตอบแทน ใช้สอยและวัสดุ และหมวดค่าสาธารณูปโภค) | B105: 10636532 | C105: 12462504 | D105: =SUM(เทศบัญญัติงบประมาณรายจ่าย!P45,เทศบัญญัติงบประมาณรายจ่าย!P60,เทศบัญญัติงบประมาณรายจ่าย!P90,เทศบัญญัติงบประมาณรายจ่าย!P95) -> 13163058 | E105: =SUM([1]แผนงานบริหารทั่วไป!I56,[1]แผนงานบริหารทั่วไป!I337,[1]แผนงานบริหารทั่วไป!#REF!,[1]แผนงานบริหารทั่วไป!#REF!,[1]แผนงานบริหารทั่วไป!#REF!,[1]แผนงานบริหารทั่วไป!#REF!,[1]แผนงานบริหารทั่วไป!#REF!,[1]แผนงานบริหารทั่วไป!#REF!,[1]แผนงานบริหารทั่วไป!#REF!,[1]แผนงานบริหารทั่วไป!#REF!,[1]แผนงานบริหารทั่วไป!#REF!,[1]แผนงานบริหารทั่วไป!#REF!,[1]แผนงานบริหารทั่วไป!#REF!,[1]แผนงานบริหารทั่วไป!#REF!) -> #REF!
A106: งบลงทุน (หมวดค่าครุภัณฑ์ ที่ดินและสิ่งก่อสร้าง) | B106: 3964235 | C106: 4727800 | D106: =SUM(เทศบัญญัติงบประมาณรายจ่าย!P115,เทศบัญญัติงบประมาณรายจ่าย!P116) -> 1031080
A107: งบรายจ่ายอื่น (หมวดรายจ่ายอื่น) | B107: - | C107: -
A108: งบเงินอุดหนุน (หมวดเงินอุดหนุน) | B108: 2128544.6 | C108: 2812000 | D108: =SUM(เทศบัญญัติงบประมาณรายจ่าย!P126) -> 2576000 | E108: =SUM([1]แผนงานบริหารทั่วไป!#REF!,[1]แผนงานบริหารทั่วไป!I405,[1]แผนงานบริหารทั่วไป!#REF!,[1]แผนงานบริหารทั่วไป!#REF!,[1]แผนงานบริหารทั่วไป!#REF!) -> #REF!
A110: รวมจ่ายจากงบประมาณ | B110: =SUM(B103:B108) -> 39132929 | C110: =SUM(C103:C108) -> 44962040 | D110: =SUM(D103:D108) -> 42692260 | E110: =SUM(E103:E108) -> #REF!
A111: รวม | B111: =SUM(B110) -> 39132929 | C111: =SUM(C110) -> 44962040 | D111: =SUM(D110) -> 42692260
A126: 2.3 รายละเอียดการจ่ายบางรายการที่จำเป็นต้องใช้ในการบริหารกิจการขององค์กร ในปีงบประมาณ
A127: พ.ศ. 2561
A128: ก. ค่าใช้จ่ายในการบริหารบุคลากร (ที่ตั้งจ่ายจากรายได้ไม่รวมเงินอุดหนุนทุกประเภท)
A129: (1) เงินเดือนข้าราชการ พนักงานส่วนท้องถิ่น | B129: ตั้งจ่ายรวมทั้งสิ้น | C129: =SUM(เทศบัญญัติงบประมาณรายจ่าย!O31) -> 9815400 | D129: บาท
A130: (2) ค่าจ้างลูกจ้างประจำ | B130: ตั้งจ่ายรวมทั้งสิ้น | C130: =SUM(เทศบัญญัติงบประมาณรายจ่าย!O35) -> 1284660 | D130: บาท
A131: (3) ค่าจ้างพนักงานจ้าง | B131: ตั้งจ่ายรวมทั้งสิ้น | C131: =SUM(เทศบัญญัติงบประมาณรายจ่าย!O37) -> 1280760 | D131: บาท
A132: (4) ค่ารักษาพยาบาล | B132: ตั้งจ่ายรวมทั้งสิ้น | C132: 0 | D132: บาท
A133: (5) ค่าเช่าบ้าน | B133: ตั้งจ่ายรวมทั้งสิ้น | C133: =SUM(เทศบัญญัติงบประมาณรายจ่าย!O44) -> 306200 | D133: บาท
A134: (6) เงินช่วยเหลือการศึกษาบุตร | B134: ตั้งจ่ายรวมทั้งสิ้น | C134: =SUM(เทศบัญญัติงบประมาณรายจ่าย!O45) -> 243000 | D134: บาท
A135: (7) เงินช่วยเหลือบุตร | B135: ตั้งจ่ายรวมทั้งสิ้น | C135: - | D135: บาท
A136: (8) เงินประจำตำแหน่งต่าง ๆ | B136: ตั้งจ่ายรวมทั้งสิ้น | C136: =SUM(เทศบัญญัติงบประมาณรายจ่าย!O34) -> 366000 | D136: บาท
A137: (9) เงินสมทบกองทุนประกันสังคม | B137: ตั้งจ่ายรวมทั้งสิ้น | C137: =SUM(แผนงานงบกลาง!H19) -> 53535 | D137: บาท
A138: (10) เงินสมทบ กบท. | B138: ตั้งจ่ายรวมทั้งสิ้น | C138: =SUM(แผนงานงบกลาง!H171) -> 467220 | D138: บาท
A139: (11) เงินตอบแทนพิเศษ (โบนัส) | B139: ตั้งจ่ายรวมทั้งสิ้น | C139: 546496 | D139: บาท
A140: (12) เงินเพิ่มต่าง ๆ | B140: ตั้งจ่ายรวมทั้งสิ้น | C140: =SUM(เทศบัญญัติงบประมาณรายจ่าย!O32,เทศบัญญัติงบประมาณรายจ่าย!O38) -> 184860 | D140: บาท
A142: รวมเป็นเงินทั้งสิ้น | C142: =SUM(C129:C141) -> 14548131 | D142: บาท
A144: = | B144: =SUM(C142) -> 14548131 | C144: x 100
B145: =SUM(สรุปรับต่างจาย!B4) -> 42692260
A146: คิดเป็นร้อยละ | B146: =SUM(B144)*100/B145 -> 34.076741
A173: ,

Sheet หลักการและเหตุผล
B1: บันทึกหลักการและเหตุผล
B2: ประกอบร่างเทศบัญญัติ งบประมาณรายจ่าย
B3: ประจำปีงบประมาณ พ.ศ.2562
B4: ของ เทศบาลตำบลแวงใหญ่
B5: อำเภอแวงใหญ่ จังหวัดขอนแก่น
B7: ด้าน | D7: ยอดรวม
B8: ด้านบริหารงานทั่วไป | D8: =SUM(D9:D10) -> 14752808
C9: แผนงานบริหารงานทั่วไป | D9: =SUM(แผนงานบริหารทั่วไป!H7) -> 13233378
C10: แผนงานการรักษาความสงบภายใน | D10: =SUM(แผนงานรักษาความสงบภายใน!H1) -> 1519430
B11: ด้านบริการชุมชนและสังคม | D11: =SUM(D12:D17) -> 17221810
C12: แผนงานการศึกษา | D12: =SUM(แผนงานการศึกษา!H1) -> 6214625
C13: แผนงานสาธารณสุข | D13: =SUM(แผนงานสาธารณสุข!H1) -> 5402450
C14: แผนงานสังคมสงเคราะห์ | D14: =SUM(แผนงานสังคมสงเคราะห์!H1) -> 90000
C15: แผนงานเคหะและชุมชน | D15: =SUM(แผนงานเคหะและชุมชน!H1) -> 4584735
C16: แผนงานสร้างความเข้มแข็งของชุมชน | D16: =SUM(แผนงานสร้างความเข้มแข็งของชุมชน!H1) -> 215000
C17: แผนงานการศาสนา วัฒนธรรม และนันทนาการ | D17: =SUM(แผนงานศาสนาวัฒนธรรมและนันทนาการ!H1) -> 715000
B18: ด้านเศรษฐกิจ | D18: =SUM(D19:D20) -> 120000
C19: แผนงานการเกษตร | D19: =SUM(แผนงานการเกษตร!H1) -> 70000
C20: แผนงานการพาณิชย์ | D20: =SUM(แผนงานการพาณิชย์!H1) -> 50000
B21: ด้านการดำเนินงานอื่น | D21: =SUM(D22) -> 10597642
C22: แผนงานงบกลาง | D22: =SUM(แผนงานงบกลาง!H1) -> 10597642
B24: งบประมาณรายจ่ายทั้งสิ้น | D24: =SUM(D8,D11,D18,D21) -> 42692260

Sheet รายจ่ายตามงานและงบรายจ่าย
A1: รายจ่ายตามงานและงบรายจ่าย
A2: เทศบาลตำบลแวงใหญ่
A3: อำเภอแวงใหญ่ จังหวัดขอนแก่น
A5: แผนงานบริหารงานทั่วไป
A6: งาน งบ | C6: งานบริหารทั่วไป | D6: งานวางแผนสถิติและวิชาการ | E6: งานบริหารงานคลัง | F6: รวม
A8: งบบุคลากร | C8: =SUM(C9:C10) -> 6372660 | D8: =SUM(D9:D10) -> 336360 | E8: =SUM(E9:E10) -> 2074260 | F8: =SUM(F9:F10) -> 8783280
B9: เงินเดือน(ฝ่ายการเมือง) | C9: =SUM(แผนงานบริหารทั่วไป!H11) -> 2392800 | D9: 0 | E9: 0 | F9: =SUM(รายงานประมาณการรายจ่าย!H21) -> 2392800
B10: เงินเดือน(ฝ่ายประจำ) | C10: =SUM(แผนงานบริหารทั่วไป!H72) -> 3979860 | D10: =SUM(แผนงานบริหารทั่วไป!H751) -> 336360 | E10: =SUM(แผนงานบริหารทั่วไป!H850) -> 2074260 | F10: =SUM(C10:E10) -> 6390480
A11: งบดำเนินงาน | C11: =SUM(C12:C15) -> 3224253 | D11: =SUM(D12:D15) -> 98015 | E11: =SUM(E12:E15) -> 1027430 | F11: =SUM(F12:F15) -> 4349698
B12: ค่าตอบแทน | C12: =SUM(แผนงานบริหารทั่วไป!H157) -> 395353 | D12: =SUM(แผนงานบริหารทั่วไป!H763) -> 14015 | E12: =SUM(แผนงานบริหารทั่วไป!H896) -> 280430 | F12: =SUM(C12:E12) -> 689798
B13: ค่าใช้สอย | C13: =SUM(แผนงานบริหารทั่วไป!H226) -> 1742500 | D13: =SUM(แผนงานบริหารทั่วไป!H782) -> 84000 | E13: =SUM(แผนงานบริหารทั่วไป!H959) -> 357000 | F13: =SUM(C13:E13) -> 2183500
B14: ค่าวัสดุ | C14: =SUM(แผนงานบริหารทั่วไป!H450) -> 591400 | D14: 0 | E14: =SUM(แผนงานบริหารทั่วไป!H1028) -> 140000 | F14: =SUM(C14:E14) -> 731400
B15: ค่าสาธารณูปโภค | C15: =SUM(แผนงานบริหารทั่วไป!H658) -> 495000 | D15: 0 | E15: =SUM(แผนงานบริหารทั่วไป!H1146) -> 250000 | F15: =SUM(C15:E15) -> 745000
A16: งบลงทุน | C16: =SUM(C17:C18) -> 61400 | D16: =SUM(D17) -> 0 | E16: =SUM(E17) -> 39000 | F16: =SUM(C16:E16) -> 100400
B17: ค่าครุภัณฑ์ | C17: =SUM(แผนงานบริหารทั่วไป!H702) -> 61400 | D17: 0 | E17: =SUM(แผนงานบริหารทั่วไป!H1167) -> 39000 | F17: =SUM(C17:E17) -> 100400
B18: ค่าที่ดินและสิ่งก่อสร้าง | D18: - | E18: - | F18: =SUM(C18:E18) -> 0
A19: งบรายจ่ายอื่น
B20: รายจ่ายอื่น
A21: งบเงินอุดหนุน | D21: =SUM(D22) -> 0 | F21: =SUM(C21:E21) -> 0
B22: เงินอุดหนุน | D22: 0
A23: รวม | C23: =SUM(C8,C11,C16,C21) -> 9658313 | D23: =SUM(D8,D11,D16,D21) -> 434375 | E23: =SUM(E8,E11,E16,E21) -> 3140690 | F23: =SUM(F8,F11,F16,F19,F21) -> 13233378
A40: แผนงานการรักษาความสงบภายใน
A41: งาน งบ | C41: งานบริหารทั่วไปเกี่ยวกับการรักษาความสงบภายใน | D41: งานป้องกันภัยฝ่ายพลเรือนและระงับอัคคีภัย | E41: รวม
A43: งบบุคลากร | C43: =SUM(C44:C45) -> 655920 | D43: =SUM(D44:D45) -> 0 | E43: =SUM(E44:E45) -> 655920
B44: เงินเดือน(ฝ่ายการเมือง) | C44: 0 | D44: 0 | E44: =SUM(B44:D44) -> 0
B45: เงินเดือน(ฝ่ายประจำ) | C45: =SUM(แผนงานรักษาความสงบภายใน!H5) -> 655920 | D45: =SUM(แผนงานรักษาความสงบภายใน!I5) -> 0 | E45: =SUM(B45:D45) -> 655920
A46: งบดำเนินงาน | C46: =SUM(C47:C50) -> 535110 | D46: =SUM(D47:D50) -> 315000 | E46: =SUM(E47:E50) -> 850110
B47: ค่าตอบแทน | C47: =SUM(แผนงานรักษาความสงบภายใน!H44) -> 55110 | D47: =SUM(แผนงานรักษาความสงบภายใน!H87) -> 70000 | E47: =SUM(B47:D47) -> 125110
B48: ค่าใช้สอย | C48: =SUM(แผนงานรักษาความสงบภายใน!H73) -> 480000 | D48: =SUM(แผนงานรักษาความสงบภายใน!H112) -> 75000 | E48: =SUM(B48:D48) -> 555000
B49: ค่าวัสดุ | D49: =SUM(แผนงานรักษาความสงบภายใน!H175) -> 170000 | E49: =SUM(B49:D49) -> 170000
B50: ค่าสาธารณูปโภค | E50: =SUM(B50:D50) -> 0
A51: งบลงทุน | C51: =SUM(C52) -> 0 | D51: =SUM(D52:D53) -> 13400 | E51: =SUM(E52:E53) -> 13400
B52: ค่าครุภัณฑ์ | D52: =SUM(แผนงานรักษาความสงบภายใน!H219) -> 13400 | E52: =SUM(B52:D52) -> 13400
B53: ค่าที่ดินและสิ่งก่อสร้าง | E53: =SUM(D53) -> 0
A54: งบรายจ่ายอื่น | C54: - | D54: - | E54: -
B55: รายจ่ายอื่น | C55: - | D55: - | E55: -
A56: งบเงินอุดหนุน | C56: =SUM(C57) -> 0 | D56: =SUM(D57) -> 0 | E56: =SUM(E57) -> 0
B57: เงินอุดหนุน | E57: =SUM(B57:D57) -> 0
A58: รวม | C58: =SUM(C43,C46,C51,C56) -> 1191030 | D58: =SUM(D43,D46,D51,D56) -> 328400 | E58: =SUM(E43,E46,E51,E56) -> 1519430
A70: แผนงานการศึกษา
A71: งาน งบ | C71: งานบริหารทั่วไปเกี่ยวกับการศึกษา | E71: งานระดับก่อนวัยเรียนและประถมศึกษา | F71: รวม
A73: งบบุคลากร | C73: =SUM(C74:C75) -> 318000 | E73: =SUM(E74:E75) -> 1231800 | F73: =SUM(C73:E73) -> 1549800
B74: เงินเดือน(ฝ่ายการเมือง) | F74: =SUM(B74:D74) -> 0
B75: เงินเดือน(ฝ่ายประจำ) | C75: =SUM(แผนงานการศึกษา!H5) -> 318000 | E75: =SUM(แผนงานการศึกษา!H69) -> 1231800 | F75: =SUM(C75:E75) -> 1549800
A76: งบดำเนินงาน | C76: =SUM(C77:D80) -> 171185 | E76: =SUM(E77:E80) -> 2156060 | F76: =SUM(C76:E76) -> 2327245
B77: ค่าตอบแทน | C77: =SUM(แผนงานการศึกษา!H25) -> 87185 | E77: =SUM(แผนงานการศึกษา!H120) -> 75000 | F77: =SUM(C77:E77) -> 162185
B78: ค่าใช้สอย | C78: =SUM(แผนงานการศึกษา!H55) -> 84000 | E78: =SUM(แผนงานการศึกษา!H129) -> 873620 | F78: =SUM(C78:E78) -> 957620
B79: ค่าวัสดุ | E79: =SUM(แผนงานการศึกษา!H295) -> 1119240 | F79: =SUM(C79:E79) -> 1119240
B80: ค่าสาธารณูปโภค | C80: 0 | E80: =SUM(แผนงานการศึกษา!H467) -> 88200 | F80: =SUM(E80) -> 88200
A81: งบลงทุน | C81: =SUM(C82:C83) -> 0 | E81: =SUM(E82:E83) -> 441580 | F81: =SUM(C81:E81) -> 441580
B82: ค่าครุภัณฑ์ | C82: 0 | E82: =SUM(แผนงานการศึกษา!H507) -> 95200 | F82: =SUM(C82:E82) -> 95200
B83: ค่าที่ดินและสิ่งก่อสร้าง | E83: =SUM(แผนงานการศึกษา!H529) -> 346380 | F83: =SUM(C83:E83) -> 346380
A84: งบรายจ่ายอื่น | C84: - | E84: - | F84: -
B85: รายจ่ายอื่น | C85: - | E85: - | F85: -
A86: งบเงินอุดหนุน | C86: =SUM(C87) -> 0 | E86: =SUM(E87) -> 1896000 | F86: =SUM(C86:E86) -> 1896000
B87: เงินอุดหนุน | E87: =SUM(แผนงานการศึกษา!H570) -> 1896000 | F87: =SUM(C87:E87) -> 1896000
A89: รวม | C89: =SUM(C73,C76,C81,C86) -> 489185 | E89: =SUM(E73,E76,E81,E86) -> 5725440 | F89: =SUM(F73,F76,F81,F86) -> 6214625
A100: แผนงานสาธารณสุข
A101: งาน งบ | C101: งานบริหารทั่วไปเกี่ยวกับสาธารณสุข | D101: งานบริการสาธารณสุขและงานสาธารณสุขอื่น | E101: รวม
A103: งบบุคลากร | C103: =SUM(C104:C105) -> 1931580 | D103: =SUM(D104:D105) -> 0 | E103: =SUM(E104:E105) -> 1931580
B104: เงินเดือน(ฝ่ายการเมือง) | C104: 0 | D104: 0 | E104: =SUM(C104) -> 0
B105: เงินเดือน(ฝ่ายประจำ) | C105: =SUM(แผนงานสาธารณสุข!H5) -> 1931580 | D105: 0 | E105: =SUM(C105) -> 1931580
A106: งบดำเนินงาน | C106: =SUM(C107:C110) -> 2954170 | D106: =SUM(D107:D110) -> 320000 | E106: =SUM(C106:D106) -> 3274170
B107: ค่าตอบแทน | C107: =SUM(แผนงานสาธารณสุข!H90) -> 232170 | E107: =SUM(C107) -> 232170
B108: ค่าใช้สอย | C108: =SUM(แผนงานสาธารณสุข!H139) -> 2312000 | D108: =SUM(แผนงานสาธารณสุข!H449) -> 320000 | E108: =SUM(C108:D108) -> 2632000
B109: ค่าวัสดุ | C109: =SUM(แผนงานสาธารณสุข!H208) -> 410000 | D109: 0 | E109: =SUM(C109) -> 410000
B110: ค่าสาธารณูปโภค | C110: 0 | D110: 0 | E110: =SUM(C110) -> 0
A111: งบลงทุน | C111: =SUM(C112) -> 0 | D111: =SUM(D112:D113) -> 86700 | E111: =SUM(C111:D111) -> 86700
B112: ค่าครุภัณฑ์ | C112: 0 | D112: =SUM(แผนงานสาธารณสุข!H611) -> 86700 | E112: =SUM(C112:D112) -> 86700
B113: ค่าที่ดินและสิ่งก่อสร้าง | E113: =SUM(D113) -> 0
A114: งบรายจ่ายอื่น | C114: - | D114: - | E114: -
B115: รายจ่ายอื่น | C115: - | D115: - | E115: -
A116: งบเงินอุดหนุน | C116: =SUM(C117) -> 0 | D116: =SUM(D117) -> 110000 | E116: =SUM(E117) -> 110000
B117: เงินอุดหนุน | C117: 0 | D117: =SUM(แผนงานสาธารณสุข!H670) -> 110000 | E117: =SUM(C117:D117) -> 110000
A119: รวม | C119: =SUM(C103,C106,C111,C116) -> 4885750 | D119: =SUM(D103,D106,D111,D116) -> 516700 | E119: =SUM(E103,E106,E111,E116) -> 5402450
A129: แผนงานสังคมสงเคราะห์
A130: งาน งบ | C130: งานสวัสดิการสังคมและสังคมสงเคราะห์ | D130: รวม
A132: งบบุคลากร | C132: =SUM(C133:C134) -> 0 | D132: =SUM(D133:D134) -> 0
B133: เงินเดือน (ฝ่ายการเมือง) | D133: =SUM(A133:C133) -> 0
B134: เงินเดือน (ฝ่ายประจำ) | D134: =SUM(A134:C134) -> 0
A135: งบดำเนินงาน | C135: =SUM(C136:C139) -> 70000 | D135: =SUM(D136:D139) -> 70000
B136: ค่าตอบแทน | D136: =SUM(A136:C136) -> 0
B137: ค่าใช้สอย | C137: =SUM(แผนงานสังคมสงเคราะห์!H5) -> 70000 | D137: =SUM(A137:C137) -> 70000
B138: ค่าวัสดุ | D138: =SUM(A138:C138) -> 0
B139: ค่าสาธารณูปโภค | D139: =SUM(A139:C139) -> 0
A140: งบลงทุน | C140: =SUM(C141) -> 0 | D140: =SUM(D141) -> 0
B141: ค่าครุภัณฑ์ | D141: =SUM(A141:C141) -> 0
B142: ค่าที่ดินและสิ่งก่อสร้าง | D142: =SUM(A142:C142) -> 0
A143: งบรายจ่ายอื่น | C143: - | D143: -
B144: รายจ่ายอื่น | C144: - | D144: -
A145: งบเงินอุดหนุน | C145: =SUM(C146) -> 20000 | D145: =SUM(D146) -> 20000
B146: เงินอุดหนุน | C146: =SUM(แผนงานสังคมสงเคราะห์!H21) -> 20000 | D146: =SUM(A146:C146) -> 20000
A148: รวม | C148: =SUM(C132,C135,C140,C145) -> 90000 | D148: =SUM(D132,D135,D140,D145) -> 90000
A158: แผนงานเคหะและชุมชน
A159: งาน งบ | C159: งานบริหารทั่วไปเกี่ยวกับเคหะและชุมชน | D159: งานไฟฟ้าถนน | E159: งานกำจัดขยะมูลฝอยและสิ่งปฏิกูล | F159: งานบำบัดน้ำเสีย | G159: รวม
A161: งบบุคลากร | C161: =SUM(C162:C163) -> 2403900 | D161: =SUM(D162:D163) -> 0 | E161: =SUM(E162:E163) -> 0 | G161: =SUM(G162:G163) -> 2403900
B162: เงินเดือน (ฝ่ายการเมือง) | C162: =SUM(แผนงานบริหารทั่วไป!H329) -> 0 | D162: 0 | E162: 0 | G162: =SUM(C162:E162) -> 0
B163: เงินเดือน (ฝ่ายประจำ) | C163: =SUM(แผนงานเคหะและชุมชน!H5) -> 2403900 | E163: 0 | G163: =SUM(C163:E163) -> 2403900
A164: งบดำเนินงาน | C164: =SUM(C165:C168) -> 951835 | D164: =SUM(D165:D168) -> 400000 | E164: =SUM(E165:E168) -> 70000 | F164: =SUM(F165:F168) -> 70000 | G164: =SUM(G165:G168) -> 1491835
B165: ค่าตอบแทน | C165: =SUM(แผนงานเคหะและชุมชน!H66) -> 103835 | E165: 0 | G165: =SUM(C165:E165) -> 103835
...

Sheet เทศบัญญัติ
A1: เทศบัญญัติ
A2: งบประมาณรายจ่าย ประจำปีงบประมาณ พ.ศ. 2562
A3: เทศบาลตำบลแวงใหญ่
A4: อำเภอแวงใหญ่ จังหวัดขอนแก่น
B5: โดยที่เป็นการสมควรตั้งงบประมาณรายจ่ายประจำปีงบประมาณ พ.ศ. 2561 อาศัยอำนาจ
A6: ตามความในพระราชบัญญัติเทศบาล พ.ศ. 2496 แก้ไขเพิ่มเติมถึง (ฉบับที่ 13) พ.ศ.2552 มาตรา 65 จึงตรา
A7: เทศบัญญัติงบประมาณรายจ่ายประจำปีงบประมาณ พ.ศ. 2562 ขึ้นไว้โดยความเห็นชอบของสภาเทศบาล
A8: ตำบลแวงใหญ่ และโดยอนุมัติของผู้ว่าราชการจังหวัดขอนแก่น
B9: ข้อ 1. เทศบัญญัตินี้เรียกว่า "เทศบัญญัติงบประมาณรายจ่ายประจำปีงบประมาณ พ.ศ.2562"
B10: ข้อ 2. เทศบัญญัตินี้ให้ใช้บังคับตั้งแต่วันที่ 1 เดือน ตุลาคม พ.ศ. 2561 เป็นต้นไป
B11: ข้อ 3. งบประมาณรายจ่ายประจำปีงบประมาณ พ.ศ. 2562 เป็นจำนวนเงินรวมทั้งสิ้น
A12: =SUM(I32) -> 42692260 | B12: บาท
B13: ข้อ 4. งบประมาณรายจ่ายทั่วไป จ่ายจากรายได้จัดเก็บเอง หมวดภาษีจัดสรร และหมวดเงิน
A14: อุดหนุนทั่วไปเป็นจำนวนเงินรวมทั้งสิ้น | D14: =SUM(I32) -> 42692260 | E14: บาท | F14: โดยแยกรายละเอียดตามแผนงาน
A15: ได้ดังนี้
A16: แผนงาน | I16: ยอดรวม
A17: ด้านบริหารทั่วไป | I17: =SUM(I18:I19) -> 14752808
B18: แผนงานบริหารงานทั่วไป | I18: =SUM(แผนงานบริหารทั่วไป!H7) -> 13233378
B19: แผนงานการรักษาความสงบภายใน | I19: =SUM(แผนงานรักษาความสงบภายใน!H1) -> 1519430
A20: ด้านบริการชุมชนและสังคม | I20: =SUM(I21:I26) -> 17221810
B21: แผนงานการศึกษา | I21: =SUM(แผนงานการศึกษา!H1) -> 6214625
B22: แผนงานสาธารณสุข | I22: =SUM(แผนงานสาธารณสุข!H1) -> 5402450
B23: แผนงานสังคมสงเคราะห์ | I23: =SUM(แผนงานสังคมสงเคราะห์!H1) -> 90000
B24: แผนงานเคหะและชุมชน | I24: =SUM(แผนงานเคหะและชุมชน!H1) -> 4584735
B25: แผนงานสร้างความเข้มแข็งของชุมชน | I25: =SUM(แผนงานสร้างความเข้มแข็งของชุมชน!H1) -> 215000
B26: แผนงานศาสนา วัฒนธรรม และนันทนาการ | I26: =SUM(แผนงานศาสนาวัฒนธรรมและนันทนาการ!H1) -> 715000
A27: ด้านการเศรษฐกิจ | I27: =SUM(I28:I29) -> 120000
B28: แผนงานการเกษตร | I28: =SUM(แผนงานการเกษตร!H1) -> 70000
B29: แผนงานการพาณิชย์ | I29: =SUM(แผนงานการพาณิชย์!H1) -> 50000
A30: ด้านการดำเนินงานอื่น | I30: =SUM(I31) -> 10597642
B31: งบกลาง | I31: =SUM(แผนงานงบกลาง!H1) -> 10597642
A32: งบประมาณรายจ่ายทั้งสิ้น | I32: =SUM(I17,I20,I27,I30) -> 42692260
B36: ข้อ 5. งบประมาณรายจ่ายเฉพาะการ จ่ายจากรายได้ เป็นจำนวนรวมทั้งสิ้น 0 บาท
A37: ดังนี้
A38: งบ | I38: ยอดรวม
A39: งบกลาง | I39: 0
A40: งบบุคลากร (หมวดเงินเดือน ค่าจ้างประจำ และค่าจ้างชั่วคราว)
A41: งบดำเนินงาน (หมวดค่าตอบแทน ใช้สอยและวัสดุ และหมวดค่าสาธารณูปโภค)
A42: งบลงทุน (หมวดค่าครุภัณฑ์ที่ดินและสิ่งก่อสร้าง)
A43: งบรายจ่ายอื่น (หมวดรายจ่ายอื่น)
A44: งบเงินอุดหนุน (หมวดเงินอุดหนุน)
A45: รวมรายจ่าย | I45: 0
B47: ข้อ 6. ให้นายกเทศมนตรีตำบลแวงใหญ่ ปฏิบัติการเบิกจ่ายเงินงบประมาณที่ได้รับอนุมัติ ให้เป็นไป
A48: ตามระเบียบการเบิกจ่ายเงินของเทศบาลตำบล
B49: ข้อ 7. ให้นายกเทศมนตรีตำบลแวงใหญ่ มีหน้าที่รักษาการให้เป็นไปตามเทศบัญญัตินี้
B51: ประกาศ ณ วันที่ กันยายน พ.ศ. 2561
E53: (ลงนาม)
F54: (นายสุรพล เวียงวงษ์)
E55: นายกเทศมนตรีตำบลแวงใหญ่
B56: เห็นชอบ
A58: (ลงนาม)
A59: (นายมนตรี ชนะศักดิ์)
A60: นายอำเภอแวงใหญ่ ปฎิบัติราชการแทน
A61: ผู้ว่าราชการจังหวัดขอนแก่น
A75: หมายเหตุ อยู่ระหว่างการเสนอนายอำเภออนุมัติ

Sheet รายงานประมาณการรายรับ
A1: รายงานประมาณการรายรับ
A2: ประจำปีงบประมาณ 2562
A3: เทศบาลตำบลแวงใหญ่
A4: อำเภอแวงใหญ่ จังหวัดขอนแก่น
B6: รายรับจริง | F6: ประมาณการ
B7: ปี 2557 | C7: ปี 2558 | D7: ปี 2559 | E7: ปี 2560 | F7: ปี 2561 | G7: ยอด | H7: ปี 2562
G8: ต่าง
G9: (%)
A10: หมวดภาษีอากร
A11: (1) ภาษีโรงเรือนและที่ดิน | B11: 322738 | C11: 382319.5 | D11: 434139.5 | E11: 466090.99 | F11: 500000 | G11: =SUM(H11-F11)*100/F11 -> -6.4 | H11: =SUM(รายละเอียดประมาณการรายรับ!F9) -> 468000
A12: (2) ภาษีบำรุงท้องที่ | B12: 50447 | C12: 58748 | D12: 47353 | E12: 48017 | F12: 48000 | G12: =SUM(H12-F12)*100/F12 -> 29.166667 | H12: =SUM(รายละเอียดประมาณการรายรับ!F13) -> 62000
A13: (3) ภาษีป้าย | B13: 94321 | C13: 116423.6 | D13: 117971 | E13: 118931 | F13: 110000 | G13: =SUM(H13-F13)*100/F13 -> 9.0909091 | H13: =SUM(รายละเอียดประมาณการรายรับ!F16) -> 120000
A14: (4) อากรการฆ่าสัตว์ | B14: 0 | D14: 0 | F14: 0 | H14: 0
A15: รวมหมวดภาษีอากร | B15: =SUM(B11:B14) -> 467506 | C15: =SUM(C11:C14) -> 557491.1 | D15: =SUM(D11:D14) -> 599463.5 | E15: =SUM(E11:E14) -> 633038.99 | F15: =SUM(F11:F14) -> 658000 | G15: =SUM(H15-F15)*100/F15 -> -1.2158055 | H15: =SUM(H11:H14) -> 650000
A16: หมวดค่าธรรมเนียม ค่าปรับและใบอนุญาต
A17: (1) ค่าธรรมเนียมเกี่ยวกับการควบคุมการฆ่าสัตว์และจำหน่ายเนื้อสัตว์ | B17: 0 | C17: 0 | D17: 0 | E17: 0 | F17: 0 | G17: 0 | H17: 0
A18: (2) ค่าธรรมเนียมเกี่ยวกับพนันเพิ่ม | B18: 0 | C18: 0 | D18: 0 | E18: 0 | F18: 0 | G18: 0 | H18: 0
A19: (3) ค่าธรรมเนียมเกี่ยวกับการควบคุมอาคาร | B19: 560 | C19: 1222 | D19: 360 | E19: 520 | F19: 500 | G19: =SUM(H19-F19)*100/F19 -> 20 | H19: =SUM(รายละเอียดประมาณการรายรับ!F27) -> 600
A20: (4) ค่าธรรมเนียมเก็บขนขยะมูลฝอย | B20: 211310 | C20: 207410 | D20: 207630 | E20: 181090 | F20: 208000 | G20: =SUM(H20-F20)*100/F20 -> -12.5 | H20: =SUM(รายละเอียดประมาณการรายรับ!F31) -> 182000
A21: (5) ค่าธรรมเนียมเก็บและขนอุจจาระหรื่อสิ่งปฎิกูล | B21: - | F21: 0 | G21: 0 | H21: 0
A22: (6) ค่าธรรมเนียมในการออกหนังสือรับรองการแจ้งสถานที่จำหน่ายอาหารหรือสะสมอาหาร | B22: 13250 | C22: 8100 | D22: 9300 | E22: 7000 | F22: 10000 | G22: =SUM(H22-F22)*100/F22 -> -25 | H22: =SUM(รายละเอียดประมาณการรายรับ!F36) -> 7500
A23: (7) ค่าธรรมเนียมจดทะเบียนพาณิชย์ | D23: 1760 | E23: 1890 | F23: 2000 | G23: =SUM(H23-F23)*100/F23 -> 0 | H23: =SUM(รายละเอียดประมาณการรายรับ!F38) -> 2000
A24: (8) ค่าธรรมเนียมเกี่ยวกับทะเบียนราษฎร | B24: 2200 | C24: 2720 | D24: 1220 | E24: 2180 | F24: 1500 | G24: =SUM(H24-F24)*100/F24 -> 46.666667 | H24: =SUM(รายละเอียดประมาณการรายรับ!F41) -> 2200
A25: (9) ค่าธรรมเนียมอื่น ๆ | E25: 62320 | F25: 65000 | G25: =SUM(H25-F25)*100/F25 -> -3.0769231 | H25: =SUM(รายละเอียดประมาณการรายรับ!F44) -> 63000
A26: (10) ค่าปรับผู้กระทำผิดกฎหมายจราจรทางบก | B26: 16600 | C26: 6900 | D26: 7150 | E26: 9150 | F26: 7200 | G26: =SUM(H26-F26)*100/F26 -> 38.888889 | H26: =SUM(รายละเอียดประมาณการรายรับ!F46) -> 10000
A27: (11) ค่าปรับผู้กระทำผิดกฎหมายและข้อบังคับท้องถิ่น | B27: - | D27: 69360 | F27: 0 | H27: 0
A28: (12) ค่าปรับการผิดสัญญา | B28: 36137.6 | D28: 3596 | E28: 126535 | F28: 51455 | G28: =SUM(H28-F28)*100/F28 -> 45.175396 | H28: =SUM(รายละเอียดประมาณการรายรับ!F50) -> 74700
A29: (13) ค่าปรับอื่น ๆ | B29: - | F29: 0 | H29: 0
A30: (14) ค่าปรับใบอนุญาตรับทำการเก็บขนฯ | B30: - | F30: 0 | H30: 0
A31: (15) ค่าใบอนุญาตจัดตั้งสถานจำหน่ายอาหารฯ | B31: - | F31: 0 | H31: 0
A32: (16) ค่าใบอนุญาตจำหน่ายสินค้าในที่สาธารณะ | B32: - | F32: 0 | H32: 0
A33: (17) ค่าใบอนุญาตเกี่ยวกับการควบคุมอาคาร | B33: 3510 | C33: 5532 | D33: 3788 | E33: 2968 | F33: 5000 | G33: =SUM(H33-F33)*100/F33 -> -40 | H33: =SUM(รายละเอียดประมาณการรายรับ!F62) -> 3000
A34: (18) ค่าใบอนุญาตเกี่ยวกับการโฆษณาโดยใช้เครื่องขยายเสียง | B34: 4575 | C34: 5698 | D34: 4575 | E34: 4175 | F34: 5000 | G34: =SUM(H34-F34)*100/F34 -> 0 | H34: =SUM(รายละเอียดประมาณการรายรับ!F65) -> 5000
A35: (19) ค่าใบอนุญาตอื่น ๆ | B35: 49710 | C35: 76110 | F35: 0 | H35: =SUM(รายละเอียดประมาณการรายรับ!F67) -> 0
A36: รวมหมวดค่าธรรมเนียม ค่าปรับและใบอนุญาต | B36: =SUM(B17:B35) -> 337852.6 | C36: =SUM(C17:C35) -> 313692 | D36: =SUM(D17:D35) -> 308739 | E36: =SUM(E17:E35) -> 397828 | F36: =SUM(F17:F35) -> 355655 | G36: =SUM(H36-F36)*100/F36 -> -1.590024 | H36: =SUM(H17:H35) -> 350000
A37: หมวดรายได้จากทรัพย์สิน
A38: (1) ค่าเช่าหรือค่าบริการสถานที่ | B38: 609560 | C38: 622610 | D38: 720080 | E38: 705935 | F38: 730000 | G38: =SUM(H38-F38)*100/F38 -> -4.109589 | H38: =SUM(รายละเอียดประมาณการรายรับ!F71) -> 700000
A39: (2) ดอกเบี้ย | B39: 556438.3 | C39: 548748.47 | D39: 378729.66 | E39: 539975 | F39: 500000 | G39: =SUM(H39-F39)*100/F39 -> 6 | H39: =SUM(รายละเอียดประมาณการรายรับ!F73) -> 530000
A40: (3) รายได้จากทรัพย์สินอื่น ๆ | B40: - | C40: - | D40: - | E40: - | F40: - | G40: - | H40: -
A41: รวมหมวดรายได้จากทรัพย์สิน | B41: =SUM(B37:B39) -> 1165998.3 | C41: =SUM(C37:C39) -> 1171358.5 | D41: =SUM(D37:D39) -> 1098809.7 | E41: =SUM(E37:E39) -> 1245910 | F41: =SUM(F38:F39) -> 1230000 | G41: =SUM(H41-F41)*100/F41 -> 0 | H41: =SUM(H38:H40) -> 1230000
A42: หมวดรายได้จากสาธารณูปโภคและการพาณิชย์ | B42: 0 | C42: 0 | D42: 0 | E42: 0 | F42: 0 | G42: 0 | H42: 0
A43: รวมหมวดรายได้จากสาธารณูปโภคและการพาณิชย์ | B43: 0 | C43: 0 | D43: 0 | E43: 0 | F43: 0 | G43: 0 | H43: 0
A44: หมวดรายได้เบ็ดเตล็ด
A45: (1) เงินที่มีผู้อุทิศให้ | B45: 0 | C45: 0 | D45: 0 | E45: 0 | F45: 0 | H45: 0
A46: (2) ค่าขายแบบแปลน | B46: 98200 | C46: 48500 | D46: 205100 | E46: 26000 | F46: 28000 | G46: =SUM(H46-F46)*100/F46 -> 6.7857143 | H46: =SUM(รายละเอียดประมาณการรายรับ!F81) -> 29900
A47: (3) ค่าจำหน่ายแบบพิมพ์และคำร้อง | B47: 122 | C47: 148 | D47: 122 | E47: 106 | F47: 120 | G47: =SUM(H47-F47)*100/F47 -> -16.666667 | H47: =SUM(รายละเอียดประมาณการรายรับ!F83) -> 100
A48: (4) ค่ารายได้เบ็ดเตล็ดอื่น ๆ | B48: 317012 | C48: 242092.88 | D48: 253677 | E48: 221617.05 | F48: 260000 | G48: =SUM(H48-F48)*100/F48 -> -15.384615 | H48: =SUM(รายละเอียดประมาณการรายรับ!F85) -> 220000
A49: รวมหมวดรายได้เบ็ดเตล็ด | B49: =SUM(B45:B48) -> 415334 | C49: =SUM(C45:C48) -> 290740.88 | D49: =SUM(D45:D48) -> 458899 | E49: =SUM(E45:E48) -> 247723.05 | F49: =SUM(F45:F48) -> 288120 | G49: =SUM(H49-F49)*100/F49 -> -13.230598 | H49: =SUM(H45:H48) -> 250000
A50: หมวดรายได้จากทุน | B50: =SUM(B51) -> 0 | C50: =SUM(C51) -> 0 | D50: 0 | E50: 0 | F50: 0 | G50: 0 | H50: =SUM(H51) -> 0
A51: รวมหมวดรายได้จากทุน | B51: 0 | C51: 0 | D51: 0 | E51: 0 | F51: 0 | G51: 0 | H51: 0
A52: หมวดภาษีจัดสรร
A53: (1) ภาษีและค่าธรรมเนียมรถยนต์หรือล้อเลื่อน | B53: 0 | C53: 0 | D53: 0 | E53: 0 | F53: 1000 | G53: =SUM(H53-F53)*100/F53 -> 0 | H53: =SUM(รายละเอียดประมาณการรายรับ!F93) -> 1000
A54: (2) ภาษีมูลค่าเพิ่มตาม พ.ร.บ. จัดสรรได้ฯ | B54: 2472807.6 | C54: 3839383.8 | D54: 2569451.4 | E54: 2593006.3 | F54: 2746990 | G54: =SUM(H54-F54)*100/F54 -> -5.3509478 | H54: =SUM(รายละเอียดประมาณการรายรับ!F95) -> 2600000
A55: (3) ภาษีมูลค่าเพิ่มตาม พ.ร.บ. กำหนดแผนฯ | B55: 14914479 | C55: 13900643 | D55: 15782156 | E55: 13366802 | F55: 16000000 | G55: =SUM(H55-F55)*100/F55 -> -15.7875 | H55: =SUM(รายละเอียดประมาณการรายรับ!F97) -> 13474000
A56: (4) ภาษีธุรกิจเฉพาะ | B56: 126485.49 | C56: 121747.13 | D56: 463927.11 | E56: 112504.83 | F56: 500000 | G56: =SUM(H56-F56)*100/F56 -> -80 | H56: =SUM(รายละเอียดประมาณการรายรับ!F99) -> 100000
A57: (5) ภาษีสุรา | B57: 968621.92 | C57: 1088489.8 | D57: 1067759.2 | E57: 1082682.2 | F57: 1070000 | G57: =SUM(H57-F57)*100/F57 -> -6.5420561 | H57: =SUM(รายละเอียดประมาณการรายรับ!F101) -> 1000000
A58: (6) ภาษีสรรพสามิต | B58: 1319210.5 | C58: 1878403.4 | D58: 1952953.9 | E58: 2610746.9 | F58: 2190000 | G58: =SUM(H58-F58)*100/F58 -> 18.721461 | H58: =SUM(รายละเอียดประมาณการรายรับ!F103) -> 2600000
A59: (7) ภาษีการพนัน | B59: - | C59: - | F59: 0 | H59: 0
A60: (8 ค่าภาคหลวงแร่ | B60: 36913.15 | C60: 31443.42 | D60: 26455.33 | E60: 55287.26 | F60: 55100 | G60: =SUM(H60-F60)*100/F60 -> 1.6333938 | H60: =SUM(รายละเอียดประมาณการรายรับ!F107) -> 56000
A61: (9) ค่าภาคหลวงปิโตรเลียม | B61: 269860.07 | C61: 260710.75 | D61: 182994.29 | E61: 159356.81 | F61: 200000 | G61: =SUM(H61-F61)*100/F61 -> -25 | H61: =SUM(รายละเอียดประมาณการรายรับ!F109) -> 150000
A62: (10) ค่าธรรมเนียมจดทะเบียนสิทธิและนิติกรรมตามประมวลกฏหมายที่ดิน | B62: 890688 | C62: 876251 | D62: 800918 | E62: 900523 | F62: 800000 | G62: =SUM(H62-F62)*100/F62 -> 12.5 | H62: =SUM(รายละเอียดประมาณการรายรับ!F112) -> 900000
A63: (11) ภาษีจัดสรรอื่น ๆ | B63: 0 | C63: 0 | D63: 0 | E63: 0 | F63: 0 | H63: 0
A64: รวมหมวดภาษีจัดสรร | B64: =SUM(B53:B62) -> 20999066 | C64: =SUM(C53:C62) -> 21997072 | D64: =SUM(D53:D62) -> 22846616 | E64: =SUM(E53:E62) -> 20880909 | F64: =SUM(F53:F62) -> 23563090 | G64: =SUM(H64-F64)*100/F64 -> -11.38259 | H64: =SUM(H53:H63) -> 20881000
A65: หมวดเงินอุดหนุนทั่วไป
A66: (1) เงินอุดหนุนทั่วไปสำหรับดำเนินการตามอำนาจหน้าที่และภารกิจถ่ายโอนเลือกทำ | B66: 12280679 | C66: 11926844 | D66: 10281659 | E66: 7542905 | F66: 7670000 | G66: =SUM(H66-F66)*100/F66 -> -4.8239896 | H66: =SUM(รายละเอียดประมาณการรายรับ!F118) -> 7300000
A67: (2) เงินอุดหนุนที่รัฐบาลอุดหนุนให้โดยระบุวัตถุประสงค์ | D67: =SUM(D68:D79) -> 9239145
A68: 1)เงินอุดหนุนสำหรับสนับสนุนอาหารเสริม (นม) | D68: 0 | E68: 920656 | F68: 920651 | G68: 100 | H68: =SUM(รายละเอียดประมาณการรายรับ!F120) -> 989766
A69: 2) เงินอุดหนุนสำหรับสนับสนุนอาหารกลางวัน | E69: 1991920 | F69: 1991920 | G69: 100 | H69: =SUM(รายละเอียดประมาณการรายรับ!F122) -> 2094940
A70: 3) เงินอุดหนุนสำหรับสนับสนุนการสงเคราะห์เบี้ยยังชีพผู้ป่วยเอดส์ | E70: 36000 | F70: 36000 | G70: 100 | H70: =SUM(รายละเอียดประมาณการรายรับ!F134) -> 36000
A71: 4) เงินอุดหนุนสำหรับส่งเสริมศักยภาพการจัดการศึกษาของท้องถิ่น | F71: 18244 | H71: =SUM(รายละเอียดประมาณการรายรับ!F125:F129) -> 78757
A72: 5) เงินอุดหนุนค่าใช้จ่ายสำหรับสนับสนุนการสร้างหลักประกันรายได้ให้แก่ผู้สูงอายุ | D72: 6247100 | E72: 6209800 | F72: 6190400 | G72: 100 | H72: =SUM(รายละเอียดประมาณการรายรับ!F137) -> 6398400
A73: 6) เงินอุดหนุนค่าใช้จ่ายสำหรับสนุนสวัสดิการทางสังคมให้แก่ผู้พิการหรือทุพพลภาพ | D73: 875200 | E73: 950400 | F73: 950400 | G73: 100 | H73: =SUM(รายละเอียดประมาณการรายรับ!F140) -> 1022200
A74: 7) เงินอุดหนุนสำหรับสนุนศูนย์พัฒนาเด็กเล็ก
A75: - เงินเดือนสำหรับข้าราชการครู/ค่าตอบแทน/ประกันสังคม | D75: 1088745 | E75: 1157981 | F75: 1021560 | G75: 100 | H75: =SUM(รายละเอียดประมาณการรายรับ!F145) -> 1096830
A76: - ค่าจัดการเรียนการสอน | D76: 158100 | E76: 130900 | F76: 68000 | G76: 100 | H76: =SUM(รายละเอียดประมาณการรายรับ!F146) -> 68000
A77: - ค่าสวัสดิการประเภทค่าการศึกษาบุตรสำหรับครู คศ.1 | G77: 100
A78: - การจัดการศึกษาภาคบังคับประเภทเงินเดือนครูและค่าจ้างประจำ | H78: 80000
A79: (8) ค่าติดตั้งกล้องวงจรปิด CCTV | D79: 870000
A80: (9) การดำเนินงานตามแนวทางโครงการพระราชดำริด้านสาธารณสุข (ชุมชน-หมู่บ้านละ 20,000 บาท) | H80: 140000
A81: (10) การสำรวจข้อมูลจำนวนสัตว์และขึ้นทะเบียนสัตว์ ตามโครงการสัตว์ปลอดโรคคนปลอดภัย จากพิษสุนัขบ้า ตามปณิธานศาสตราจารย์ ดร.สมเด็จพระเจ้าลูกเธอเจ้าฟ้าจุฬาภรณ์วลัยลักษณ์ | H81: 2397
A82: (11) การขับเคลื่อนโครงการสัตว์ปลอดโรค คนปลอดภัย ตามปณิธานศาสตราจารย์ ดร.สมเด็จพระเจ้าลูกเธอเจ้าฟ้าจุฬาภรณ์วลัยลักษณ์ | H82: 23970
A83: รวมหมวดเงินอุดหนุนทั่วไป | B83: =SUM(B66:B70) -> 12280679 | C83: =SUM(C66:C70) -> 11926844 | D83: =SUM(D66:D70) -> 19520804 | E83: =SUM(E66:E82) -> 18940562 | F83: =SUM(F66:F77) -> 18867175 | G83: =SUM(H83-F83)*100/F83 -> 2.4597482 | H83: =SUM(H66:H82) -> 19331260
A84: รวมทุกหมวด | B84: =SUM(B15,B36,B41,B49,B64,B83,) -> 35666436 | C84: =SUM(C15,C36,C41,C49,C64,C83,) -> 36257199 | D84: =SUM(D15,D36,D41,D49,D64,D83,) -> 44833331 | E84: =SUM(E15,E36,E41,E49,E64,E83,) -> 42345971 | F84: =SUM(F15,F36,F41,F49,F64,F83,) -> 44962040 | G84: =SUM(H84-F84)*100/F84 -> -5.048214 | H84: =SUM(H15,H36,H41,H49,H51,H64,H83) -> 42692260

Sheet รายละเอียดประมาณการรายรับ
A1: รายงานรายละเอียดประมาณการรายรับงบประมาณรายจ่ายทั่วไป
A2: ประจำปีงบประมาณ พ.ศ. 2562
A3: เทศบาลตำบลแวงใหญ่
A4: อำเภอแวงใหญ่ จังหวัดขอนแก่น
A6: ประมาณการรายรับรวมทั้งสิ้น | E6: จำนวน | F6: =SUM(F8,F22,F70,F78,F92,F116) -> 42692260 | G6: บาท แยกเป็น
A7: รายได้จัดเก็บเอง
A8: หมวดภาษีอากร | E8: รวม | F8: =SUM(F9,F13,F16,F19) -> 650000 | G8: บาท แยกเป็น
B9: (1) ภาษีโรงเรือนและที่ดิน | E9: จำนวน | F9: 468000 | G9: บาท
B10: คำชี้แจง ประมาณการจากรายได้ที่จัดเก็บจากเจ้าของอาคารสิ่งก่อสร้างที่เข้าเกณฑ์จะต้องเสียภาษี
A11: โรงเรือนและที่ดินให้กับเทศบาลโดยตั้งรับตาม กค.1 (บัญชีรายละเอียดเกณฑ์ค้างรับภาษีโรงเรือนและที่ดิน)
A12: ผู้อยู่ในข่ายชำระภาษี
B13: (2) ภาษีบำรุงท้องที่ | E13: จำนวน | F13: 62000 | G13: บาท
B14: คำชี้แจง ประมาณการจากรายได้ที่จัดเก็บจากเจ้าของที่ดิน ซึ่งต้องชำระภาษีบำรุงท้องที่ตาม พ.ร.บ.
A15: ภาษีบำรุงท้องที่ โดยตั้งรับตาม ก.ค.1 (บัญชีรายละเอียดเกณฑ์ค้างรับภาษีบำรุงท้องที่) ผู้อยู่ในข่ายชำระภาษี
B16: (3) ภาษีป้าย | E16: จำนวน | F16: 120000 | G16: บาท
B17: คำชี้แจง ประมาณการจากรายได้จัดเก็บจากเจ้าของป้ายที่จะต้องชำระภาษีป้าย ตาม พ.ร.บ. ภาษีป้าย
A18: โดยตั้งรับตาม ก.ค.1 (บัญชีรายละเอียดเกณฑ์ค้างรับภาษีป้าย) ผู้อยู่ในข่ายชำระภาษี
B19: (4) อากรฆ่าสัตว์ | E19: จำนวน | F19: 0 | G19: บาท
B20: คำชี้แจง -ไม่ได้ประมาณการรายรับไว้-
A22: หมวดค่าธรรเนียม ค่าปรับ และใบอนุญาต | E22: รวม | F22: =SUM(F23:F67) -> 350000 | G22: บาท แยกเป็น
B23: (1) ค่าธรรมเนียมเกี่ยวกับการฆ่าสัตว์ฯ | E23: จำนวน | F23: 0 | G23: บาท
B24: คำชี้แจง -ไม่ได้ประมาณการรายรับไว้-
B25: (2) ค่าธรรมเนียมเกี่ยวกับพนันเพิ่ม | E25: จำนวน | F25: 0 | G25: บาท
B26: คำชี้แจง -ไม่ได้ประมาณการรายรับไว้-
B27: (3) ค่าธรรมเนียมเกี่ยวกับการควบคุมอาคาร | E27: จำนวน | F27: 600 | G27: บาท
B28: คำชี้แจง ประมาณการโดยคาดว่าจะได้รับจากการตรวจแบบแปลนก่อสร้างที่ประชาชนยื่นขออนุญาต
A29: ก่อสร้างอาคาร
B31: (4) ค่าธรรมเนียมเก็บขนขยะมูลฝอย | E31: จำนวน | F31: 182000 | G31: บาท
B32: คำชี้แจง ประมาณการไว้ใกล้เคียงกับรับจริงปีที่ผ่านมาและคาดการณ์เพิ่มขึ้นจากการขยายตัวของชุมชน
B33: (5) ค่าธรรมเนียมเก็บและขนอุจจาระหรือสิ่งปฏิกูล | E33: จำนวน | F33: 0 | G33: บาท
B34: คำชี้แจง -ไม่ได้ประมาณการรายรับไว้-
B35: (6) ค่าธรรมเนียมในการออกหนังสือรับรองการแจ้งสถานที่จำหน่ายหรือสะสมอาหาร
E36: จำนวน | F36: 7500 | G36: บาท
B37: คำชี้แจง ประมาณการไว้ใกล้เคียงกับรับจริงปีที่ผ่านมา
B38: (7) ค่าธรรมเนียมจดทะเบียนพาณิชย์ | E38: จำนวน | F38: 2000 | G38: บาท
B39: คำชี้แจง ประมาณการไว้ใกล้เคียงกับปีที่ผ่านมา โดยถือปฏิบัติตามกฎกระทรวง ฉบับที่ 3 (พ.ศ.2540)
A40: ออกตามความในพระราชบัญญัติทะเบียนพาณิชย์ พ.ศ.2499 ข้อ 3 อัตราค่าธรรมเนียม
B41: (8) ค่าธรรมเนียมเกี่ยวกับทะเบียนราษฎร | E41: จำนวน | F41: 2200 | G41: บาท
B42: คำชี้แจง ประมาณการไว้โดยถือปฏิบัติตามกฎกระทรวง ฉบับที่ 2 (พ.ศ.2535) ออกตามความใน
A43: พระราชบัญญัติการทะเบียนราษฎร พ.ศ. 2534 มาตรา 7 ข้อ 1 และอาศัยการรับจริงในปีงบประมาณที่ผ่านมา
B44: (9) ค่าธรรมเนียมอื่นๆ | F44: 63000 | G44: บาท
B45: คำชี้แจง ประมาณการไว้ใกล้เคียงกับรับจริงปีที่ผ่านมา
B46: (10) ค่าปรับผู้กระทำผิดกฎหมายจราจรทางบก | E46: จำนวน | F46: 10000 | G46: บาท
B47: คำชี้แจง ประมาณการไว้ใกล้เคียงกับรับจริงปีที่ผ่านมา
B48: (11) ค่าปรับผู้กระทำผิดกฎหมายและข้อบังคับท้องถิ่น | E48: จำนวน | F48: 0 | G48: บาท
B49: คำชี้แจง -ไม่ได้ประมาณการรายรับไว้-
B50: (12) ค่าปรับการผิดสัญญา | E50: จำนวน | F50: 74700 | G50: บาท
B51: คำชี้แจง ประมาณการไว้ใกล้เคียงกับรับจริงปีที่ผ่านมา
B52: (13) ค่าปรับอื่น ๆ | E52: จำนวน | F52: 0 | G52: บาท
B53: คำชี้แจง -ไม่ได้ประมาณการรายรับไว้-
B54: (14) ค่าใบอนุญาตรับทำการเก็บขนสิ่งปฏิกูลหรือ | E54: จำนวน | F54: 0 | G54: บาท
B55: มูลฝอย
B56: คำชี้แจง -ไม่ได้ประมาณการรายรับไว้-
B57: (15) ค่าใบอนุญาตจัดตั้งสถานจำหน่ายอาหารหรือ | E57: จำนวน | F57: 0 | G57: บาท
B58: สถานที่สะสมอาหารในครัวหรือพื้นที่ใดซึ่งมีพื้นที่เกิน 200 ตารางเมตร
B59: คำชี้แจง -ไม่ได้ประมาณการรายรับไว้-
B60: (16) ค่าใบอนุญาตจำหน่ายสินค้าในที่สาธารณะ | E60: จำนวน | F60: 0 | G60: บาท
B61: คำชี้แจง -ไม่ได้ประมาณการรายรับไว้-
B62: (17) ค่าใบอนุญาตเกี่ยวกับการควบคุมอาคาร | E62: จำนวน | F62: 3000 | G62: บาท
B63: คำชี้แจง ประมาณการไว้ใกล้เคียงกับรับจริงปีที่ผ่านมา
B64: (18) ค่าใบอนุญาตเกี่ยวกับการโฆษณาโดยใช้เครื่องขยายเสียง
E65: จำนวน | F65: 5000 | G65: บาท
B66: คำชี้แจง ประมาณการไว้ใกล้เคียงกับรับจริงปีที่ผ่านมา
B67: (19) ค่าใบอนุญาตอื่น ๆ | E67: จำนวน | F67: 0 | G67: บาท
B68: คำชี้แจง -ไม่ได้ประมาณการรายรับไว้-
A70: หมวดรายได้จากทรัพย์สิน | E70: รวม | F70: =SUM(F71:F73) -> 1230000 | G70: บาท แยกเป็น
B71: (1) ค่าเช่าหรือบริการสถานที่ | E71: จำนวน | F71: 700000 | G71: บาท
B72: คำชี้แจง ประมาณการไว้ใกล้เคียงกับรับจริงปีที่ผ่านมา
B73: (2) ดอกเบี้ย | E73: จำนวน | F73: 530000 | G73: บาท
B74: คำชี้แจง ประมาณการไว้ใกล้เคียงกับรับจริงปีที่ผ่านมา
A76: หมวดรายได้จากสาธารณูปโภคและการพาณิชย์ | E76: ไม่ได้ประมาณการรายรับไว้
A78: หมวดรายได้เบ็ดเตล็ด | E78: รวม | F78: =SUM(F79:F85) -> 250000 | G78: บาท แยกเป็น
B79: (1) เงินที่มีผู้อุทิศให้ | E79: จำนวน | F79: 0 | G79: บาท
B80: คำชี้แจง -ไม่ได้ประมาณการรายรับไว้-
B81: (2) ค่าขายแบบแปลน | E81: จำนวน | F81: 29900 | G81: บาท
B82: คำชี้แจง ประมาณการไว้ใกล้เคียงกับรับจริงปีที่ผ่านมา
B83: (3) ค่าจำหน่ายแบบพิมพ์และคำร้อง | E83: จำนวน | F83: 100 | G83: บาท
B84: คำชี้แจง ประมาณการไว้ใกล้เคียงกับรับจริงปีที่ผ่านมา
B85: (4) รายได้เบ็ดเตล็ดอื่น ๆ | E85: จำนวน | F85: 220000 | G85: บาท
B86: คำชี้แจง ประมาณการไว้ใกล้เคียงกับรับจริงปีที่ผ่านมา
A88: หมวดรายได้จากทุน | E88: ไม่ได้ประมาณการรายรับไว้
A91: รายได้ที่รัฐบาลเก็บแล้วจัดสรรให้องค์กรปกครองส่วนท้องถิ่น
A92: หมวดภาษีจัดสรร | E92: รวม | F92: =SUM(F93:F112) -> 20881000 | G92: บาท แยกเป็น
B93: (1) ภาษีและค่าธรรมเนียมรถยนต์หรือล้อเลื่อน | E93: จำนวน | F93: 1000 | G93: บาท
B94: คำชี้แจง ประมาณการไว้ใกล้เคียงกับที่คาดว่าจะได้รับ
B95: (2) ภาษีมูลค่าเพิ่มตาม พ.ร.บ. จัดสรรรายได้ฯ | E95: จำนวน | F95: 2600000 | G95: บาท
B96: คำชี้แจง ประมาณการไว้ใกล้เคียงกับรับจริงปีที่ผ่านมา
B97: (3) ภาษีมูลค่าเพิ่มตาม พ.ร.บ.กำหนดแผนฯ | E97: จำนวน | F97: 13474000 | G97: บาท
B98: คำชี้แจง ประมาณการไว้ใกล้เคียงกับรับจริงปีที่ผ่านมา
B99: (4) ภาษีธุรกิจเฉพาะ | E99: จำนวน | F99: 100000 | G99: บาท
B100: คำชี้แจง ประมาณการไว้ใกล้เคียงกับรับจริงปีที่ผ่านมา
B101: (5) ภาษีสุรา | E101: จำนวน | F101: 1000000 | G101: บาท
B102: คำชี้แจง ประมาณการไว้ใกล้เคียงกับรับจริงปีที่ผ่านมา
B103: (6) ภาษีสรรพสามิต | E103: จำนวน | F103: 2600000 | G103: บาท
B104: คำชี้แจง ประมาณการไว้ใกล้เคียงกับรับจริงปีที่ผ่านมา
B105: (7) ภาษีการพนัน | E105: จำนวน | F105: 0 | G105: บาท
B106: คำชี้แจง -ไม่ได้ประมาณการรายรับไว้-
B107: (8) ค่าภาคหลวงแร่ | E107: จำนวน | F107: 56000 | G107: บาท
B108: คำชี้แจง ประมาณการไว้ใกล้เคียงกับรับจริงปีที่ผ่านมา
B109: (9) ค่าภาคหลวงปิโตรเลียม | E109: จำนวน | F109: 150000 | G109: บาท
...

Sheet รายงานประมาณการรายจ่าย
A1: รายงานประมาณการรายจ่าย
A2: ประจำปีงบประมาณ พ.ศ. 2562
A3: เทศบาลตำบลแวงใหญ่
A4: อำเภอแวงใหญ่ จังหวัดขอนแก่น
B5: รายจ่ายจริง | F5: ประมาณการ
B6: ปี 2557 | C6: ปี 2558 | D6: ปี 2559 | E6: ปี 2560 | F6: ปี 2561 | G6: ยอด | H6: ปี 2562
G7: ต่าง
G8: (%)
A9: แผนงานบริหารงานทั่วไป
A10: งานบริหารทั่วไป
A11: งบบุคลากร
A12: หมวดเงินเดือน ค่าจ้างประจำ และค่าจ้างชั่วคราว
A13: เงินเดือน (ฝ่ายการเมือง)
A14: (1) เงินเดือนนายก/รองนายก | B14: 695520 | C14: 695520 | D14: 695520 | E14: 695520 | F14: 695520 | G14: =SUM(F14-H14)*100/F14 -> 0 | H14: =SUM(แผนงานบริหารทั่วไป!H12) -> 695520
A15: (2) เงินค่าตอบแทนประจำตำแหน่งนายก/รองนายก | B15: 120000 | C15: 120000 | D15: 120000 | E15: 120000 | F15: 120000 | G15: =SUM(F15-H15)*100/F15 -> 0 | H15: =SUM(แผนงานบริหารทั่วไป!H23) -> 120000
A16: (3) เงินค่าตอบแทนพิเศษนายก/รองนายก | B16: 120000 | C16: 120000 | D16: 120000 | E16: 120000 | F16: 120000 | G16: =SUM(F16-H16)*100/F16 -> 0 | H16: =SUM(แผนงานบริหารทั่วไป!H36) -> 120000
A17: (4) เงินค่าตอบแทนเลขานุการ/ที่ปรึกษานายกเทศมนตรี | B17: 198720 | C17: 198720 | D17: 198720 | E17: 198720 | F17: 198720 | G17: =SUM(F17-H17)*100/F17 -> 0 | H17: =SUM(แผนงานบริหารทั่วไป!H46) -> 198720
A18: (5) เงินค่าตอบแทนประธานสภาเทศบาล | B18: 1490400 | C18: 1454564.5 | D18: 1258560 | E18: 1258560 | F18: 1258560 | G18: =SUM(H18-F18)*100/F18 -> 0 | H18: =SUM(แผนงานบริหารทั่วไป!H57) -> 1258560
A19: รองประธานสภาเทศบาลและสมาชิกสภาเทศบาล
A21: รวมเงินเดือน (ฝ่ายการเมือง) | B21: =SUM(B14:B18) -> 2624640 | C21: =SUM(C14:C18) -> 2588804.5 | D21: =SUM(D14:D18) -> 2392800 | E21: =SUM(E14:E18) -> 2392800 | F21: =SUM(F14:F18) -> 2392800 | G21: =SUM(H21-F21)*100/F21 -> 0 | H21: =SUM(H14:H18) -> 2392800
B26: รายจ่ายจริง | F26: ประมาณการ
B27: ปี 2557 | C27: ปี 2558 | D27: ปี 2559 | E27: ปี 2560 | F27: ปี 2561 | G27: ยอด | H27: ปี 2562
G28: ต่าง
G29: (%)
A30: เงินเดือน (ฝ่ายประจำ)
A31: (1) เงินเดือนพนักงาน | B31: 2020219 | C31: 2406274.4 | D31: 2978312.1 | E31: 3139410 | F31: 3346440 | G31: =SUM(H31-F31)*100/F31 -> 6.074515 | H31: =SUM(แผนงานบริหารทั่วไป!H73) -> 3549720
A32: (2) เงินเพิ่มต่าง ๆ ของพนักงาน
A33: - เงินเพิ่มค่าครองชีพชั่วคราว | B33: 18420 | C33: 3871.08 | D33: 18570 | E33: 11790 | F33: =SUM([2]แผนงานบริหารงานทั่วไป!$E$24) -> 6660 | G33: =SUM(H33-F33)*100/F33 -> -100 | H33: 0
A34: - เงินเพิ่มค่าตอบแทนรายเดือนของปลัดเทศบาล | F34: 84000 | G34: =SUM(H34-F34)*100/F34 -> 0 | H34: =SUM(แผนงานบริหารทั่วไป!H97) -> 84000
A35: - เงินเพิ่มตามวุฒิ | C35: 0 | D35: 0 | F35: 0 | H35: 0
A36: (3) เงินประจำตำแหน่ง
A37: - เงินประจำตำแหน่งปลัดเทศบาล | B37: 134400 | C37: 134400 | D37: 159600 | E37: 168000 | F37: 84000 | G37: =SUM(H37-F37)*100/F37 -> 0 | H37: =SUM(แผนงานบริหารทั่วไป!H112) -> 84000
A38: - เงินประจำตำแหน่งรองปลัดเทศบาล,หัวหน้าสำนักปลัดเทศบาลและหัวหน้าฝ่ายธุรการ | B38: 41323 | C38: 77000 | D38: 97500 | E38: 102000 | F38: 102000 | G38: =SUM(H38-F38)*100/F38 -> 0 | H38: 102000
A39: (4) ค่าจ้างลูกจ้างประจำ | G39: 0
A40: (5) เงินเพิ่มต่าง ๆ ของลูกจ้างประจำ
A41: - เงินเพิ่มค่าครองชีพชั่วคราว
A42: (6) ค่าตอบแทนพนักงานจ้าง | B42: 220800 | C42: 134360 | D42: 140040 | E42: 144550 | F42: 149880 | G42: =SUM(H42-F42)*100/F42 -> 4.1633307 | H42: =SUM(แผนงานบริหารทั่วไป!H128) -> 156120
A43: (7) เงินเพิ่มต่าง ๆ ของพนักงานจ้าง | B43: 106060 | C43: 24000 | D43: 19380 | E43: 14870 | F43: 9540 | G43: =SUM(H43-F43)*100/F43 -> -57.861635 | H43: =SUM(แผนงานบริหารทั่วไป!H140) -> 4020
A45: รวมเงินเดือน (ฝ่ายประจำ) | B45: =SUM(B26:B43) -> 2541222 | C45: =SUM(C26:C43) -> 2779905.5 | D45: =SUM(D26:D43) -> 3413402.1 | E45: =SUM(E26:E43) -> 3580620 | F45: =SUM(F26:F43) -> 3782520 | G45: =SUM(H45-F45)*100/F45 -> 5.2171568 | H45: =SUM(H26:H43) -> 3979860
A46: รวมงบบุคลากร | B46: =SUM(B21,B45) -> 5165862 | C46: =SUM(C21,C45) -> 5368710 | D46: =SUM(D21,D45) -> 5806202.1 | E46: =SUM(E21,E45) -> 5973420 | F46: =SUM(F21,F45) -> 6175320 | G46: =SUM(H46-F46)*100/F46 -> 3.1956239 | H46: =SUM(H21,H45) -> 6372660
B50: รายจ่ายจริง | F50: ประมาณการ
B51: ปี 2557 | C51: ปี 2558 | D51: ปี 2559 | E51: ปี 2560 | F51: ปี 2561 | G51: ยอด | H51: ปี 2562
G52: ต่าง
G53: (%)
A54: งบดำเนินงาน
A55: หมวดค่าตอบแทน ใช้สอย และวัสดุ
A56: ค่าตอบแทน
A57: (1) ค่าตอบแทนผู้ปฏิบัติราชการอันเป็นประโยชน์แก่องค์กรปกครองส่วนท้องถิ่น
A58: - ค่าตอบแทนคณะกรรมการสอบสวนทางวินัย | C58: 0 | D58: 0 | E58: 0 | F58: 3000 | G58: =SUM(H58-F58)*100/F58 -> 0 | H58: =SUM(แผนงานบริหารทั่วไป!H160) -> 3000
A59: - เงินประโยชน์ตอบแทนอื่นเป็นกรณีพิเศษ | B59: 274860 | C59: 255930 | D59: 132760 | F59: 146978 | G59: =SUM(H59-F59)*100/F59 -> 5.0177578 | H59: =SUM(แผนงานบริหารทั่วไป!H167) -> 154353
A60: (2) ค่าเบี้ยประชุม | B60: 13737.5 | C60: 104752.5 | D60: 4562.5 | E60: 5687.5 | F60: 25000 | G60: =SUM(H60-F60)*100/F60 -> 0 | H60: =SUM(แผนงานบริหารทั่วไป!H183) -> 25000
A61: (3) ค่าตอบแทนการปฏิบัติงานนอกเวลาราชการ | B61: 55880 | C61: 0 | D61: 6300 | F61: 10000 | G61: =SUM(H61-F61)*100/F61 -> 0 | H61: =SUM(แผนงานบริหารทั่วไป!H195) -> 10000
A62: (4) ค่าเช่าบ้าน | B62: 47400 | C62: 49900 | D62: 87950 | E62: 112600 | F62: 90000 | G62: =SUM(H62-F62)*100/F62 -> 66.666667 | H62: =SUM(แผนงานบริหารทั่วไป!H204) -> 150000
A63: (5) เงินช่วยเหลือการศึกษาบุตร | B63: 27414 | C63: 26489 | D63: 47500 | E63: 61950 | F63: 74800 | G63: =SUM(H63-F63)*100/F63 -> -29.144385 | H63: =SUM(แผนงานบริหารทั่วไป!H212) -> 53000
A64: (6) เงินช่วยเหลือค่ารักษาพยาบาล | B64: 3532
A65: (7) เงินบำเหน็จลูกจ้างประจำ | F65: 0 | H65: 0
A66: รวมค่าตอบแทน | B66: =SUM(B58:B65) -> 422823.5 | C66: =SUM(C58:C65) -> 437071.5 | D66: =SUM(D58:D64) -> 279072.5 | E66: =SUM(E58:E65) -> 180237.5 | F66: =SUM(F58:F65) -> 349778 | G66: =SUM(H66-F66)*100/F66 -> 13.029693 | H66: =SUM(H58:H65) -> 395353
A67: ค่าใช้สอย
A68: 1. รายจ่ายเพื่อให้ได้มาซึ่งบริการ
A69: (1) ค่าใช้จ่ายเพื่อให้ได้มาซึ่งบริการ | B69: 125070.6 | C69: 170546.5 | D69: 166597 | E69: 153687 | F69: 150000 | G69: =SUM(H69-F69)*100/F69 -> 0 | H69: =SUM(แผนงานบริหารทั่วไป!H228) -> 150000
A70: (2) ค่าจ้างเหมาบริการ | B70: 137576.7 | C70: 521861.06 | D70: 456240 | E70: 484720.18 | F70: 504000 | G70: =SUM(H70-F70)*100/F70 -> 0 | H70: =SUM(แผนงานบริหารทั่วไป!H241) -> 504000
A71: (3) ค่าติดตั้งเครื่องรับสัญญาณอินเตอร์เน็ต | C71: 10000 | D71: 0 | F71: 0
A72: (4) ค่าขออนุญาตใช้ประโยชน์ที่ดินของรัฐ | D72: 680.5 | F72: 0
B74: รายจ่ายจริง | F74: ประมาณการ
B75: ปี 2557 | C75: ปี 2558 | D75: ปี 2559 | E75: ปี 2560 | F75: ปี 2561 | G75: ยอด | H75: ปี 2562
G76: ต่าง
G77: (%)
A78: 2. รายจ่ายเกี่ยวกับการรับรองและพิธีการ
A79: (1) ค่ารับรอง | B79: 18882 | C79: 26415 | D79: 35597 | E79: 16450 | F79: 30000 | G79: =SUM(H79-F79)*100/F79 -> 0 | H79: =SUM(แผนงานบริหารทั่วไป!H250) -> 30000
A80: 3. รายจ่ายเกี่ยวเนื่องกับการปฏิบัติราชการที่ไม่เข้าลักษณะรายจ่ายหมวดอื่น ๆ
A81: (1) ค่าใช้จ่ายในการเลือกตั้ง | B81: 10000 | C81: 0 | D81: 1200 | E81: 5810 | F81: 260000 | G81: =SUM(H81-F81)*100/F81 -> 15.384615 | H81: =SUM(แผนงานบริหารทั่วไป!H268) -> 300000
A82: (2) ค่าใช้จ่ายสำหรับเดินทางไปราชการ | B82: 337297.2 | C82: 167651.2 | D82: 265341 | E82: 453837 | F82: 200000 | G82: =SUM(H82-F82)*100/F82 -> 43.5 | H82: =SUM(แผนงานบริหารทั่วไป!H284) -> 287000
A83: (3) ค่าพวงมาลัย ช่อดอกไม้ และพวงมาลา | B83: 1000 | C83: 800 | D83: 500 | E83: 1500 | F83: 1500 | G83: =SUM(H83-F83)*100/F83 -> 0 | H83: =SUM(แผนงานบริหารทั่วไป!H293) -> 1500
A84: (4) ค่าชดเชยความเสียหายหรือค่าสินไหมทดแทน | D84: 0 | F84: 5000 | G84: =SUM(H84-F84)*100/F84 -> 0 | H84: =SUM(แผนงานบริหารทั่วไป!H309) -> 5000
A85: (5) โครงการจัดงานวันเทศบาล | B85: 27889 | C85: 26000 | D85: 19982 | E85: 22078 | F85: 25000 | G85: =SUM(H85-F85)*100/F85 -> 0 | H85: =SUM(แผนงานบริหารทั่วไป!H315) -> 25000
A86: (6) โครงการอบรมเพิ่มประสิทธิภาพและทัศนศึกษาดูงานบุคลากรของเทศบาล | B86: 252335.55 | C86: 0 | D86: 294596 | E86: 54363 | F86: 100000 | G86: =SUM(H86-F86)*100/F86 -> 30 | H86: =SUM(แผนงานบริหารทั่วไป!H326) -> 130000
A87: (7) โครงการจัดเวทีรับฟังความคิดเห็นของประชาชน | B87: 51559 | C87: 792 | D87: 300 | F87: 5000 | G87: =SUM(H87-F87)*100/F87 -> 0 | H87: =SUM(แผนงานบริหารทั่วไป!H338) -> 5000
A88: (8) โครงการปรับปรุงระบบข้อมูลบุคลากรของเทศบาล | C88: 10000 | D88: 0 | F88: 0 | H88: 0
A89: (9) โครงการกิจกรรม 5ส | C89: 16684 | D89: 19539 | E89: 1600 | F89: 10000 | G89: =SUM(H89-F89)*100/F89 -> -100
A90: (10) โครงการปลูกฝังเผยแพร่จริยธรรม คุณธรรมบุคลากรของเทศบาล | C90: 18234 | D90: 10509 | E90: 12965 | F90: 50000 | G90: =SUM(H90-F90)*100/F90 -> -40 | H90: =SUM(แผนงานบริหารทั่วไป!H354) -> 30000
A91: (11) โครงการประชุมประชาคมท้องถิ่นเพื่อรับฟังปัญหาของประชาชนในการจัดทำแผนพัฒนาท้องถิ่น | B91: 29072 | C91: 36736 | D91: 28590 | E91: 17595 | F91: 0 | H91: 20000
A92: (12) โครงการอบรมเพื่อสร้างองค์ความรู้และความเข้าใจภาษาเกี่ยวกับอาเซียน | B92: 59830 | C92: 59000 | D92: 51200 | E92: 47170 | F92: 40000 | G92: =SUM(H92-F92)*100/F92 -> -100
B94: รายจ่ายจริง | F94: ประมาณการ
B95: ปี 2557 | C95: ปี 2558 | D95: ปี 2559 | E95: ปี 2560 | F95: ปี 2561 | G95: ยอด | H95: ปี 2562
G96: ต่าง
G97: (%)
A98: (13) โครงการจัดทำข้อมูลหมู่บ้านและชุมชนในเขตเทศบาลตำบลแวงใหญ่ | B98: 21600 | C98: 17250 | D98: 17715 | F98: 20000 | G98: =SUM(H98-F98)*100/F98 -> -100
A99: (14) โครงการประเมินความพึงพอใจในการให้บริการประชาชน | C99: 15000 | D99: 0 | E99: 19400 | F99: 25000 | G99: =SUM(H99-F99)*100/F99 -> 0 | H99: =SUM(แผนงานบริหารทั่วไป!H343) -> 25000
A100: (15) โครงการวันท้องถิ่นไทย (18 มีนาคม ) | D100: 3120 | F100: 0 | H100: 0
A101: (16) โครงการฝึกอบรมวินัยและการรักษาวินัยเบื้องต้น | C101: 27430 | D101: 0 | H101: 0
A102: (17) โครงการช่วยเหลือประชาชนด้านที่อยู่อาศัย | E102: 120222 | F102: 0 | H102: 0
A103: (18) โครงการเฉลิมพระเกียรติพระบาทสมเด็จพระเจ้าอยู่หัวและสมเด็จพระนางเจ้าพระบรมราชินีนาถและการจัดงานรัฐพิธีในวันสำคัญต่างๆ ของทางราชการ | E103: 8525 | F103: 0 | G103: 100 | H103: 0
A104: (19) โครงการเทศบาลเคลื่อนที่ | E104: 11220 | F104: 0 | G104: 100 | H104: 0
A105: (20) โครงการอบรมให้ความรู้เกี่ยวกับการดำเนินการศูนย์บริการร่วม (One Stop Servic : OSS) | F105: 15000 | G105: 100
A106: (21) โครงการติดตั้งระบบและโปรแกรมให้บริการศูนย์บริการร่วม(One Stop Servic : OSS) | F106: 15000 | G106: 100
A107: (22) โครงการจัดงานพระราชพิธีถวายพระเพลิงพระบรมศพพระบาทสมเด็จพระปรมินทรมหาภูมิพลอดุลยเดช | F107: 70000 | G107: 100
A108: (23) โครงการปรับปรุงและติดตั้งเว็บไซต์เทศบาลตำบลแวงใหญ่ | F108: 25000 | G108: 100
A109: (24) โครงการเสริมสร้างความซื่อสัตย์ สุจริต และปลูกฝังทัศนคติ วัฒนธรรมที่ดีในการต่อต้านการทุจริต | F109: 10000 | G109: 100
A110: (25) โครงการจัดงานพระราชพิธี รัฐพิธีและวันสำคัญของชาติ | F110: 30000 | G110: 100 | H110: 30000
B111: รายจ่ายจริง | F111: ประมาณการ
...

Sheet แผนงานบริหารทั่วไป
A1: รายงานรายละเอียดประมาณการรายจ่ายงบประมาณรายจ่ายทั่วไป
A2: ประจำปีงบประมาณ 2562
A3: เทศบาลตำบลแวงใหญ่
A4: อำเภอแวงใหญ่ จังหวัดขอนแก่น
A5: ประมาณการรายจ่ายรวมทั้งสิ้น | G5: ตั้งไว้รวม | H5: =SUM(H7+แผนงานรักษาความสงบภายใน!H1+แผนงานการศึกษา!H1+แผนงานสาธารณสุข!H1+แผนงานสังคมสงเคราะห์!H1+แผนงานเคหะและชุมชน!H1+แผนงานสร้างความเข้มแข็งของชุมชน!H1+แผนงานศาสนาวัฒนธรรมและนันทนาการ!H1+แผนงานการเกษตร!H1+แผนงานการพาณิชย์!H1+แผนงานงบกลาง!H1) -> 42692260 | I5: บาท
A6: จ่ายจากรายได้จัดเก็บเอง หมวดภาษีจัดสรร และหมวดเงินอุดหนุนทั่วไป แยกเป็น
A7: แผนงานบริหารงานทั่วไป | G7: รวม | H7: =SUM(H8,H748,H847) -> 13233378 | I7: บาท
A8: งานบริหารทั่วไป | G8: รวม | H8: =SUM(H9,H155,H700) -> 9658313 | I8: บาท
A9: งบบุคลากร | G9: รวม | H9: =SUM(H11,H72) -> 6372660 | I9: บาท
A10: หมวดเงินเดือน ค่าจ้างประจำ และค่าจ้างชั่วคราว
A11: เงินเดือน (ฝ่ายการเมือง) | G11: รวม | H11: =SUM(H12,H23,H36,H46,H57) -> 2392800 | I11: บาท
A12: (1) เงินเดือนนายก/รองนายก | G12: จำนวน | H12: =SUM([2]งด.ผู้บริหารและสมาชิกสภาเทศบาล!$D$14) -> 695520 | I12: บาท
A13: เพื่อจ่ายเป็นค่าตอบแทนรายเดือนนายกเทศมนตรี อัตราๆ ละ 27,600 บาท/เดือน จำนวน 12 เดือน เป็นเงิน 331,200 บาท
A14: และเงินค่าตอบแทนรายเดือนรองนายกเทศมนตรี จำนวน 2 อัตราๆ ละ 15,180 บาท/เดือน จำนวน 12 เดือน เป็นเงิน
A15: 364,320 บาท
A16: - เป็นไปตามระเบียบ และหนังสือสั่งการ ดังนี้
B17: 1) ระเบียบกระทรวงมหาดไทย ว่าด้วยเงินเดือน เงินค่าตอบแทน และประโยชน์ตอบแทนอื่นของนายกเทศมนตรี
A18: รองนายกเทศมนตรี ประธานสภาเทศบาล รองประธานสภาเทศบาล สมาชิกสภาเทศบาล เลขานุการนายกเทศมนตรี
A19: ที่ปรึกษานายกเทศมนตรี และการจ่ายค่าเบี้ยประชุมกรรมการสภาเทศบาล (ฉบับที่ 2) พ.ศ. 2557
B20: 2) หนังสือกรมส่งเสริมการปกครองท้องถิ่น ที่ มท 0809.7/ว 1155 ลงวันที่ 8 กรกฎาคม 2557 เรื่อง การออกระเบียบ
A21: กระทรวงมหาดไทย ว่าด้วยเงินเดือน และค่าตอบแทนผู้บริหาร และสมาชิกสภาองค์การบริหารส่วนจังหวัด เทศบาล และ
A22: องค์การบริหารส่วนตำบล (ฉบับที่ 2) พ.ศ. 2557
A23: (2) เงินค่าตอบแทนประจำตำแหน่งนายก/รองนายก | G23: จำนวน | H23: =SUM([2]งด.ผู้บริหารและสมาชิกสภาเทศบาล!$F$14) -> 120000 | I23: บาท
A24: เพื่อจ่ายเป็นเงินค่าตอบแทนประจำตำแหน่งนายกเทศมนตรี อัตราๆ ละ 4,000 บาท/เดือน จำนวน 12 เดือน เป็นเงิน 48,000
A25: บาท และเงินค่าตอบแทนประจำตำแหน่งรองนายกเทศมนตรีจำนวน 2 อัตราๆ ละ 3,000 บาท รวม 12 เดือน เป็นเงิน
A26: 72,000 บาท
A27: - เป็นไปตามระเบียบ และหนังสือสั่งการ ดังนี้
B28: 1) ระเบียบกระทรวงมหาดไทย ว่าด้วยเงินเดือน เงินค่าตอบแทน และประโยชน์ตอบแทนอื่นของนายกเทศมนตรี
A29: รองนายกเทศมนตรี ประธานสภาเทศบาล รองประธานสภาเทศบาล สมาชิกสภาเทศบาล เลขานุการนายกเทศมนตรี
A30: ที่ปรึกษานายกเทศมนตรี และการจ่ายค่าเบี้ยประชุมกรรมการสภาเทศบาล (ฉบับที่ 2) พ.ศ. 2557
B31: 2) หนังสือกรมส่งเสริมการปกครองท้องถิ่น ที่ มท 0809.7/ว 1155 ลงวันที่ 8 กรกฎาคม 2557 เรื่อง การออกระเบียบ
A32: กระทรวงมหาดไทย ว่าด้วยเงินเดือน และค่าตอบแทนผู้บริหาร และสมาชิกสภาองค์การบริหารส่วนจังหวัด เทศบาล และ
A33: องค์การบริหารส่วนตำบล (ฉบับที่ 2) พ.ศ. 2557
A36: (3) เงินค่าตอบแทนพิเศษนายก/รองนายก | G36: จำนวน | H36: =SUM([2]งด.ผู้บริหารและสมาชิกสภาเทศบาล!$H$14) -> 120000 | I36: บาท
A37: เพื่อจ่ายเป็นเงินค่าตอบแทนพิเศษนายกเทศมนตรี อัตราๆ ละ 4,000 บาท/เดือน จำนวน 12 เดือน เป็นเงิน 48,000 บาท
A38: และเงินค่าตอบแทนพิเศษรองนายกเทศมนตรี จำนวน 2 อัตราๆ ละ 3,000 บาท/เดือน รวม 12 เดือน เป็นเงิน 72,000 บาท
A39: - เป็นไปตามระเบียบ และหนังสือสั่งการ ดังนี้
B40: 1) ระเบียบกระทรวงมหาดไทย ว่าด้วยเงินเดือน เงินค่าตอบแทน และประโยชน์ตอบแทนอื่นของนายกเทศมนตรี
A41: รองนายกเทศมนตรี ประธานสภาเทศบาล รองประธานสภาเทศบาล สมาชิกสภาเทศบาล เลขานุการนายกเทศมนตรี
A42: ที่ปรึกษานายกเทศมนตรี และการจ่ายค่าเบี้ยประชุมกรรมการสภาเทศบาล (ฉบับที่ 2) พ.ศ. 2557
B43: 2) หนังสือกรมส่งเสริมการปกครองท้องถิ่น ที่ มท 0809.7/ว 1155 ลงวันที่ 8 กรกฎาคม 2557 เรื่อง การออกระเบียบ
A44: กระทรวงมหาดไทย ว่าด้วยเงินเดือน และค่าตอบแทนผู้บริหาร และสมาชิกสภาองค์การบริหารส่วนจังหวัด เทศบาล และ
A45: องค์การบริหารส่วนตำบล (ฉบับที่ 2) พ.ศ. 2557
A46: (4) เงินค่าตอบแทนเลขานุการ/ที่ปรึกษานายกเทศมนตรี | G46: จำนวน | H46: =SUM([2]งด.ผู้บริหารและสมาชิกสภาเทศบาล!$D$29) -> 198720 | I46: บาท
A47: เพื่อจ่ายเป็นค่าตอบแทนเลขานุการนายกเทศมนตรี จำนวน 1 อัตราๆ ละ 9,660 บาท/เดือน จำนวน 12 เดือน เป็นเงิน
A48: 115,920 บาท และค่าตอบแทนที่ปรึกษานายกเทศมนตรี จำนวน 1 อัตราๆ ละ 6,900 บาท/เดือน รวม 12 เดือน เป็นเงิน
A49: 82,800 บาท
A50: - เป็นไปตามระเบียบ และหนังสือสั่งการ ดังนี้
B51: 1) ระเบียบกระทรวงมหาดไทย ว่าด้วยเงินเดือน เงินค่าตอบแทน และประโยชน์ตอบแทนอื่นของนายกเทศมนตรี
A52: รองนายกเทศมนตรี ประธานสภาเทศบาล รองประธานสภาเทศบาล สมาชิกสภาเทศบาล เลขานุการนายกเทศมนตรี
A53: ที่ปรึกษานายกเทศมนตรี และการจ่ายค่าเบี้ยประชุมกรรมการสภาเทศบาล (ฉบับที่ 2) พ.ศ. 2557
B54: 2) หนังสือกรมส่งเสริมการปกครองท้องถิ่น ที่ มท 0809.7/ว 1155 ลงวันที่ 8 กรกฎาคม 2557 เรื่อง การออกระเบียบ
A55: กระทรวงมหาดไทย ว่าด้วยเงินเดือน และค่าตอบแทนผู้บริหาร และสมาชิกสภาองค์การบริหารส่วนจังหวัด เทศบาล และ
A56: องค์การบริหารส่วนตำบล (ฉบับที่ 2) พ.ศ. 2557
A57: (5) เงินค่าตอบแทนสมาชิกสภาองค์กรปกครองส่วนท้องถิ่น | G57: จำนวน | H57: =SUM([2]งด.ผู้บริหารและสมาชิกสภาเทศบาล!$D$52) -> 1258560 | I57: บาท
A58: เพื่อจ่ายเป็นค่าตอบแทนรายเดือนประธานสภาเทศบาล จำนวน 1 อัตราๆ ละ 15,180 บาท/เดือน เป็นเงิน 182,160 บาท
A59: เงินค่าตอบแทนรายเดือนรองประธานสภาเทศบาล จำนวน 1 อัตราๆ ละ 12,420 บาท/เดือน เป็นเงิน 149,040 บาท เงินค่า
A60: ตอบแทนรายเดือนสมาชิกสภาเทศบาล จำนวน 8 อัตรา ๆ ละ 9,660 บาท/เดือน เป็นเงิน 927,360 บาท
A61: - เป็นไปตามระเบียบ และหนังสือสั่งการ ดังนี้
B62: 1) ระเบียบกระทรวงมหาดไทย ว่าด้วยเงินเดือน เงินค่าตอบแทน และประโยชน์ตอบแทนอื่นของนายกเทศมนตรี
A63: รองนายกเทศมนตรี ประธานสภาเทศบาล รองประธานสภาเทศบาล สมาชิกสภาเทศบาล เลขานุการนายกเทศมนตรี
A64: ที่ปรึกษานายกเทศมนตรี และการจ่ายค่าเบี้ยประชุมกรรมการสภาเทศบาล (ฉบับที่ 2) พ.ศ. 2557
B65: 2) หนังสือกรมส่งเสริมการปกครองท้องถิ่น ที่ มท 0809.7/ว 1155 ลงวันที่ 8 กรกฎาคม 2557 เรื่อง การออกระเบียบ
A66: กระทรวงมหาดไทย ว่าด้วยเงินเดือน และค่าตอบแทนผู้บริหาร และสมาชิกสภาองค์การบริหารส่วนจังหวัด เทศบาล และ
A67: องค์การบริหารส่วนตำบล (ฉบับที่ 2) พ.ศ. 2557
A72: เงินเดือน (ฝ่ายประจำ) | G72: รวม | H72: =SUM(H73,H97,H110,H128,H140) -> 3979860 | I72: บาท
A73: 1) เงินเดือนพนักงาน | G73: จำนวน | H73: =SUM([3]แผนงานบริหารงานทั่วไป!$E$21) -> 3549720 | I73: บาท
A74: เพื่อจ่ายเป็นเงินเดือนพนักงานส่วนท้องถิ่นประจำปีและเงินปรับปรุงเงินเดือนพนักงานส่วนท้องถิ่นประจำปี จำนวน 9 อัตรา
A75: จำนวน 12 เดือน เป็นเงิน 3,549,720 บาท โดยจ่ายให้กับพนักงานส่วนท้องถิ่น ดังนี้
B76: (1) ปลัดเทศบาล จำนวน 1 ตำแหน่ง
B77: (2) รองปลัดเทศบาล จำนวน 1 ตำแหน่ง
B78: (3) หัวหน้าสำนักปลัดเทศบาล จำนวน 1 ตำแหน่ง
B79: (4) หัวหน้าฝ่ายธุรการ จำนวน 1 ตำแหน่ง
B80: (5) นักจัดการงานทะเบียนและบัตร จำนวน 1 ตำแหน่ง
B81: (6) นักวิชาการตรวจสอบภายใน จำนวน 1 ตำแหน่ง
B82: (7) นิติกร จำนวน 1 ตำแหน่ง
B83: (8) นักทรัพยากรบุคคล จำนวน 1 ตำแหน่ง
B84: (9) เจ้าพนักงานธุรการ จำนวน 2 ตำแหน่ง
A85: - เป็นไปตามพระราชบัญญัติ พระราชกฤษฎีกา ประกาศ และหนังสือสั่งการ ดังนี้
B86: 1) พระราชบัญญัติระเบียบบริหารงานบุคคลส่วนท้องถิ่น พ.ศ. 2542
B87: 2) พระราชกฤษฎีกาการจ่ายเงินเดือน เงินปี บำเหน็จ บำนาญและเงินอื่นในลักษณะเดียวกัน พ.ศ. 2535
B88: 3) ประกาศคณะกรรมการมาตรฐานการบริหารงานบุคคลส่วนท้องถิ่น เรื่อง กำหนดมาตรฐานกลางการบริหารงาน
A89: บุคคลส่วนท้องถิ่น (ฉบับที่ 11) ลงวันที่ 6 มิถุนายน 2560
B90: 4) หนังสือสำนักงาน ก.จ., ก.ท. และ ก.อบต. ด่วนที่สุด ที่ มท 0809.3/ว 2683 ลงวันที่ 15 ธันวาคม 2558 เรื่อง
A91: ประกาศ ก.จ., ก.ท. และ ก.อบต. เรื่อง มาตรฐานทั่วไปเกี่ยวกับอัตราเงินเดือนและวิธีการจ่ายเงินเดือนและประโยชน์ตอบแทน
A92: อื่น (ฉบับที่ 4) และประกาศ ก.จ., ก.ท. และ ก.อบต. เรื่องมาตรฐานทั่วไปเกี่ยวกับอัตราค่าจ้างและการให้ลูกจ้างขององค์กร
A93: ปกครองส่วนท้องถิ่นได้รับค่าจ้าง (ฉบับที่ 4)
B94: 5) หนังสือสำนักงาน ก.จ., ก.ท. และ ก.อบต. ด่วนที่สุด ที่ มท 0809.3/ว 13 ลงวันที่ 3 กรกฎาคม 2561 ประกาศ
A95: ก.จ., ก.ท. และ ก.อบต. เรื่อง มาตรฐานทั่วไปเกี่ยวกับการกำหนดหลักเกณฑ์การเลื่อนขั้นเงินเดือนข้าราชการและพนักงาน
A96: ส่วนท้องถิ่น (ฉบับที่ 2) พ.ศ. 2561
A97: 2) เงินเพิ่มต่างๆ ของพนักงาน | G97: รวม | H97: 84000 | I97: บาท
A98: เพื่อจ่ายเป็นเงินเพิ่มต่างๆ ของพนักงาน ดังนี้
B99: (1) ค่าตอบแทนรายเดือนปลัดเทศบาล ระดับกลาง ในอัตราเดือนละ 7,000 บาท จำนวน 12 เดือน เป็นเงิน 84,000
A100: บาท
A101: - เป็นไปตามพระราชบัญญัติ พระราชกฤษฎีกา และประกาศ ดังนี้
B102: 1) พระราชบัญญัติระเบียบบริหารงานบุคคลส่วนท้องถิ่น พ.ศ. 2542
B103: 2) พระราชกฤษฎีกาการจ่ายเงินเดือน เงินปี บำเหน็จ บำนาญและเงินอื่นในลักษณะเดียวกัน พ.ศ. 2535
B104: 3) ประกาศ ก.จ. ก.ท. และ ก.อบต. เรื่อง กำหนดหลักเกณฑ์การให้ข้าราชการหรือพนักงานส่วนท้องถิ่นได้รับเงินค่า
A105: ตอบแทนนอกเหนือจากเงินเดือน ลงวันที่ 22 เมษายน 2547 และหนังสือสำนักงาน ก.จ. ก.ท. และ ก.อบต ที่ มท 0809.3/ว
A106: 28 ลงวันที่ 16 กุมภาพันธ์ 2548 เรื่องแนวทางปฏิบัติเกี่ยวกับการเบิกจ่ายเงินค่าตอบแทนนอกเหนือจากเงินเดือน
...

Sheet แผนงานรักษาความสงบภายใน
A1: แผนงานรักษาความสงบภายใน | H1: =SUM(H2,H84) -> 1519430 | I1: บาท
A2: งานบริหารทั่วไปเกี่ยวกับการรักษาความสงบภายใน | G2: รวม | H2: =SUM(H4,H42) -> 1191030 | I2: บาท
A3: หมวดเงินเดือน ค่าจ้างประจำ และค่าจ้างชั่วคราว
A4: งบบุคลากร | G4: รวม | H4: =SUM(H5) -> 655920 | I4: บาท
A5: เงินเดือน (ฝ่ายประจำ) | G5: รวม | H5: =SUM(H6,H22) -> 655920 | I5: บาท
A6: (1) เงินเดือนพนักงาน | G6: จำนวน | H6: =SUM([7]แผนงานรักษาความสงบภายใน!$E$11) -> 216720 | I6: บาท
A7: เพื่อจ่ายเป็นเงินเดือนพนักงานส่วนท้องถิ่นและเงินปรับปรุงเงินเดือนประจำปีของพนักงานส่วนท้องถิ่น จำนวน 1 อัตรา
A8: จำนวน 12 เดือน เป็นเงิน 216,720 บาท โดยจ่ายให้กับพนักงานส่วนท้องถิ่น ดังนี้
B9: (1) เจ้าพนักงานป้องกันและบรรเทาสาธารณภัย จำนวน 1 ตำแหน่ง
A10: - เป็นไปตามพระราชบัญญัติ พระราชกฤษฎีกา ประกาศ และหนังสือสั่งการ ดังนี้
B11: 1) พระราชบัญญัติระเบียบบริหารงานบุคคลส่วนท้องถิ่น พ.ศ. 2542
B12: 2) พระราชกฤษฎีกาการจ่ายเงินเดือน เงินปี บำเหน็จ บำนาญและเงินอื่นในลักษณะเดียวกัน พ.ศ. 2535
B13: 3) ประกาศคณะกรรมการมาตรฐานการบริหารงานบุคคลส่วนท้องถิ่น เรื่อง กำหนดมาตรฐานกลางการบริหาร
A14: งานบุคคลส่วนท้องถิ่น (ฉบับที่ 11) ลงวันที่ 6 มิถุนายน 2560
B15: 4) หนังสือสำนักงาน ก.จ., ก.ท. และ ก.อบต. ด่วนที่สุด ที่ มท 0809.3/ว 2683 ลงวันที่ 15 ธันวาคม 2558 เรื่อง
A16: ประกาศ ก.จ., ก.ท. และ ก.อบต. เรื่อง มาตรฐานทั่วไปเกี่ยวกับอัตราเงินเดือนและวิธีการจ่ายเงินเดือนและประโยชน์ตอบ
A17: แทนอื่น (ฉบับที่ 4) และประกาศ ก.จ., ก.ท. และ ก.อบต. เรื่องมาตรฐานทั่วไปเกี่ยวกับอัตราค่าจ้างและการให้ลูกจ้างของ
A18: องค์กรปกครองส่วนท้องถิ่นได้รับค่าจ้าง (ฉบับที่ 4)
B19: 5) หนังสือสำนักงาน ก.จ., ก.ท. และ ก.อบต. ด่วนที่สุด ที่ มท 0809.3/ว 13 ลงวันที่ 3 กรกฎาคม 2561
A20: ประกาศ ก.จ., ก.ท. และ ก.อบต. เรื่อง มาตรฐานทั่วไปเกี่ยวกับการกำหนดหลักเกณฑ์การเลื่อนขั้นเงินเดือนข้าราชการ
A21: และพนักงานส่วนท้องถิ่น (ฉบับที่ 2) พ.ศ. 2561
A22: (2) ค่าจ้างลูกจ้างประจำ | G22: จำนวน | H22: =SUM([7]แผนงานรักษาความสงบภายใน!$E$15) -> 439200 | I22: บาท
A23: เพื่อจ่ายเป็นเงินค่าจ้างประจำให้แก่ลูกจ้างประจำ พร้อมทั้งเงินปรับปรุงค่าจ้างประจำปีและเงินปรับอัตราค่าจ้าง จำนวน
A24: 2 อัตรา จำนวน 12 เดือน เป็นเงิน 439,200 บาท โดยจ่ายให้กับลูกจ้างประจำ ดังนี้
B25: (1) พนักงานขับรถยนต์ จำนวน 2 ตำแหน่ง
A26: - เป็นไปตามพระราชบัญญัติ พระราชกฤษฎีกา ประกาศ และหนังสือสั่งการ ดังนี้
B27: 1) พระราชบัญญัติระเบียบบริหารงานบุคคลส่วนท้องถิ่น พ.ศ. 2542
B28: 2) พระราชกฤษฎีกาการจ่ายเงินเดือน เงินปี บำเหน็จ บำนาญและเงินอื่นในลักษณะเดียวกัน พ.ศ. 2535
B29: 3) ประกาศคณะกรรมการมาตรฐานการบริหารงานบุคคลส่วนท้องถิ่น เรื่อง กำหนดมาตรฐานกลางการบริหาร
A30: งานบุคคลส่วนท้องถิ่น (ฉบับที่ 11) ลงวันที่ 6 มิถุนายน 2560
B34: 4) หนังสือสำนักงาน ก.จ., ก.ท. และ ก.อบต. ด่วนที่สุด ที่ มท 0809.3/ว 2683 ลงวันที่ 15 ธันวาคม 2558 เรื่อง
A35: ประกาศ ก.จ., ก.ท. และ ก.อบต. เรื่อง มาตรฐานทั่วไปเกี่ยวกับอัตราเงินเดือนและวิธีการจ่ายเงินเดือนและประโยชน์ตอบ
A36: แทนอื่น (ฉบับที่ 4) และประกาศ ก.จ., ก.ท. และ ก.อบต. เรื่องมาตรฐานทั่วไปเกี่ยวกับอัตราค่าจ้างและการให้ลูกจ้างของ
A37: องค์กรปกครองส่วนท้องถิ่นได้รับค่าจ้าง (ฉบับที่ 4)
B38: 5) หนังสือสำนักงาน ก.จ., ก.ท. และ ก.อบต. ด่วนที่สุด ที่ มท 0809.3/ว 13 ลงวันที่ 3 กรกฎาคม 2561
A39: ประกาศ ก.จ., ก.ท. และ ก.อบต. เรื่อง มาตรฐานทั่วไปเกี่ยวกับการกำหนดหลักเกณฑ์การเลื่อนขั้นเงินเดือนข้าราชการ
A40: และพนักงานส่วนท้องถิ่น (ฉบับที่ 2) พ.ศ. 2561
A42: งบดำเนินงาน | G42: รวม | H42: =SUM(H44,H73) -> 535110 | I42: บาท
A43: หมวดค่าตอบแทน ใช้สอย และวัสดุ
A44: ค่าตอบแทน | G44: รวม | H44: =SUM(H46,H63) -> 55110 | I44: บาท
A45: 1) ค่าตอบแทนผู้ปฏิบัติราชการอันเป็นประโยชน์แก่องค์กรปกครองส่วนท้องถิ่น
G46: รวม | H46: =SUM(H47) -> 27510 | I46: บาท
B47: (1) เงินประโยชน์ตอบแทนอื่นเป็นกรณีพิเศษ | G47: จำนวน | H47: =SUM('[7]โบนัส 62(0.5 เท่า)'!$E$45) -> 27510 | I47: บาท
A48: เพื่อจ่ายเป็นเงินประโยชน์ตอบแทนอื่นเป็นกรณีพิเศษ (โบนัส) แก่พนักงานเทศบาลและลูกจ้าง ของเทศบาล
A49: - เป็นไปตามระเบียบ และหนังสือสั่งการ ดังนี้
B50: 1) ระเบียบกระทรวงมหาดไทย ว่าด้วยการกำหนดเงินประโยชน์ตอบแทนอื่นเป็นกรณีพิเศษอันมีลักษณะเป็น
A51: เงินรางวัลประจำปีแก่พนักงานส่วนท้องถิ่นให้เป็นรายจ่ายอื่นขององค์กรปกครองส่วนท้องถิ่น พ.ศ. 2557
B52: 2) หนังสือกรมส่งเสริมการปกครองส่วนท้องถิ่น ที่ 0808.2/ว 859 ลงวันที่ 29 พฤษภาคม 2557 เรื่อง การดำเนิน
A53: การตามระเบียบกระทรวงมหาดไทยว่าด้วยการกำหนดเงินประโยชน์ตอบแทนอื่นเป็นกรณีพิเศษอันมีลักษณะเป็นเงินรางวัล
A54: ประจำปีแก่พนักงานส่วนท้องถิ่นให้เป็นรายจ่ายอื่นขององค์กรปกครองส่วนท้องถิ่น พ.ศ. 2557
B55: 3) หนังสือสำนักงาน ก.จ., ก.ท. และ ก.อบต. ด่วนที่สุด ที่ มท 0809.3/ว 380 ลงวันที่ 26 กุมภาพันธ์ 2558 เรื่อง
A56: ประกาศ ก.จ, ก.ท. และ ก.อบต. เรื่อง กำหนดมาตรฐานทั่วไปเกี่ยวกับหลักเกณฑ์ เงื่อนไข และวิธีการกำหนดเงินประโยชน์
A57: ตอบแทนอื่นเป็นกรณีพิเศษอันมีลักษณะเป็นเงินรางวัลประจำปีสำหรับพนักงานส่วนท้องถิ่น ลูกจ้าง และพนักงานจ้างของ
A58: องค์กรปกครองส่วนท้องถิ่น พ.ศ. 2558
B59: 4) หนังสือสำนักงาน ก.จ, ก.ท. และ ก.อบต. ด่วนที่สุด ที่ มท 0809.3/ว 27 ลงวันที่ 29 ธันวาคม 2559 เรื่อง
A60: ซักซ้อมแนวทางปฏิบัติเกี่ยวกับหลักเกณฑ์ เงื่อนไข และวิธีการกำหนดประโยชน์ตอบแทนอื่นเป็นกรณีพิเศษอันมีลักษณะ
A61: เป็นเงินรางวัลประจำปี
A62: (ปรากฎในแผนพัฒนาท้องถิ่นสี่ปี พ.ศ. 2561-2564 หน้า 199 ลำดับที่ 4)
A63: 2) ค่าเช่าบ้าน | G63: จำนวน | H63: =SUM([2]ค่าเช่าบ้าน!$H$18) -> 27600 | I63: บาท
A64: เพื่อจ่ายเป็นค่าเช่าบ้านของพนักงานเทศบาลตามสิทธิที่จะได้รับ
A65: - เป็นไปตามพระราชกฤษฎีกา และระเบียบ ดังนี้
B66: 1) ระเบียบกระทรวงมหาดไทย ว่าด้วยค่าเช่าบ้านของข้าราชการส่วนท้องถิ่น พ.ศ. 2548
B67: 2) ระเบียบกระทรวงมหาดไทย ว่าด้วยค่าเช่าบ้านของข้าราชการส่วนท้องถิ่น (ฉบับที่ 2) พ.ศ. 2551
B68: 3) ระเบียบกระทรวงมหาดไทย ว่าด้วยค่าเช่าบ้านของข้าราชการส่วนท้องถิ่น (ฉบับที่ 3) พ.ศ. 2559
B70: 4) หนังสือกระทรวงมหาดไทย ที่ มท 0808.2/ว 5862 ลงวันที่ 12 ตุลาคม 2559 เรื่อง หลักเกณฑ์และวิธีการ
A71: เกี่ยวกับการเบิกจ่ายเงินค่าเช่าบ้านของข้าราชการส่วนท้องถิ่น
A73: ค่าใช้สอย | G73: รวม | H73: =SUM(H74) -> 480000 | I73: บาท
A74: 1) รายจ่ายเพื่อให้ได้มาซึ่งบริการ | G74: รวม | H74: =SUM(H75) -> 480000 | I74: บาท
B75: (1) ค่าจ้างเหมาบริการ | G75: จำนวน | H75: =SUM([6]แผนงานรักษาความสงบภายใน!$D$24) -> 480000 | I75: บาท
A76: เพื่อจ่ายเป็นค่าจ้างเหมาบริการคนงานเพื่อปฏิบัติงานตามภารกิจของเทศบาล จำนวน 5 อัตรา
B77: กรณีจ้างเหมาบริการ ให้ถือปฏิบัติตามหนังสือสั่งการ ดังนี้
B78: 1) หนังสือกระทรวงมหาดไทย ที่ มท 0808.2/ว 7120 ลงวันที่ 1 ธันวาคม 2559 เรื่อง หลักเกณฑ์การเบิกจ่ายเงิน
A79: ค่าจ้างเหมาบริการขององค์กรปกครองส่วนท้องถิ่น
B80: กรณีจ้างแรงงาน ให้ถือปฏิบัติตามกฎหมาย ดังนี้
B81: 1) ประมวลกฎหมายแพ่งและพาณิชย์ บรรพ 3 ลักษณะ 6 จ้างแรงงาน
B82: 2) พระราชบัญญัติแรงงานสัมพันธ์ พ.ศ. 2541
A84: งานป้องกันภัยฝ่ายพลเรือนและระงับอัคคีภัย | G84: รวม | H84: =SUM(H85,H217) -> 328400 | I84: บาท
A85: งบดำเนินงาน | G85: รวม | H85: =SUM(H87,H112,H175) -> 315000 | I85: บาท
A86: หมวดค่าตอบแทน ใช้สอย และวัสดุ
A87: ค่าตอบแทน | G87: รวม | H87: =SUM(H91) -> 70000 | I87: บาท
A88: 1) ค่าตอบแทนผู้ปฏิบัติราชการอันเป็นประโยชน์แก่องค์กรปกครองส่วนท้องถิ่น
G89: รวม | H89: =SUM(H91) -> 70000 | I89: บาท
B90: (1) ค่าตอบแทนอาสาสมัครป้องกันภัยฝ่ายพลเรือน (อปพร.)
G91: จำนวน | H91: 70000 | I91: บาท
A92: เพื่อจ่ายเป็นค่าตอบแทนหรือค่าป่วยการให้แก่อาสาสมัครป้องกันภัยฝ่ายพลเรือน (อปพร.) ของเทศบาลตำบลแวงใหญ่
A93: ในการปฏิบัติหน้าที่ป้องกันและบรรเทาสาธารณภัย การป้องกันและลดอุบัติเหตุทางถนนในการร่วมปฏิบัติหน้าที่ เพื่อช่วย
A94: เหลือและสนับสนุนการปฏิบัติงานของเจ้าหน้าที่ตำรวจและฝ่ายปกครองในการอำนวยความสะดวกด้านการเดินทางให้แก่
A95: ประชาชนในช่วงเทศกาลเพื่อป้องกันการเกิดอุบัติเหตุและก่อให้เกิดอันตรายแก่ชีวิตและความเสียหายแก่ทรัพย์สินของ
A96: ประชาชน ตลอดจนการรักษาความสงบเรียบร้อยของประชาชนตามอำนาจหน้าที่ขององค์กรปกครองส่วนท้องถิ่น
A97: - เป็นไปตามพระราชบัญญัติ ระเบียบ และหนังสือสั่งการ ดังนี้
B98: 1) พระราชบัญญัติเทศบาล พ.ศ. 2496 และที่แก้ไขเพิ่มเติมถึงฉบับที่ 13 พ.ศ. 2552
B99: 2) พระราชบัญญัติกำหนดแผนและขั้นตอนการกระจายอำนาจให้แก่องค์กรปกครองส่วนท้องถิ่น พ.ศ. 2542
B100: 3) พระราชบัญญัติป้องกันและบรรเทาสาธารณภัย พ.ศ. 2550
B101: 4) ระเบียบคณะกรรมการป้องกันและบรรเทาสาธารณภัยแห่งชาติ ว่าด้วยค่าใช้จ่ายของอาสาสมัครในการ
A102: ป้องกันและบรรเทาสาธารณภัย พ.ศ. 2560
B103: 5) ระเบียบกระทรวงมหาดไทย ว่าด้วยการเบิกค่าใช้จ่ายให้แก่อาสาสมัครป้องกันภัยฝ่ายพลเรือนขององค์กร
A104: ปกครองส่วนท้องถิ่น พ.ศ. 2560
B105: 6) หนังสือกระทรวงมหาดไทย ด่วนมากที่ มท 0808.2/ว 7271 ลงวันที่ 26 ธันวาคม 2560 เรื่อง ระเบียบกระทรวง
A106: มหาดไทย ว่าด้วยการเบิกค่าใช้จ่ายให้แก่อาสาสมัครป้องกันภัยฝ่ายพลเรือนขององค์กรปกครองส่วนท้องถิ่น พ.ศ. 2560
B108: 7) หนังสือกระทรวงมหาดไทย ด่วนที่สุด ที่ มท 0808.2/ว 0684 ลงวันที่ 8 กุมภาพันธ์ 2560 เรื่อง หลักเกณฑ์
...

Sheet แผนงานการศึกษา
A1: แผนงานการศึกษา | H1: =SUM(H2,H66) -> 6214625 | I1: บาท
A2: งานบริหารทั่วไปเกี่ยวกับการศึกษา | H2: =SUM(H3,H23) -> 489185 | I2: บาท
A3: งบบุคลากร | G3: รวม | H3: =SUM(H5) -> 318000 | I3: บาท
A4: หมวดเงินเดือน ค่าจ้างประจำ และค่าจ้างชั่วคราว
A5: เงินเดือน (ฝ่ายประจำ) | G5: รวม | H5: =SUM(H6) -> 318000 | I5: บาท
A6: (1) เงินเดือนพนักงาน | G6: จำนวน | H6: =SUM([6]แผนงานการศึกษา!$E$8) -> 318000 | I6: บาท
A7: เพื่อจ่ายเป็นเงินเดือนพนักงานส่วนท้องถิ่นและเงินปรับปรุงเงินเดือนประจำปีของพนักงานส่วนท้องถิ่น จำนวน 1 อัตรา
A8: จำนวน 12 เดือน เป็นเงิน 318,000 บาท โดยจ่ายให้กับพนักงานส่วนท้องถิ่น ดังนี้
B9: (1) นักวิชาการศึกษา จำนวน 1 ตำแหน่ง
A10: - เป็นไปตามพระราชบัญญัติ พระราชกฤษฎีกา ประกาศ และหนังสือสั่งการ ดังนี้
B11: 1) พระราชบัญญัติระเบียบบริหารงานบุคคลส่วนท้องถิ่น พ.ศ. 2542
B12: 2) พระราชกฤษฎีกาการจ่ายเงินเดือน เงินปี บำเหน็จ บำนาญและเงินอื่นในลักษณะเดียวกัน พ.ศ. 2535
B13: 3) ประกาศคณะกรรมการมาตรฐานการบริหารงานบุคคลส่วนท้องถิ่น เรื่อง กำหนดมาตรฐานกลางการ
A14: บริหารงานบุคคลส่วนท้องถิ่น (ฉบับที่ 11) ลงวันที่ 6 มิถุนายน 2560
B15: 4) หนังสือสำนักงาน ก.จ., ก.ท. และ ก.อบต. ด่วนที่สุด ที่ มท 0809.3/ว 2683 ลงวันที่ 15 ธันวาคม 2558
A16: เรื่อง ประกาศ ก.จ., ก.ท. และ ก.อบต. เรื่อง มาตรฐานทั่วไปเกี่ยวกับอัตราเงินเดือนและวิธีการจ่ายเงินเดือนและประโยชน์
A17: ตอบแทนอื่น (ฉบับที่ 4) และประกาศ ก.จ., ก.ท. และ ก.อบต. เรื่อง มาตรฐานทั่วไปเกี่ยวกับอัตราค่าจ้างและการให้ลูกจ้าง
A18: ขององค์กรปกครองส่วนท้องถิ่นได้รับค่าจ้าง (ฉบับที่ 4)
B19: 5) หนังสือสำนักงาน ก.จ., ก.ท. และ ก.อบต. ด่วนที่สุด ที่ มท 0809.3/ว 13 ลงวันที่ 3 กรกฎาคม 2561
A20: ประกาศ ก.จ., ก.ท. และ ก.อบต. เรื่อง มาตรฐานทั่วไปเกี่ยวกับการกำหนดหลักเกณฑ์การเลื่อนขั้นเงินเดือนข้าราชการ
A21: และพนักงานส่วนท้องถิ่น (ฉบับที่ 2) พ.ศ. 2561
A23: งบดำเนินงาน | G23: รวม | H23: =SUM(H25,H55) -> 171185 | I23: บาท
A24: หมวดค่าตอบแทน ใช้สอย และวัสดุ
A25: ค่าตอบแทน | G25: รวม | H25: =SUM(H27,H46) -> 87185 | I25: บาท
A26: 1) ค่าตอบแทนผู้ปฏิบัติราชการอันเป็นประโยชน์แก่องค์กรปกครองส่วนท้องถิ่น
G27: รวม | H27: =SUM(H28) -> 57185 | I27: บาท
B28: (1) เงินประโยชน์ตอบแทนอื่นเป็นกรณีพิเศษ | G28: จำนวน | H28: =SUM('[6]โบนัส 62(0.5 เท่า)'!$F$35) -> 57185 | I28: บาท
A29: เพื่อจ่ายเป็นเงินประโยชน์ตอบแทนอื่นเป็นกรณีพิเศษ (โบนัส) แก่พนักงานเทศบาลและลูกจ้าง
A30: - เป็นไปตามระเบียบ และหนังสือสั่งการ ดังนี้
B31: 1) ระเบียบกระทรวงมหาดไทย ว่าด้วยการกำหนดเงินประโยชน์ตอบแทนอื่นเป็นกรณีพิเศษอันมีลักษณะ
A32: เป็นเงินรางวัลประจำปีแก่พนักงานส่วนท้องถิ่นให้เป็นรายจ่ายอื่นขององค์กรปกครองส่วนท้องถิ่น พ.ศ. 2557
B33: 2) หนังสือกรมส่งเสริมการปกครองส่วนท้องถิ่น ที่ 0808.2/ว 859 ลงวันที่ 29 พฤษภาคม 2557 เรื่อง การ
A34: ดำเนินการตามระเบียบกระทรวงมหาดไทยว่าด้วยการกำหนดเงินประโยชน์ตอบแทนอื่นเป็นกรณีพิเศษอันมีลักษณะ
A35: เป็นเงินรางวัลประจำปีแก่พนักงานส่วนท้องถิ่นให้เป็นรายจ่ายอื่นขององค์กรปกครองส่วนท้องถิ่น พ.ศ. 2557
B38: 3) หนังสือสำนักงาน ก.จ., ก.ท. และ ก.อบต. ด่วนที่สุด ที่ มท 0809.3/ว 380 ลงวันที่ 26 กุมภาพันธ์ 2558
A39: เรื่อง ประกาศ ก.จ, ก.ท. และ ก.อบต. เรื่อง กำหนดมาตรฐานทั่วไปเกี่ยวกับหลักเกณฑ์ เงื่อนไข และวิธีการกำหนดเงิน
A40: ประโยชน์ตอบแทนอื่นเป็นกรณีพิเศษอันมีลักษณะเป็นเงินรางวัลประจำปีสำหรับพนักงานส่วนท้องถิ่น ลูกจ้าง และ
A41: พนักงานจ้างขององค์กรปกครองส่วนท้องถิ่น พ.ศ. 2558
B42: 4) หนังสือสำนักงาน ก.จ, ก.ท. และ ก.อบต. ด่วนที่สุด ที่ มท 0809.3/ว 27 ลงวันที่ 29 ธันวาคม 2559
A43: เรื่อง ซักซ้อมแนวทางปฏิบัติเกี่ยวกับหลักเกณฑ์ เงื่อนไข และวิธีการกำหนดประโยชน์ตอบแทนอื่นเป็นกรณีพิเศษ
A44: อันมีลักษณะเป็นเงินรางวัลประจำปี
A45: (ปรากฎในแผนพัฒนาท้องถิ่นสี่ปี พ.ศ. 2561-2564 หน้า 199 ลำดับที่ 4)
A46: 2) ค่าเช่าบ้าน | G46: จำนวน | H46: =SUM([2]ค่าเช่าบ้าน!$H$14) -> 30000 | I46: บาท
A47: เพื่อจ่ายเป็นค่าเช่าบ้านของพนักงานเทศบาลตามสิทธิที่จะได้รับ
A48: - เป็นไปตามระเบียบ และหนังสือสั่งการ ดังนี้
B49: 1) ระเบียบกระทรวงมหาดไทย ว่าด้วยค่าเช่าบ้านของข้าราชการส่วนท้องถิ่น พ.ศ. 2548
B50: 2) ระเบียบกระทรวงมหาดไทย ว่าด้วยค่าเช่าบ้านของข้าราชการส่วนท้องถิ่น (ฉบับที่ 2) พ.ศ. 2551
B51: 3) ระเบียบกระทรวงมหาดไทย ว่าด้วยค่าเช่าบ้านของข้าราชการส่วนท้องถิ่น (ฉบับที่ 3) พ.ศ. 2559
B52: 4) หนังสือกระทรวงมหาดไทย ที่ มท 0808.2/ว 5862 ลงวันที่ 12 ตุลาคม 2559 เรื่อง หลักเกณฑ์และวิธีการ
A53: เกี่ยวกับการเบิกจ่ายเงินค่าเช่าบ้านของข้าราชการส่วนท้องถิ่น
A55: ค่าใช้สอย | G55: รวม | H55: =SUM(H56) -> 84000 | I55: บาท
A56: 1) รายจ่ายเพื่อให้ได้มาซึ่งบริการ | G56: รวม | H56: =SUM(H57) -> 84000 | I56: บาท
B57: (1) ค่าจ้างเหมาบริการ | G57: จำนวน | H57: 84000 | I57: บาท
A58: เพื่อจ่ายเป็นค่าจ้างเหมาบริการคนงานเพื่อปฏิบัติงานตามภารกิจของเทศบาล จำนวน 1 อัตรา
B59: กรณีจ้างเหมาบริการ ให้ถือปฏิบัติตามหนังสือสั่งการ ดังนี้
B60: 1) หนังสือกระทรวงมหาดไทย ที่ มท 0808.2/ว 7120 ลงวันที่ 1 ธันวาคม 2559 เรื่อง หลักเกณฑ์การเบิกจ่าย
A61: เงินค่าจ้างเหมาบริการขององค์กรปกครองส่วนท้องถิ่น
B62: กรณีจ้างแรงงาน ให้ถือปฏิบัติตามกฎหมาย ดังนี้
B63: 1) ประมวลกฎหมายแพ่งและพาณิชย์ บรรพ 3 ลักษณะ 6 จ้างแรงงาน
B64: 2) พระราชบัญญัติแรงงานสัมพันธ์ พ.ศ. 2541
A66: งานระดับก่อนวัยเรียนและประถมศึกษา | G66: รวม | H66: =SUM(H67,H118,H505,H570) -> 5725440 | I66: บาท
A67: งบบุคลากร | G67: รวม | H67: =SUM(H69) -> 1231800 | I67: บาท
A68: หมวดเงินเดือน ค่าจ้างประจำ และค่าจ้างชั่วคราว
A69: เงินเดือน (ฝ่ายประจำ) | G69: รวม | H69: =SUM(H70,H88,H100) -> 1231800 | I69: บาท
A70: 1) เงินเดือนพนักงาน | G70: จำนวน | H70: =SUM([5]แผนงานการศึกษา!$E$16) -> 819000 | I70: บาท
A71: เพื่อจ่ายเป็นเงินเดือนพนักงานส่วนท้องถิ่นประจำปี และเงินปรับปรุงเงินเดือนพนักงานส่วนท้องถิ่นประจำปี จำนวน
A72: 3 อัตรา โดยจ่ายให้กับพนักงานส่วนท้องถิ่น ดังนี้
B73: 1. ครู จำนวน 3 ตำแหน่ง
A74: - เป็นไปตามพระราชบัญญัติ พระราชกฤษฎีกา ประกาศ และหนังสือสั่งการ ดังนี้
B75: 1) พระราชบัญญัติระเบียบบริหารงานบุคคลส่วนท้องถิ่น พ.ศ. 2542
B76: 2) พระราชกฤษฎีกาการจ่ายเงินเดือน เงินปี บำเหน็จ บำนาญและเงินอื่นในลักษณะเดียวกัน พ.ศ. 2535
B77: 3) ประกาศคณะกรรมการมาตรฐานการบริหารงานบุคคลส่วนท้องถิ่น เรื่อง กำหนดมาตรฐานกลางการ
A78: บริหารงานบุคคลส่วนท้องถิ่น (ฉบับที่ 11) ลงวันที่ 6 มิถุนายน 2560
B79: 4) หนังสือสำนักงาน ก.จ., ก.ท. และ ก.อบต. ด่วนที่สุด ที่ มท 0809.3/ว 2683 ลงวันที่ 15 ธันวาคม 2558
A80: เรื่อง ประกาศ ก.จ, ก.ท. และ ก.อบต. เรื่อง กำหนดมาตรฐานทั่วไปเกี่ยวกับอัตราเงินเดือนและวิธีการจ่ายเงินเดือนและ
A81: ประโยชน์ตอบแทนอื่น (ฉบับที่ 4) และประกาศ ก.จ., ก.ท. และ ก.อบต. เรื่องมาตรฐานทั่วไปเกี่ยวกับอัตราค่าจ้างและ
A82: การให้ลูกจ้างขององค์กรปกครองส่วนท้องถิ่นได้รับค่าจ้าง (ฉบับที่ 4)
B83: 5) หนังสือสำนักงาน ก.จ., ก.ท. และ ก.อบต. ด่วนที่สุด ที่ มท 0809.3/ว 13 ลงวันที่ 3 กรกฎาคม 2561
A84: ประกาศ ก.จ., ก.ท. และ ก.อบต. เรื่อง มาตรฐานทั่วไปเกี่ยวกับการกำหนดหลักเกณฑ์การเลื่อนขั้นเงินเดือนข้าราชการ
A85: และพนักงานส่วนท้องถิ่น (ฉบับที่ 2) พ.ศ. 2561
B86: 6) หนังสือกระทรวงมหาดไทย ด่วนที่สุด ที่ มท 0808.2/ว 3028 ลงวันที่ 6 มิถุนายน 2561 เรื่อง ซักซ้อม
A87: แนวทางการจัดทำงบประมาณรายจ่ายประจำปีงบประมาณ พ.ศ. 2562 ขององค์กรปกครองส่วนท้องถิ่น
A88: 2) ค่าตอบแทนพนักงานจ้าง | G88: จำนวน | H88: =SUM([5]แผนงานการศึกษา!$E$21) -> 352800 | I88: บาท
A89: เพื่อจ่ายเป็นค่าตอบแทนให้กับพนักงานจ้าง และเงินปรับปรุงค่าตอบแทนพนักงานจ้าง จำนวน 3 อัตรา จำนวน 12 เดือน
A90: โดยจ่ายให้กับพนักงานจ้าง ดังนี้
B91: 1. พนักงานจ้างตามภารกิจ (ผู้ดูแลเด็ก) จำนวน 2 ตำแหน่ง
B92: 2. พนักงานจ้างทั่วไป (ภารโรง) จำนวน 1 ตำแหน่ง
A93: - เป็นไปตามพระราชบัญญัติ พระราชกฤษฎีกา และหนังสือสั่งการ ดังนี้
B94: 1) พระราชบัญญัติระเบียบบริหารงานบุคคลส่วนท้องถิ่น พ.ศ. 2542
B95: 2) พระราชกฤษฎีกาการจ่ายเงินเดือน เงินปี บำเหน็จ บำนาญและเงินอื่นในลักษณะเดียวกัน พ.ศ. 2535
B96: 3) หนังสือสำนักงาน ก.จ., ก.ท. และ ก.อบต. ที่ มท 0809.5/ว 36 ลงวันที่ 26 สิงหาคม 2558 เรื่อง ประกาศ
A97: ก.จ., ก.ท. และ ก.อบต. เรื่อง มาตรฐานทั่วไปเกี่ยวกับพนักงานจ้าง
B98: 4) หนังสือกระทรวงมหาดไทย ด่วนที่สุด ที่ มท 0808.2/ว 3028 ลงวันที่ 6 มิถุนายน 2561 เรื่อง ซักซ้อม
A99: แนวทางการจัดทำงบประมาณรายจ่ายประจำปีงบประมาณ พ.ศ. 2562 ขององค์กรปกครองส่วนท้องถิ่น
A100: 3) เงินเพิ่มต่าง ๆ ของพนักงานจ้าง | G100: จำนวน | H100: =SUM([5]แผนงานการศึกษา!$E$26) -> 60000 | I100: บาท
A101: เพื่อจ่ายเป็นเงินเพิ่มค่าครองชีพชั่วคราวให้กับพนักงานจ้าง จำนวน 3 อัตรา จำนวน 12 เดือน โดยจ่ายให้กับพนักงานจ้าง
A102: ดังนี้
B103: 1. พนักงานจ้างตามภารกิจ (ผู้ดูแลเด็ก) จำนวน 2 ตำแหน่ง
B104: 2. พนักงานจ้างทั่วไป (ภารโรง) จำนวน 1 ตำแหน่ง
A105: - เป็นไปตามพระราชกฤษฎีกา และหนังสือสั่งการ ดังนี้
...

Sheet แผนงานสาธารณสุข
A1: แผนงานสาธารณสุข | G1: รวม | H1: =SUM(H2,H446) -> 5402450 | I1: บาท
A2: งานบริหารทั่วไปเกี่ยวกับสาธารณสุข | G2: รวม | H2: =SUM(H3,H88) -> 4885750 | I2: บาท
A3: งบบุคลากร | G3: รวม | H3: =SUM(H5) -> 1931580 | I3: บาท
A4: หมวดเงินเดือน ค่าจ้างประจำ และค่าจ้างชั่วคราว
A5: เงินเดือน (ฝ่ายประจำ) | G5: รวม | H5: =SUM(H6,H26,H43,H52,H62) -> 1931580 | I5: บาท
A6: 1) เงินเดือนพนักงาน | G6: จำนวน | H6: =SUM([5]แผนงานสาธารณสุข!$E$16) -> 1507920 | I6: บาท
A7: เพื่อจ่ายเป็นเงินเดือนพนักงานส่วนท้องถิ่นและเงินปรับปรุงเงินเดือนประจำปีของพนักงานส่วนท้องถิ่น จำนวน 5 อัตรา
A8: จำนวน 12 เดือน เป็นเงิน 1,507,920 บาท โดยจ่ายให้กับพนักงานเทศบาลสามัญ ดังนี้
B9: (1) ผู้อำนวยการกองสาธารณสุขและสิ่งแวดล้อม จำนวน 1 ตำแหน่ง
B10: (2) หัวหน้าฝ่ายบริหารงานสาธารณสุข จำนวน 1 ตำแหน่ง
B11: (3) เจ้าพนักงานธุรการ จำนวน 1 ตำแหน่ง
B12: (4) เจ้าพนักงานสาธารณสุข จำนวน 1 ตำแหน่ง
B13: (5) นักวิชาการสาธารณสุข จำนวน 1 ตำแหน่ง
A14: - เป็นไปตามพระราชบัญญัติ พระราชกฤษฎีกา ประกาศ และหนังสือสั่งการ ดังนี้
B15: 1) พระราชบัญญัติระเบียบบริหารงานบุคคลส่วนท้องถิ่น พ.ศ. 2542
B16: 2) พระราชกฤษฎีกาการจ่ายเงินเดือน เงินปี บำเหน็จ บำนาญและเงินอื่นในลักษณะเดียวกัน พ.ศ. 2535
B17: 3) ประกาศคณะกรรมการมาตรฐานการบริหารงานบุคคลส่วนท้องถิ่น เรื่อง กำหนดมาตรฐานกลางการ
A18: บริหารงานบุคคลส่วนท้องถิ่น (ฉบับที่ 11) ลงวันที่ 6 มิถุนายน 2560
B19: 4) หนังสือสำนักงาน ก.จ., ก.ท. และ ก.อบต. ด่วนที่สุด ที่ มท 0809.3/ว 2683 ลงวันที่ 15 ธันวาคม 2558
A20: เรื่อง ประกาศ ก.จ., ก.ท. และ ก.อบต. เรื่อง มาตรฐานทั่วไปเกี่ยวกับอัตราเงินเดือนและวิธีการจ่ายเงินเดือนและประโยชน์
A21: ตอบแทนอื่น (ฉบับที่ 4) และประกาศ ก.จ., ก.ท. และ ก.อบต. เรื่อง มาตรฐานทั่วไปเกี่ยวกับอัตราค่าจ้างและการให้ลูกจ้าง
A22: ขององค์กรปกครองส่วนท้องถิ่นได้รับค่าจ้าง (ฉบับที่ 4)
B23: 5) หนังสือสำนักงาน ก.จ., ก.ท. และ ก.อบต. ด่วนที่สุด ที่ มท 0809.3/ว 13 ลงวันที่ 3 กรกฎาคม 2561
A24: ประกาศ ก.จ., ก.ท. และ ก.อบต. เรื่อง มาตรฐานทั่วไปเกี่ยวกับการกำหนดหลักเกณฑ์การเลื่อนขั้นเงินเดือนข้าราชการ
A25: และพนักงานส่วนท้องถิ่น (ฉบับที่ 2) พ.ศ. 2561
A26: 2) เงินประจำตำแหน่งหัวหน้าส่วนราชการ | G26: จำนวน | H26: =SUM([2]แผนงานสาธารณสุข!$E$20) -> 60000 | I26: บาท
A27: เพื่อจ่ายเป็นเงินประจำตำแหน่งพนักงาน ดังนี้
B28: 1) ผู้อำนวยการกองสาธารณสุขและสิ่งแวดล้อม ในอัตราเดือนละ 3,500 บาท จำนวน 12 เดือน
G29: เป็นเงิน | H29: 42000 | I29: บาท
B30: 2) หัวหน้าฝ่ายบริหารงานสาธารณสุข ในอัตราเดือนละ 1,500 บาท รวม 12 เดือน
G31: เป็นเงิน | H31: 18000 | I31: บาท
A32: - เป็นไปตามพระราชบัญญัติ พระราชกฤษฎีกา ประกาศ และหนังสือสั่งการ ดังนี้
B33: 1) พระราชบัญญัติระเบียบข้าราชการพลเรือน พ.ศ. 2551
B34: 2) พระราชบัญญัติระเบียบบริหารงานบุคคลส่วนท้องถิ่น พ.ศ. 2542
B35: 3) พระราชบัญญัติเงินเดือนและเงินประจำตำแหน่ง พ.ศ. 2538 และที่แก้ไขเพิ่มเติมถึง (ฉบับที่ 3) พ.ศ. 2544
B36: 4) พระราชกฤษฎีกาการจ่ายเงินเดือน เงินปี บำเหน็จ บำนาญและเงินอื่นในลักษณะเดียวกัน พ.ศ. 2535
B37: 5) ระเบียบกระทรวงการคลังว่าด้วยการเบิกจ่ายเงินค่าตอบแทนนอกเหนือจากเงินเดือนข้าราชการและลูกจ้าง
A38: ประจำส่วนราชการ (ฉบับที่ 4) พ.ศ. 2553 ประกาศลงวันที่ 3 ธันวาคม 2553
B39: 6) ประกาศคณะกรรมการมาตรฐานการบริหารงานบุคคลส่วนท้องถิ่น เรื่องกำหนดมาตรฐานกลางการบริหาร
A40: บุคคลท้องถิ่น (ฉบับที่ 2)
B41: 7) ประกาศคณะกรรมการพนักงานเทศบาลจังหวัดขอนแก่น เรื่องหลักเกณฑ์และเงื่อนไขเกี่ยวกับการบริหาร
A42: งานบุคคลของเทศบาล (ฉบับที่ 64) พ.ศ. 2559
A43: 3) ค่าจ้างลูกจ้างประจำ | G43: รวม | H43: =SUM([5]แผนงานสาธารณสุข!$E$23) -> 203520 | I43: บาท
A44: เพื่อจ่ายเป็นเงินค่าจ้างประจำให้กับลูกจ้างประจำ พร้อมทั้งเงินปรับปรุงค่าจ้างประจำปีและเงินปรับอัตราค่าจ้าง จำนวน
A45: 1 อัตรา จำนวน 12 เดือน โดยจ่ายให้กับลูกจ้างประจำ ดังนี้
B46: 1) พนักงานขับรถยนต์ จำนวน 1 ตำแหน่ง
A47: - เป็นไปตามพระราชบัญญัติ พระราชกฤษฎีกา ประกาศ และหนังสือสั่งการ ดังนี้
B48: 1) พระราชบัญญัติระเบียบบริหารงานบุคคลส่วนท้องถิ่น พ.ศ. 2542
B49: 2) พระราชกฤษฎีกาการจ่ายเงินเดือน เงินปี บำเหน็จ บำนาญและเงินอื่นในลักษณะเดียวกัน พ.ศ. 2535
B50: 3) ประกาศคณะกรรมการมาตรฐานการบริหารงานบุคคลส่วนท้องถิ่น เรื่อง กำหนดมาตรฐานกลางการบริหาร
A51: งานบุคคลส่วนท้องถิ่น (ฉบับที่ 11) ลงวันที่ 6 มิถุนายน 2560
A52: 4) ค่าตอบแทนพนักงานจ้าง | G52: จำนวน | H52: =SUM([5]แผนงานสาธารณสุข!$E$27) -> 150240 | I52: บาท
A53: เพื่อจ่ายเป็นค่าตอบแทนพนักงานจ้าง 1 อัตรา จำนวน 12 เดือน เป็นเงิน 168,000 บาท โดยจ่ายให้กับพนักงานจ้าง ดังนี้
B54: (1) พนักงานจ้างตามภารกิจ จำนวน 1 ตำแหน่ง
A55: - เป็นไปตามพระราชกฤษฎีกา ระเบียบ และประกาศ ดังนี้
B56: 1) พระราชบัญญัติระเบียบบริหารงานบุคคลส่วนท้องถิ่น พ.ศ. 2542
B57: 2) พระราชกฤษฎีกาการจ่ายเงินเดือน เงินปี บำเหน็จ บำนาญและเงินอื่นในลักษณะเดียวกัน พ.ศ. 2535
B58: 3) หนังสือสำนักงาน ก.จ., ก.ท. และ ก.อบต. ที่ มท 0809.5/ว 36 ลงวันที่ 26 สิงหาคม 2558 เรื่อง ประกาศ
A59: ก.จ., ก.ท. และ ก.อบต. เรื่อง มาตรฐานทั่วไปเกี่ยวกับพนักงานจ้าง
B60: 4) หนังสือกระทรวงมหาดไทย ด่วนที่สุด ที่ มท 0808.2/ว 3028 ลงวันที่ 6 มิถุนายน 2561 เรื่อง ซักซ้อม
A61: แนวทางการจัดทำงบประมาณรายจ่ายประจำปีงบประมาณ พ.ศ. 2562 ขององค์กรปกครองส่วนท้องถิ่น
A62: 5) เงินเพิ่มต่าง ๆ ของพนักงานจ้าง | G62: จำนวน | H62: =SUM([5]แผนงานสาธารณสุข!$E$31) -> 9900 | I62: บาท
A63: เพื่อจ่ายเป็นเงินเพิ่มค่าครองชีพชั่วคราวสำหรับพนักงานจ้าง จำนวน 1 อัตรา โดยจ่ายให้กับพนักงานจ้าง ดังนี้
B64: (1) พนักงานจ้างตามภารกิจ จำนวน 1 ตำแหน่ง
A65: - เป็นไปตามพระราชกฤษฎีกา ประกาศ และระเบียบ ดังนี้
B66: 1) พระราชบัญญัติระเบียบบริหารงานบุคคลส่วนท้องถิ่น พ.ศ. 2542
B67: 2) พระราชกฤษฎีกาการจ่ายเงินเดือน เงินปี บำเหน็จ บำนาญและเงินอื่นในลักษณะเดียวกัน พ.ศ. 2535
B68: 3) หนังสือสำนักงาน ก.จ., ก.ท. และ ก.อบต. ที่ มท 0809.3/ว 1372 ลงวันที่ 1 กรกฎาคม 2558 เรื่อง ประกาศ
A69: ก.จ., ก.ท. และ ก.อบต. เรื่อง กำหนดมาตรฐานทั่วไปเกี่ยวกับหลักเกณฑ์การให้พนักงานส่วนท้องถิ่น ลูกจ้าง และพนักงาน
A70: จ้างขององค์กรปกครองส่วนท้องถิ่น ได้รับเงินเพิ่มค่าครองชีพชั่วคราว (ฉบับที่ 2)
A88: งบดำเนินงาน | G88: รวม | H88: =SUM(H90,H139,H208) -> 2954170 | I88: บาท
A89: หมวดค่าตอบแทน ใช้สอย และวัสดุ
A90: ค่าตอบแทน | G90: รวม | H90: =SUM(H92,H108,H117,H126) -> 232170 | I90: บาท
A91: 1) ค่าตอบแทนผู้ปฏิบัติราชการอันเป็นประโยชน์แก่องค์กรปกครองส่วนท้องถิ่น
B92: (1) เงินประโยชน์ตอบแทนอื่นเป็นกรณีพิเศษ | G92: จำนวน | H92: =SUM('[5]โบนัส 62(0.5 เท่า)'!$G$97) -> 77570 | I92: บาท
A93: เพื่อจ่ายเป็นเงินประโยชน์ตอบแทนอื่นเป็นกรณีพิเศษ (โบนัส) แก่พนักงานเทศบาลและลูกจ้าง ของเทศบาล
A94: - เป็นไปตามระเบียบ และหนังสือสั่งการ ดังนี้
B95: 1) ระเบียบกระทรวงมหาดไทย ว่าด้วยการกำหนดเงินประโยชน์ตอบแทนอื่นเป็นกรณีพิเศษอันมีลักษณะเป็น
A96: เงินรางวัลประจำปีแก่พนักงานส่วนท้องถิ่นให้เป็นรายจ่ายอื่นขององค์กรปกครองส่วนท้องถิ่น พ.ศ. 2557
B97: 2) หนังสือกรมส่งเสริมการปกครองส่วนท้องถิ่น ที่ 0808.2/ว 859 ลงวันที่ 29 พฤษภาคม 2557 เรื่อง การ
A98: ดำเนินการตามระเบียบกระทรวงมหาดไทยว่าด้วยการกำหนดเงินประโยชน์ตอบแทนอื่นเป็นกรณีพิเศษอันมีลักษณะเป็น
A99: เงินรางวัลประจำปีแก่พนักงานส่วนท้องถิ่นให้เป็นรายจ่ายอื่นขององค์กรปกครองส่วนท้องถิ่น พ.ศ. 2557
B100: 3) หนังสือสำนักงาน ก.จ., ก.ท. และ ก.อบต. ด่วนที่สุด ที่ มท 0809.3/ว 380 ลงวันที่ 26 กุมภาพันธ์ 2558
A101: เรื่อง ประกาศ ก.จ, ก.ท. และ ก.อบต. เรื่อง กำหนดมาตรฐานทั่วไปเกี่ยวกับหลักเกณฑ์ เงื่อนไข และวิธีการกำหนดเงิน
A102: ประโยชน์ตอบแทนอื่นเป็นกรณีพิเศษอันมีลักษณะเป็นเงินรางวัลประจำปีสำหรับพนักงานส่วนท้องถิ่น ลูกจ้าง และ
A103: พนักงานจ้างขององค์กรปกครองส่วนท้องถิ่น พ.ศ. 2558
B104: 4) หนังสือสำนักงาน ก.จ, ก.ท. และ ก.อบต. ด่วนที่สุด ที่ มท 0809.3/ว 27 ลงวันที่ 29 ธันวาคม 2559 เรื่อง
A105: ซักซ้อมแนวทางปฏิบัติเกี่ยวกับหลักเกณฑ์ เงื่อนไข และวิธีการกำหนดประโยชน์ตอบแทนอื่นเป็นกรณีพิเศษอันมีลักษณะ
A106: เป็นเงินรางวัลประจำปี
A107: (ปรากฎในแผนพัฒนาท้องถิ่นสี่ปี พ.ศ. 2561-2564 หน้า 199 ลำดับที่ 4)
A108: 2) ค่าตอบแทนการปฏิบัติงานนอกเวลาราชการ | G108: จำนวน | H108: 10000 | I108: บาท
A109: เพื่อจ่ายเงินค่าตอบแทนการปฏิบัติงานนอกเวลาราชการให้แก่พนักงานเทศบาล ลูกจ้างประจำ และพนักงานจ้าง ที่ได้รับ
A110: อนุมัติให้ปฏิบัติหน้าที่นอกเวลาราชการปกติ หรือ ในวันหยุดราชการ
A111: - เป็นไปตามตามระเบียบ และหนังสือสั่งการ ดังนี้
B112: 1) ระเบียบกระทรวงมหาดไทย ว่าด้วยการเบิกจ่ายเงินตอบแทนการปฏิบัติงานนอกเวลาราชการขององค์กร
A113: ปกครองส่วนท้องถิ่น พ.ศ. 2559
B114: 2) หนังสือกรมส่งเสริมการปกครองส่วนท้องถิ่น ด่วนมาก ที่ มท 0808.2/ว 2409 ลงวันที่ 17 พฤศจิกายน
A115: 2559 เรื่อง ระเบียบกระทรวงมหาดไทยว่าด้วยการเบิกจ่ายเงินตอบแทนการปฏิบัติงานนอกเวลาราชการขององค์กร
A116: ปกครองส่วนท้องถิ่น พ.ศ. 2559
A117: 3) ค่าเช่าบ้าน | G117: จำนวน | H117: =SUM([2]ค่าเช่าบ้าน!$H$29) -> 69600 | I117: บาท
...

Sheet แผนงานสังคมสงเคราะห์
A1: แผนงานสังคมสงเคราะห์ | G1: รวม | H1: =SUM(H2) -> 90000 | I1: บาท
A2: งานสวัสดิการสังคมและสังคมสงเคราะห์ | G2: รวม | H2: =SUM(H3,H21) -> 90000 | I2: บาท
A3: งบดำเนินงาน | G3: รวม | H3: =SUM(H5,H63,H291,H408) -> 70000 | I3: บาท
A4: หมวดค่าตอบแทน ใช้สอย และวัสดุ
A5: ค่าใช้สอย | G5: รวม | H5: =SUM(H7,H23,H34,H42,H50) -> 70000 | I5: บาท
A6: (1) รายจ่ายเกี่ยวเนื่องกับการปฏิบัติราชการที่ไม่เข้าลักษณะรายจ่ายหมวดอื่น ๆ
G7: รวม | H7: =SUM(H8,H15) -> 70000 | I7: บาท
B8: 1) โครงการช่วยเหลือประชาชนด้านที่อยู่อาศัย | G8: จำนวน | H8: 60000 | I8: บาท
A9: เพื่อจ่ายเป็นค่าใช้จ่ายในการจัดทำโครงการช่วยเหลือประชาชนด้านที่อยู่อาศัย สำหรับผู้ยากไร้ ไม่มีที่พึ่งพา ไม่มีที่อยู่อาศัยที่
A10: มั่นคงถาวร โดยมีค่าใช้จ่ายเกี่ยวกับ ค่าวัสดุอุปกรณ์ในการซ่อมแซมที่อยู่อาศัย หรือซ่อมแซมที่อยู่อาศัย ค่าใช้จ่ายอื่นที่
A11: จำเป็นและเกี่ยวข้องในการจัดทำโครงการ ตามระเบียบ ดังนี้
B12: 1) ระเบียบกรมพัฒนาสังคมและสวัสดิการ ว่าด้วยสงเคราะห์ครอบครัวผู้มีรายได้น้อยและผู้ไร้ที่พึ่ง พ.ศ. 2552
A13: (ปรากฎในแผนพัฒนาท้องถิ่นสี่ปี พ.ศ. 2561-2564 หน้า 139 ลำดับที่ 3)
B14: 4. โครงการสงเคราะห์ผู้ด้อยโอกาสและครัวเรือนที่ตกเกณฑ์ จปฐ.
G15: จำนวน | H15: 10000 | I15: บาท
A16: เพื่อจ่ายเป็นค่าใช้จ่ายในการจัดทำโครงการสงเคราะห์ผู้ด้อยโอกาสและครัวเรือนที่ตกเกณฑ์ จปฐ. โดยการฝึกอบรมอาชีพ
A17: และสวัสดิการให้กับผู้ด้อยโอกาสและครัวเรือนที่ตกเกณฑ์ จปฐ. เพื่อให้ความช่วยเหลือประชาชน ตามระเบียบ ดังนี้
B18: 1) ระเบียบกรมพัฒนาสังคมและสวัสดิการ ว่าด้วยสงเคราะห์ครอบครัวผู้มีรายได้น้อยและผู้ไร้ที่พึ่ง พ.ศ. 2552
A19: (ปรากฎในแผนพัฒนาท้องถิ่นสี่ปี พ.ศ. 2561-2564 หน้า 139 ลำดับที่ 4)
A21: งบเงินอุดหนุน | G21: รวม | H21: =SUM(H25) -> 20000 | I21: บาท
A22: หมวดเงินอุดหนุน
A23: (1) เงินอุดหนุนส่วนราชการ
B24: 1. อุดหนุนโครงการศูนย์เฉลิมพระเกีรติเพื่อช่วยเหลือผู้ป่วยโรคเอดส์ และผู้ติดเชื้อ H.I.V.
G25: จำนวน | H25: 20000 | I25: บาท
A26: เพื่อจ่ายเป็นเงินอุดหนุนที่ทำการปกครองอำเภอแวงใหญ่ ในการดำเนินงานตามโครงการศูนย์เฉลิมพระเกียรติเพื่อช่วยเหลือ
A27: ผู้ป่วยโรคเอดส์ และผู้ติดเชื้อ H.I.V. ตามระเบียบ และหนังสือสั่งการ ดังนี้
B28: 1) ระเบียบกระทรวงมหาดไทย ว่าด้วยเงินอุดหนุนขององค์กรปกครองส่วนท้องถิ่น พ.ศ. 2559
B29: 2) หนังสือกระทรวงมหาดไทย ด่วนมาก ที่ มท 0808.2/ว 3616 ลงวันที่ 24 มิถุนายน 2559 เรื่อง ระเบียบ
A30: กระทรวงมหาดไทย ว่าด้วยเงินอุดหนุนขององค์กรปกครองส่วนท้องถิ่น พ.ศ. 2559
A31: (ปรากฎในแผนพัฒนาท้องถิ่นสี่ปี พ.ศ. 2561-2564 เพิ่มเติม ครั้งที่ 1 พ.ศ. 2560 หน้า 45 ลำดับที่ 1)

Sheet แผนงานเคหะและชุมชน
A1: แผนงานเคหะและชุมชน | G1: รวม | H1: =SUM(H2,H424,H462,H482) -> 4584735 | I1: บาท
A2: งานบริหารทั่วไปเกี่ยวกับเคหะและชุมชน | G2: รวม | H2: =SUM(H3,H64,H401) -> 3392735 | I2: บาท
A3: งบบุคลากร | G3: รวม | H3: =SUM(H5) -> 2403900 | I3: บาท
A4: หมวดเงินเดือน ค่าจ้างประจำ และค่าจ้างชั่วคราว
A5: เงินเดือน (ฝ่ายประจำ) | G5: รวม | H5: =SUM(H6,H19,H38,H42,H53) -> 2403900 | I5: บาท
A6: 1. เงินเดือนพนักงาน | G6: จำนวน | H6: =SUM([5]แผนงานเคหะและชุมชน!$E$13) -> 1663560 | I6: บาท
A7: เพื่อจ่ายเป็นเงินเดือนพนักงานเทศบาลสามัญและเงินปรับปรุงเงินเดือนประจำปีของพนักงานเทศบาลสามัญ จำนวน 5 อัตรา
A8: จำนวน 12 เดือน เป็นเงิน 1,663,560 บาท โดยจ่ายให้กับพนักงานเทศบาลสามัญ ดังนี้
B9: (1) ผู้อำนวยการกองช่าง จำนวน 1 ตำแหน่ง
B10: (2) หัวหน้าฝ่ายแบบแปลนและก่อสร้าง จำนวน 1 ตำแหน่ง
B11: (3) นายช่างโยธา จำนวน 1 ตำแหน่ง
B12: (4) นายช่างไฟฟ้า จำนวน 1 ตำแหน่ง
B13: (5) วิศวกรโยธา จำนวน 1 ตำแหน่ง
A14: - เป็นไปตามพระราชบัญญัติ พระราชกฤษฎีกา ประกาศ และหนังสือสั่งการ ดังนี้
B15: 1) พระราชบัญญัติระเบียบบริหารงานบุคคลส่วนท้องถิ่น พ.ศ. 2542
B16: 2) พระราชกฤษฎีกาการจ่ายเงินเดือน เงินปี บำเหน็จ บำนาญและเงินอื่นในลักษณะเดียวกัน พ.ศ. 2535
B17: 3) ประกาศคณะกรรมการกลางพนักงานเทศบาลจังหวัดขอนแก่น เรื่อง หลักเกณฑ์และเงื่อนไขเกี่ยวกับการบริหารงาน
A18: บุคคลของเทศบาล (ฉบับที่ 62) พ.ศ. 2559
A19: (2) เงินประจำตำแหน่ง | G19: จำนวน | H19: =SUM([2]แผนงานเคหะและชุมชน!$E$17) -> 60000 | I19: บาท
A20: เพื่อจ่ายเป็นเงินประจำตำแหน่งพนักงาน ดังนี้
B21: 1) ผู้อำนวยการกองช่าง ในอัตราเดือนละ 3,500 บาท จำนวน 12 เดือน
G22: เป็นเงิน | H22: 42000 | I22: บาท
B23: 2) หัวหน้าฝ่ายแบบแปลนและก่อสร้าง ในอัตราเดือนละ 1,500 บาท จำนวน 12 เดือน
G24: เป็นเงิน | H24: 18000 | I24: บาท
A25: - เป็นไปตามพระราชบัญญัติ พระราชกฤษฎีกา ประกาศ และหนังสือสั่งการ ดังนี้
B26: 1) พระราชบัญญัติระเบียบข้าราชการพลเรือน พ.ศ. 2551
B27: 2) พระราชบัญญัติระเบียบบริหารงานบุคคลส่วนท้องถิ่น พ.ศ. 2542
B28: 3) พระราชบัญญัติเงินเดือนและเงินประจำตำแหน่ง พ.ศ. 2538 และที่แก้ไขเพิ่มเติมถึง (ฉบับที่ 3) พ.ศ. 2544
B29: 4) พระราชกฤษฎีกาการจ่ายเงินเดือน เงินปี บำเหน็จ บำนาญและเงินอื่นในลักษณะเดียวกัน พ.ศ. 2535
B30: 5) ระเบียบกระทรวงการคลังว่าด้วยการเบิกจ่ายเงินค่าตอบแทนนอกเหนือจากเงินเดือนข้าราชการและลูกจ้างประจำ
A31: ส่วนราชการ (ฉบับที่ 4) พ.ศ. 2553 ประกาศลงวันที่ 3 ธันวาคม 2553
B32: 6) ประกาศคณะกรรมการมาตรฐานการบริหารงานบุคคลส่วนท้องถิ่น เรื่องกำหนดมาตรฐานกลางการบริหารบุคคล
A33: ท้องถิ่น (ฉบับที่ 2)
B34: 7) ประกาศคณะกรรมการพนักงานเทศบาลจังหวัดขอนแก่น เรื่องหลักเกณฑ์และเงื่อนไขเกี่ยวกับการบริหารงาน
A35: บุคคลของเทศบาล (ฉบับที่ 64) พ.ศ. 2559
A38: (3) ค่าจ้างลูกจ้างประจำ | G38: จำนวน | H38: =SUM([5]แผนงานเคหะและชุมชน!$E$20) -> 199800 | I38: บาท
A39: เพื่อจ่ายเป็นเงินค่าจ้างประจำให้กับลูกจ้างประจำ พร้อมทั้งเงินปรับปรุงค่าจ้างประจำปีและเงินปรับอัตราค่าจ้าง จำนวน
A40: 1 อัตรา จำนวน 12 เดือน โดยจ่ายให้กับลูกจ้างประจำ ดังนี้
B41: 1) ผู้ช่วยช่างไฟฟ้า จำนวน 1 ตำแหน่ง
A42: (4) ค่าตอบแทนพนักงานจ้าง | G42: จำนวน | H42: =SUM([5]แผนงานเคหะและชุมชน!$E$26) -> 453600 | I42: บาท
A43: เพื่อจ่ายเป็นค่าตอบแทนพนักงานจ้าง 3 อัตรา จำนวน 12 เดือน เป็นเงิน 453,600 บาท โดยจ่ายให้กับพนักงานจ้าง ดังนี้
B44: (1) พนักงานจ้างตามภารกิจ (ช่างปูน) จำนวน 1 ตำแหน่ง
B45: (2) พนักงานจ้างตามภารกิจ (ช่างไม้) จำนวน 1 ตำแหน่ง
B46: (3) พนักงานจ้างตามภารกิจ (ช่างไฟฟ้า) จำนวน 1 ตำแหน่ง
A47: - เป็นไปตามพระราชกฤษฎีกา ระเบียบ และประกาศ ดังนี้
B48: 1) พระราชกฤษฎีกาการจ่ายเงินเดือน เงินปี บำเหน็จ บำนาญและเงินอื่นในลักษณะเดียวกัน พ.ศ. 2535
B49: 2) ประกาศคณะกรรมการกลางพนักงานเทศบาล เรื่อง กำหนดมาตรฐานทั่วไปเกี่ยวกับหลักเกณฑ์การให้พนักงาน
A50: เทศบาล ลูกจ้าง และพนักงานจ้างของเทศบาลได้รับเงินเพิ่มการครองชีพชั่วคราว (ฉบับที่ 2)
B51: 3) ตามระเบียบกระทรวงมหาดไทยว่าด้วยการเบิกจ่ายเงินเพิ่มการครองชีพชั่วคราวข้าราชการและลูกจ้างประจำของ
A52: ส่วนราชการ (ฉบับที่ 6) พ.ศ. 2558
A53: (5) เงินเพิ่มต่าง ๆ ของพนักงานจ้าง | G53: จำนวน | H53: =SUM([5]แผนงานเคหะและชุมชน!$E$32) -> 26940 | I53: บาท
A54: เพื่อจ่ายเป็นเงินเพิ่มค่าครองชีพชั่วคราวสำหรับพนักงานจ้างตามภารกิจ จำนวน 3 อัตรา โดยจ่ายให้กับพนักงานจ้าง ดังนี้
B55: (1) พนักงานจ้างตามภารกิจ (ช่างปูน) จำนวน 1 ตำแหน่ง
B56: (2) พนักงานจ้างตามภารกิจ (ช่างไม้) จำนวน 1 ตำแหน่ง
B57: (3) พนักงานจ้างตามภารกิจ (ช่างไฟฟ้า) จำนวน 1 ตำแหน่ง
A58: - เป็นไปตามพระราชกฤษฎีกา ประกาศ และระเบียบ ดังนี้
B59: 1) พระราชกฤษฎีกาการจ่ายเงินเดือน เงินปี บำเหน็จ บำนาญและเงินอื่นในลักษณะเดียวกัน พ.ศ. 2535
B60: 2) ประกาศคณะกรรมการกลางพนักงานเทศบาล เรื่อง กำหนดมาตรฐานทั่วไปเกี่ยวกับหลักเกณฑ์การให้พนักงาน
A61: เทศบาล ลูกจ้าง และพนักงานจ้างของเทศบาลได้รับเงินเพิ่มการครองชีพชั่วคราว (ฉบับที่ 2)
B62: 3) ตามระเบียบกระทรวงมหาดไทยว่าด้วยการเบิกจ่ายเงินเพิ่มการครองชีพชั่วคราวข้าราชการและลูกจ้างประจำของ
A63: ส่วนราชการ (ฉบับที่ 6) พ.ศ. 2558
A64: งบดำเนินงาน | G64: รวม | H64: =SUM(H66,H116,H184) -> 951835 | I64: บาท
A65: หมวดค่าตอบแทน ใช้สอย และวัสดุ
A66: ค่าตอบแทน | G66: รวม | H66: =SUM(H69,H85,H94,H102) -> 103835 | I66: บาท
A67: 1. ค่าตอบแทนผู้ปฏิบัติราชการอันเป็นประโยชน์แก่องค์กรปกครองส่วนท้องถิ่น
G68: รวม | H68: =SUM(H69) -> 78835 | I68: บาท
B69: (1) เงินประโยชน์ตอบแทนอื่นเป็นกรณีพิเศษ | G69: จำนวน | H69: =SUM('[5]โบนัส 62(0.5 เท่า)'!$E$83) -> 78835 | I69: บาท
A70: เพื่อจ่ายเป็นเงินประโยชน์ตอบแทนอื่นเป็นกรณีพิเศษ (โบนัส) แก่พนักงานเทศบาลและลูกจ้าง ของเทศบาล
A71: - เป็นไปตามระเบียบ และหนังสือสั่งการ ดังนี้
B72: 1) ระเบียบกระทรวงมหาดไทย ว่าด้วยการกำหนดเงินประโยชน์ตอบแทนอื่นเป็นกรณีพิเศษอันมีลักษณะเป็นเงิน
A73: รางวัลประจำปีแก่พนักงานส่วนท้องถิ่นให้เป็นรายจ่ายอื่นขององค์กรปกครองส่วนท้องถิ่น พ.ศ. 2557
B74: 2) หนังสือกรมส่งเสริมการปกครองส่วนท้องถิ่น ที่ 0808.2/ว 859 ลงวันที่ 29 พฤษภาคม 2557 เรื่อง การดำเนินการ
A75: ตามระเบียบกระทรวงมหาดไทยว่าด้วยการกำหนดเงินประโยชน์ตอบแทนอื่นเป็นกรณีพิเศษอันมีลักษณะเป็นเงินรางวัล
A76: ประจำปีแก่พนักงานส่วนท้องถิ่นให้เป็นรายจ่ายอื่นขององค์กรปกครองส่วนท้องถิ่น พ.ศ. 2557
B77: 3) หนังสือสำนักงาน ก.จ., ก.ท. และ ก.อบต. ด่วนที่สุด ที่ มท 0809.3/ว 380 ลงวันที่ 26 กุมภาพันธ์ 2558 เรื่อง
A78: ประกาศ ก.จ, ก.ท. และ ก.อบต. เรื่อง กำหนดมาตรฐานทั่วไปเกี่ยวกับหลักเกณฑ์ เงื่อนไข และวิธีการกำหนดเงินประโยชน์
A79: ตอบแทนอื่นเป็นกรณีพิเศษอันมีลักษณะเป็นเงินรางวัลประจำปีสำหรับพนักงานส่วนท้องถิ่น ลูกจ้าง และพนักงานจ้างของ
A80: องค์กรปกครองส่วนท้องถิ่น พ.ศ. 2558
B81: 4) หนังสือสำนักงาน ก.จ, ก.ท. และ ก.อบต. ด่วนที่สุด ที่ มท 0809.3/ว 27 ลงวันที่ 29 ธันวาคม 2559 เรื่อง ซักซ้อม
A82: แนวทางปฏิบัติเกี่ยวกับหลักเกณฑ์ เงื่อนไข และวิธีการกำหนดประโยชน์ตอบแทนอื่นเป็นกรณีพิเศษอันมีลักษณะเป็นเงิน
A83: รางวัลประจำปี
A84: (ปรากฎในแผนพัฒนาท้องถิ่นสี่ปี พ.ศ. 2561-2564 หน้า 199 ลำดับที่ 4)
A85: 2. ค่าตอบแทนการปฏิบัติงานนอกเวลาราชการ | G85: จำนวน | H85: 10000 | I85: บาท
A86: เพื่อจ่ายเงินค่าตอบแทนการปฏิบัติงานนอกเวลาราชการให้แก่พนักงานเทศบาล ลูกจ้างประจำ และพนักงานจ้าง ที่ได้รับ
A87: อนุมัติให้ปฏิบัติหน้าที่นอกเวลาราชการปกติ หรือ ในวันหยุดราชการ
A88: - เป็นไปตามตามระเบียบ และหนังสือสั่งการ ดังนี้
B89: 1) ระเบียบกระทรวงมหาดไทย ว่าด้วยการเบิกจ่ายเงินตอบแทนการปฏิบัติงานนอกเวลาราชการขององค์กรปกครอง
A90: ส่วนท้องถิ่น พ.ศ. 2559
B91: 2) หนังสือกรมส่งเสริมการปกครองส่วนท้องถิ่น ด่วนมาก ที่ มท 0808.2/ว 2409 ลงวันที่ 17 พฤศจิกายน 2559
A92: เรื่อง ระเบียบกระทรวงมหาดไทยว่าด้วยการเบิกจ่ายเงินตอบแทนการปฏิบัติงานนอกเวลาราชการขององค์กรปกครอง
A93: ส่วนท้องถิ่น พ.ศ. 2559
A94: 3. ค่าเช่าบ้าน | G94: จำนวน | H94: 5000 | I94: บาท
A95: เพื่อจ่ายเป็นค่าเช่าบ้านของพนักงานเทศบาลตามสิทธิที่จะได้รับ
A96: - เป็นไปตามพระราชกฤษฎีกา และระเบียบ ดังนี้
B97: 1) ระเบียบกระทรวงมหาดไทย ว่าด้วยค่าเช่าบ้านของข้าราชการส่วนท้องถิ่น พ.ศ. 2548
B98: 2) ระเบียบกระทรวงมหาดไทย ว่าด้วยค่าเช่าบ้านของข้าราชการส่วนท้องถิ่น (ฉบับที่ 2) พ.ศ. 2551
B99: 3) ระเบียบกระทรวงมหาดไทย ว่าด้วยค่าเช่าบ้านของข้าราชการส่วนท้องถิ่น (ฉบับที่ 3) พ.ศ. 2559
B100: 4) หนังสือกระทรวงมหาดไทย ที่ มท 0808.2/ว 5862 ลงวันที่ 12 ตุลาคม 2559 เรื่อง หลักเกณฑ์และวิธีการเกี่ยวกับ
A101: การเบิกจ่ายเงินค่าเช่าบ้านของข้าราชการส่วนท้องถิ่น
A102: 4. เงินช่วยเหลือการศึกษาบุตร | G102: จำนวน | H102: 10000 | I102: บาท
...

Sheet แผนงานสร้างความเข้มแข็งของชุมชน
A1: แผนงานสร้างความเข้มแข็งของชุมชน | G1: รวม | H1: =SUM(H2) -> 215000 | I1: บาท
A2: งานส่งเสริมและสนับสนุนความเข้มแข็งของชุมชน | G2: รวม | H2: =SUM(H3,H96) -> 215000 | I2: บาท
A3: งบดำเนินงาน | G3: รวม | H3: =SUM(H5) -> 135000 | I3: บาท
A4: หมวดค่าตอบแทน ใช้สอย และวัสดุ
A5: ค่าใช้สอย | G5: รวม | H5: =SUM(H7) -> 135000 | I5: บาท
A6: (1) รายจ่ายเกี่ยวเนื่องกับการปฏิบัติราชการที่ไม่เข้าลักษณะรายจ่ายหมวดอื่น ๆ
G7: รวม | H7: =SUM(H8,H18,H35,H59,H73,H84) -> 135000 | I7: บาท
B8: 1. โครงการปลูกป่ารักษ์โลกเพิ่มพื้นที่สีเขียว | G8: จำนวน | H8: 15000 | I8: บาท
A9: เพื่อจ่ายเป็นค่าใช้จ่ายในการจัดทำโครงการปลูกป่ารักษ์โลกเพิ่มพื้นที่สีเขียวในสถานที่ราชการ ชุมชน ริมคลอง ป่าเสื่อม
A10: โทรม พื้นที่สาธารณะต่าง ๆ โดยมีค่าใช้จ่ายเกี่ยวกับค่าจัดซื้อวัสดุอุปกรณ์ ค่าจัดซื้อต้นไม้ หญ้า ค่าป้ายโครงการ ค่าป้าย
A11: ประชาสัมพันธ์ ค่าใช้จ่ายอื่นที่จำเป็นในการจัดทำโครงการ ตามพระราชบัญญัติ และระเบียบ ดังนี้
B12: 1) พระราชบัญญัติเทศบาล พ.ศ. 2496
B13: 2) พระราชบัญญัติกำหนดแผนและขั้นตอนการกระจายอำนาจให้แก่องค์กรปกครองส่วนท้องถิ่น พ.ศ. 2542
B14: 3) ระเบียบกระทรวงมหาดไทย ว่าด้วยการเบิกจ่ายในการจัดงาน การจัดการแข่งขันกีฬาและการส่งนักกีฬาเข้า
A15: เข้าร่วมการแข่งขันกีฬาขององค์กรปกครองส่วนท้องถิ่น พ.ศ. 2559
A16: (ปรากฎในแผนพัฒนาท้องถิ่นสี่ปี พ.ศ. 2561-2564 หน้า 195 ลำดับที่ 1)
B17: 2. โครงการจัดกิจกรรมพัฒนาเด็กและเยาวชนเนื่องในวันเยาวชนแห่งชาติ
G18: จำนวน | H18: 25000 | I18: บาท
A19: เพื่อจ่ายเป็นค่าใช้จ่ายในการจัดโครงการจัดกิจรรมพัฒนาเด็กและเยาวชนเนื่องในวันเยาวชนแห่งชาติ โดยมีค่าใช้จ่าย
A20: เกี่ยวกับการใช้และการตกแต่งสถานที่ ค่าใช้จ่ายในพิธีเปิดและปิด ค่าวัสดุ เครื่องเขียน และอุปกรณ์ ค่าประกาศนียบัตร
A21: ค่าถ่ายเอกสาร ค่าพิมพ์เอกสารและสิ่งพิมพ์ ค่าหนังสือ ค่าใช้จ่ายในการติดต่อสื่อสาร ค่าเช่าอุปกรณ์ต่างๆ ค่ากระเป๋าหรือ
A22: สิ่งที่ใช้บรรจุเอกสาร ค่าอาหารว่างและเครื่องดื่ม ค่าตอบแทนวิทยากร ค่าอาหาร ค่าป้ายโครงการ ค่าป้ายประชาสัมพันธ์
A23: ค่าใช้จ่ายอื่นที่จำเป็นสำหรับการจัดทำโครงการ
A24: - เป็นไปตามพระราชบัญญัติ และระเบียบ ดังนี้
B25: 1) พระราชบัญญัติเทศบาล พ.ศ. 2496
B26: 2) พระราชบัญญัติกำหนดแผนและขั้นตอนการกระจายอำนาจให้แก่องค์กรปกครองส่วนท้องถิ่น พ.ศ. 2542
B27: 3) ระเบียบกระทรวงมหาดไทย ว่าด้วยการเบิกจ่ายในการจัดงาน การจัดการแข่งขันกีฬาและการส่งนักกีฬาเข้า
A28: ร่วมการแข่งขันกีฬาขององค์กรปกครองส่วนท้องถิ่น พ.ศ. 2559
A29: (ปรากฎในแผนพัฒนาท้องถิ่นสี่ปี พ.ศ. 2561-2564 หน้า 139 ลำดับที่ 2)
B35: 3. โครงการประชุมประชาคมเพื่อจัดทำแผนชุมชน | G35: จำนวน | H35: 25000 | I35: บาท
A36: เพื่อจ่ายเป็นค่าใช้จ่ายในการจัดทำโครงการประชุมประชาคมเพื่อจัดทำแผนชุมชน เพื่อการส่งเสริม สนับสนุน การจัดทำ
A37: แผนชุมชน และกิจกรรมสนับสนุนการจัดประชุมประชาคมแผนชุมชน การพัฒนาผู้นำชุมชน สร้างเครือข่ายองค์กรชุมชน
A38: และสนับสนุนการขับเคลื่อนแผนชุมชนแบบบูรณาการ เพื่อนำข้อมูลมาจัดทำแผนพัฒนาท้องถิ่น โดยจ่ายเป็นค่าใช้จ่าย
A39: เกี่ยวกับการใช้และการตกแต่งสถานที่ ค่าใช้จ่ายในพิธีเปิดและปิด ค่าวัสดุ เครื่องเขียน และอุปกรณ์ ค่าประกาศนียบัตร
A40: เกี่ยวกับการใช้และการตกแต่งสถานที่ ค่าใช้จ่ายในพิธีเปิดและปิด ค่าวัสดุ เครื่องเขียน และอุปกรณ์ ค่าประกาศนียบัตร
A41: ค่าถ่ายเอกสาร ค่าพิมพ์เอกสารและสิ่งพิมพ์ ค่าหนังสือ ค่าใช้จ่ายในการติดต่อสื่อสาร ค่าเช่าอุปกรณ์ต่างๆ ค่ากระเป๋าหรือ
A42: สิ่งที่ใช้บรรจุเอกสาร ค่าอาหารว่างและเครื่องดื่ม ค่าตอบแทนวิทยากร ค่าอาหาร ค่าป้ายโครงการ ค่าป้ายประชาสัมพันธ์
A43: ค่าใช้จ่ายอื่นที่จำเป็นสำหรับการจัดทำโครงการ
A44: - เป็นไปตามพระราชบัญญัติ และระเบียบ ดังนี้
B45: 1) พระราชบัญญัติเทศบาล พ.ศ. 2496
B46: 2) พระราชบัญญัติกำหนดแผนและขั้นตอนการกระจายอำนาจให้แก่องค์กรปกครองส่วนท้องถิ่น พ.ศ. 2542
B47: 3) ระเบียบกระทรวงมหาดไทย ว่าด้วยการจัดทำแผนพัฒนาขององค์กรปกครองส่วนท้องถิ่น (ฉบับที่ 2)
A48: พ.ศ. 2559
B49: 4) หนังสือกระทรวงมหาดไทย ด่วนที่สุด ที่ มท 0810.3/ว 5797 ลงวันที่ 10 ตุลาคม 2559 เรื่อง ซักซ้อมแนวทาง
A50: การจัดทำและประสานแผนพัฒนาท้องถิ่นสี่ปี (พ.ศ. 2561 - 2564) ขององค์กรปกครองส่วนท้องถิ่น ตามระเบียบกระทรวง
A51: มหาดไทย ว่าด้วยการจัดทำแผนพัฒนาขององค์กรปกครองส่วนท้องถิ่น (ฉบับที่ 2) พ.ศ. 2559
B52: 5) หนังสือกรมส่งเสริมการปกครองท้องถิ่น ด่วนที่สุด ที่ มท 0810.3/ว 1002 ลงวันที่ 19 พฤษภาคม 2560
A53: เรื่อง การเชื่อมโยงและบูรณาการแผนในระดับพื้นที่ ประจำปีงบประมาณ พ.ศ. 2561
B54: 6) หนังสือกระทรวงมหาดไทย ที่ มท 0891.4/ว 976 ลงวันที่ 11 มีนาคม 2554 เรื่อง การสนับสนุนนโยบายการ
A55: ส่งเสริมการเมืองภาคพลเมืองของรัฐ
B56: 7) ระเบียบกระทรวงมหาดไทย ว่าด้วยการเบิกจ่ายในการจัดงาน การจัดการแข่งขันกีฬาและการส่งนักกีฬาเข้า
A57: ร่วมการแข่งขันกีฬาขององค์กรปกครองส่วนท้องถิ่น พ.ศ. 2559
A58: (ปรากฎในแผนพัฒนาท้องถิ่นสี่ปี พ.ศ. 2561-2564 หน้า 209 ลำดับที่ 1)
B59: 4. โครงการคาราวานเสริมสร้างเด็ก | G59: จำนวน | H59: 20000 | I59: บาท
A60: เพื่อจ่ายเป็นค่าใช้จ่ายในการโครงการคาราวานเสริมสร้างเด็ก ในด้านวัฒนธรรมภูมิปัญญาท้องถิ่น กิจกรรมส่งเสริมการอ่าน
A61: การฝึกอาชีพให้กับเด็กและเยาวชน การปรับเปลี่ยนพฤติกรรมให้กับเด็กและเยาวชนให้ดีขึ้น โดยมีค่าใช้จ่ายเกี่ยวกับ
A62: การใช้และการตกแต่งสถานที่ ค่าใช้จ่ายในพิธีเปิดและปิด ค่าวัสดุ เครื่องเขียน และอุปกรณ์ ค่าประกาศนียบัตร
A63: ค่าถ่ายเอกสาร ค่าพิมพ์เอกสารและสิ่งพิมพ์ ค่าหนังสือ ค่าใช้จ่ายในการติดต่อสื่อสาร ค่าเช่าอุปกรณ์ต่างๆ ค่ากระเป๋าหรือ
A64: สิ่งที่ใช้บรรจุเอกสาร ค่าอาหารว่างและเครื่องดื่ม ค่าตอบแทนวิทยากร ค่าอาหาร ค่าป้ายโครงการ ค่าป้ายประชาสัมพันธ์
A65: ค่าใช้จ่ายอื่นที่จำเป็นสำหรับการจัดทำโครงการ ตามพระราชบัญญัติ
A66: - เป็นไปตามพระราชบัญญัติ และระเบียบ ดังนี้
B67: 1) พระราชบัญญัติเทศบาล พ.ศ. 2496
B68: 2) พระราชบัญญัติกำหนดแผนและขั้นตอนการกระจายอำนาจให้แก่องค์กรปกครองส่วนท้องถิ่น พ.ศ. 2542
B69: 3) พระราชบัญญัติส่งเสริมการพัฒนาเด็กและเยาวชนแห่งชาติ (ฉบับที่ 2) พ.ศ. 2560
B70: 4) ระเบียบกระทรวงมหาดไทย ว่าด้วยค่าใช้จ่ายในการฝึกอบรมขององค์กรปกครองส่วนท้องถิ่น พ.ศ. 2557
A71: (ปรากฎในแผนพัฒนาท้องถิ่นสี่ปี พ.ศ. 2561-2564 หน้า 139 ลำดับที่ 1)
B72: 5. โครงการสร้างความสุข สร้างรอยยิ้มให้กับผู้สูงอายุและผู้พิการ
G73: จำนวน | H73: 20000 | I73: บาท
A74: เพื่อจ่ายเป็นค่าใช้จ่ายในการจัดกิจกรรมออกเยี่ยมบ้านผู้สูงอายุและผู้พิการ เพื่อให้ความรู้ในการดำเนินชีวิต การตรวจ
A75: สุขภาพเบื้องต้นแก่ผู้สูงอายุและผู้พิการ การให้ความรู้ด้านการสร้างความเข้มแข็งแก่สถาบันครอบครัว เป็นการสร้าง
A76: รอยยิ้มให้แก่ผู้สูงอายุและผู้พิการ เช่น การมอบการ์ดอวยพรวันเกิดในวันคล้ายวันเกิด ค่าใช้จ่ายอื่นที่จำเป็นสำหรับการ
A77: จัดทำโครงการ
A78: - เป็นไปตามพระราชบัญญัติ และระเบียบ ดังนี้
B79: 1) พระราชบัญญัติเทศบาล พ.ศ. 2496
B80: 2) พระราชบัญญัติกำหนดแผนและขั้นตอนการกระจายอำนาจให้แก่องค์กรปกครองส่วนท้องถิ่น พ.ศ. 2542
B81: 3) ระเบียบกระทรวงมหาดไทย ว่าด้วยการเบิกจ่ายในการจัดงาน การจัดการแข่งขันกีฬาและการส่งนักกีฬาเข้า
A82: ร่วมการแข่งขันกีฬาขององค์กรปกครองส่วนท้องถิ่น พ.ศ. 2559
A83: (ปรากฎในแผนพัฒนาท้องถิ่นสี่ปี พ.ศ. 2561 - 2564 หน้า 63 ลำดับที่ 9)
B84: 6. โครงการโรงเรียนผู้สูงอายุ | G84: จำนวน | H84: 30000 | I84: บาท
A85: เพื่อจ่ายเป็นค่าใช้จ่ายในการจัดทำโครงการโรงเรียนผู้สูงอายุในเขตเทศบาลตำบลแวงใหญ่ ทั้ง 7 หมู่บ้าน โดยมีค่าใช้จ่าย
A86: เกี่ยวกับการใช้และการตกแต่งสถานที่ ค่าใช้จ่ายในพิธีเปิดและปิด ค่าวัสดุ เครื่องเขียน และอุปกรณ์ ค่าประกาศนียบัตร
A87: ค่าถ่ายเอกสาร ค่าพิมพ์เอกสารและสิ่งพิมพ์ ค่าหนังสือ ค่าใช้จ่ายในการติดต่อสื่อสาร ค่าเช่าอุปกรณ์ต่างๆ ค่ากระเป๋าหรือ
A88: สิ่งที่ใช้บรรจุเอกสาร ค่าอาหารว่างและเครื่องดื่ม ค่าตอบแทนวิทยากร ค่าอาหาร ค่าป้ายโครงการ ค่าป้ายประชาสัมพันธ์
A89: - เป็นไปตามพระราชบัญญัติ และระเบียบ ดังนี้
B90: 1) พระราชบัญญัติเทศบาล พ.ศ. 2496
B91: 2) พระราชบัญญัติกำหนดแผนและขั้นตอนการกระจายอำนาจให้แก่องค์กรปกครองส่วนท้องถิ่น พ.ศ. 2542
B92: 3) ระเบียบกระทรวงมหาดไทย ว่าด้วยการเบิกจ่ายในการจัดงาน การจัดการแข่งขันกีฬาและการส่งนักกีฬาเข้า
A93: ร่วมการแข่งขันกีฬาขององค์กรปกครองส่วนท้องถิ่น พ.ศ. 2559
A94: (ปรากฎในแผนพัฒนาท้องถิ่นสี่ปี พ.ศ. 2561 - 2564 เพิ่มเติม ครั้งที่ 3 พ.ศ. 2561 หน้า 11 ลำดับที่ 6)
A96: งบเงินอุดหนุน | G96: รวม | H96: =SUM(H98) -> 80000 | I96: บาท
A97: หมวดเงินอุดหนุน
A98: (1) เงินอุดหนุนส่วนราชการ | G98: รวม | H98: =SUM(H100,H110,H119) -> 80000 | I98: บาท
B99: 1. อุดหนุนโครงการป้องกันและแก้ไขปัญหายาเสพติดในพื้นที่
G100: จำนวน | H100: 30000 | I100: บาท
A101: เพื่อจ่ายเป็นเงินอุดหนุนศูนย์ปฏิบัติการป้องกันและปราบปรามยาเสพติดอำเภอแวงใหญ่และที่ทำการปกครองอำเภอ
A102: แวงใหญ่ ในการดำเนินงานตามโครงการป้องกันและแก้ไขปัญหายาเสพติดในพื้นที่
A103: - เป็นไปตามระเบียบ และหนังสือสั่งการ ดังนี้
B104: 1) ระเบียบกระทรวงมหาดไทย ว่าด้วยเงินอุดหนุนขององค์กรปกครองส่วนท้องถิ่น พ.ศ. 2559
B106: 2) หนังสือกระทรวงมหาดไทย ด่วนมาก ที่ มท 0808.2/ว 3616 ลงวันที่ 24 มิถุนายน 2559 เรื่อง ระเบียบ
A107: กระทรวงมหาดไทย ว่าด้วยเงินอุดหนุนขององค์กรปกครองส่วนท้องถิ่น พ.ศ. 2559
...

Sheet แผนงานศาสนาวัฒนธรรมและนันทนาการ
A1: แผนงานการศาสนาวัฒนธรรมและนันทนาการ | G1: รวม | H1: =SUM(H2) -> 715000 | I1: บาท
A2: งานศาสนาวัฒนธรรมท้องถิ่น | G2: รวม | H2: =SUM(H3,H96) -> 715000 | I2: บาท
A3: งบดำเนินงาน | G3: รวม | H3: =H5 -> 545000 | I3: บาท
A4: หมวดค่าตอบแทน ใช้สอย และวัสดุ
A5: ค่าใช้สอย | G5: รวม | H5: =SUM(H7) -> 545000 | I5: บาท
A6: (1) รายจ่ายเกี่ยวเนื่องกับการปฏิบัติราชการที่ไม่เข้าลักษณะรายจ่ายหมวดอื่น ๆ
G7: รวม | H7: =SUM(H9,H26,H43,H60,H79) -> 545000 | I7: บาท
B8: 1. โครงการจัดงานฉลองศาลเจ้าปู่หลวงกลางและงานประเพณีลอยกระทง
G9: จำนวน | H9: 400000 | I9: บาท
A10: เพื่อจ่ายเป็นค่าใช้จ่ายในการดำเนินงานโครงการจัดงานฉลองศาลเจ้าปู่หลวงกลางและงานประเพณีลอยกระทง โดย
A11: จ่ายเป็นค่าใช้จ่ายเกี่ยวกับการดำเนินโครงการ ดังนี้ ค่าใช้จ่ายพิธีทางศาสนา ค่ารับรองผู้ที่เชิญมาร่วมงานและผู้มาร่วม
A12: ประกอบกิจกรรมตามวัตถุประสงค์ ได้แก่ ค่าอาหารว่างและเครื่องดื่ม ค่าใช้จ่ายเกี่ยวกับสถานที่และค่าใช้จ่ายอื่นๆ
A13: ที่จำเป็นและเกี่ยวข้อง ได้แก่ ค่าสถานที่จัดงาน เช่น ค่าเช่าหรือค่าบำรุง ค่าเช่าหรือค่าบริการวัสดุอุปกรณ์ที่จำเป็นในการ
A14: จัดงาน รวมค่าติดตั้งรื้อถอน เช่น เครื่องโปรเจคเตอร์ เครื่องเสียง เต้นท์ เวที ค่าใช้จ่ายเกี่ยวกับการรักษาความปลอดภัย
A15: เช่น ค่าจ้างเหมารักษาความปลอดภัยหรืออื่นๆ ค่าจ้างเหมาทำความสะอาด ค่าใช้จ่ายในการตกแต่ง จัดสถานที่
A16: ค่าสาธารณูปโภคต่างๆ เช่น กระแสไฟฟ้า น้ำประปา โทรทัศน์ รวมถึงค่าติดตั้ง ค่าเช่าอุปกรณ์ และอื่นๆ ที่เกี่ยวข้อง
A17: ค่าใช้จ่ายในการประกวดหรือแข่งขัน ได้แก่ ค่าตอบแทนกรรมการตัดสิน ค่าโล่ หรือถ้วยรางวัลที่มอบให้ผู้ชนะการ
A18: ประกวดหรือการแข่งขันเป็นการประกาศเกียรติคุณ เงินหรือของรางวัลที่มอบให้ผู้ชนะการประกวดหรือแข่งขัน ค่าจ้าง
A19: เหมาจัดนิทรรศการ ค่ามหรศพ การแสดง และค่าใช้จ่ายในการโฆษณาประชาสัมพันธ์งาน เช่น ค่าโฆษณาทางวิทยุ
A20: โทรทัศน์ และสื่อประเภทสิ่งพิมพ์ต่างๆ ค่าใช้จ่ายในการออกอากาศทางวิทยุ โทรทัศน์ ค่าจ้างเหมาทำป้ายโฆษณาหรือ
A21: สิ่งพิมพ์ ค่าใช้จ่ายอื่นๆ ที่จำเป็นและเกี่ยวข้องในการจัดงาน
A22: - เป็นไปตามระเบียบ ดังนี้
B23: 1) ระเบียบกระทรวงมหาดไทย ว่าด้วยการเบิกจ่ายในการจัดงาน การจัดการแข่งขันกีฬาและการส่งนักกีฬา
A24: เข้าร่วมการแข่งขันกีฬาขององค์กรปกครองส่วนท้องถิ่น พ.ศ. 2559
A25: (ปรากฎในแผนพัฒนาท้องถิ่นสี่ปี พ.ศ. 2561-2564 หน้า 135 ลำดับที่ 1)
B26: 2. โครงการจัดงานวันขึ้นปีใหม่ | G26: จำนวน | H26: 25000 | I26: บาท
A27: เพื่อจ่ายเป็นค่าใช้จ่ายในการดำเนินงานโครงการจัดงานวันขึ้นปีใหม่ โดยจ่ายเป็นค่าใช้จ่ายเกี่ยวกับการดำเนินโครงการ
A28: ดังนี้ ค่าใช้จ่ายพิธีทางศาสนา ค่ารับรองผู้ที่เชิญมาร่วมงานและผู้มาร่วมประกอบกิจกรรมตามวัตถุประสงค์ ได้แก่
A29: ค่าอาหารว่างและเครื่องดื่ม ค่าใช้จ่ายเกี่ยวกับสถานที่และค่าใช้จ่ายอื่นๆ ที่จำเป็นและเกี่ยวข้อง ได้แก่ ค่าสถานที่จัดงาน
A30: เช่น ค่าเช่าหรือค่าบำรุง ค่าเช่าหรือค่าบริการวัสดุอุปกรณ์ที่จำเป็นในการจัดงาน รวมค่าติดตั้งรื้อถอน เช่น
A31: เครื่องโปรเจคเตอร์ เครื่องเสียง เต้นท์ เวที ค่าใช้จ่ายเกี่ยวกับการรักษาความปลอดภัย เช่น ค่าจ้างเหมารักษาความ
A32: หรืออื่นๆ ค่าจ้างเหมาทำความสะอาด ค่าใช้จ่ายในการตกแต่ง จัดสถานที่ ค่าสาธารณูปโภคต่างๆ เช่น กระแสไฟฟ้า
A33: น้ำประปา โทรทัศน์ รวมถึงค่าติดตั้ง ค่าเช่าอุปกรณ์ และอื่นๆ ที่เกี่ยวข้อง ค่าใช้จ่ายในการประกวดหรือแข่งขัน ได้แก่
A34: ค่าตอบแทนกรรมการตัดสิน ค่าโล่ หรือถ้วยรางวัลที่มอบให้ผู้ชนะการประกวดหรือการแข่งขันเป็นการประกาศเกียรติคุณ
A35: เงินหรือของรางวัลที่มอบให้ผู้ชนะการประกวดหรือแข่งขัน ค่าจ้างเหมาจัดนิทรรศการ ค่ามหรศพ การแสดง และ
A36: ค่าใช้จ่ายในการโฆษณาประชาสัมพันธ์งาน เช่น ค่าโฆษณาทางวิทยุ โทรทัศน์ และสื่อประเภทสิ่งพิมพ์ต่างๆ
A37: ค่าใช้จ่ายในการออกอากาศทางวิทยุ โทรทัศน์ ค่าจ้างเหมาทำป้ายโฆษณาหรือสิ่งพิมพ์ ค่าใช้จ่ายอื่นๆ ที่จำเป็นและ
A38: เกี่ยวข้องในการจัดงาน
A39: - เป็นไปตามระเบียบ ดังนี้
B40: 1) ระเบียบกระทรวงมหาดไทย ว่าด้วยการเบิกจ่ายในการจัดงาน การจัดการแข่งขันกีฬาและการส่งนักกีฬา
A41: เข้าร่วมการแข่งขันกีฬาขององค์กรปกครองส่วนท้องถิ่น พ.ศ. 2559
A42: (ปรากฎในแผนพัฒนาท้องถิ่นสี่ปี พ.ศ. 2561-2564 หน้า 135 ลำดับที่ 2)
B43: 3. โครงการจัดงานประเพณีสงกรานต์ | G43: จำนวน | H43: 50000 | I43: บาท
A44: เพื่อจ่ายเป็นค่าใช้จ่ายในการดำเนินงานโครงการจัดงานประเพณีสงกรานต์ โดยจ่ายเป็นค่าใช้จ่ายเกี่ยวกับการดำเนิน
A45: โครงการดังนี้ ค่าใช้จ่ายพิธีทางศาสนา ค่ารับรองผู้ที่เชิญมาร่วมงานและผู้มาร่วมประกอบกิจกรรมตามวัตถุประสงค์
A46: ได้แก่ ค่าอาหารว่างและเครื่องดื่ม ค่าใช้จ่ายเกี่ยวกับสถานที่และค่าใช้จ่ายอื่นๆ ที่จำเป็นและเกี่ยวข้อง ได้แก่ ค่าสถานที่
A47: จัดงาน เช่น ค่าเช่าหรือค่าบำรุง ค่าเช่าหรือค่าบริการวัสดุอุปกรณ์ที่จำเป็นในการจัดงาน รวมค่าติดตั้งรื้อถอน เช่น
A48: เครื่องโปรเจคเตอร์ เครื่องเสียง เต้นท์ เวที ค่าใช้จ่ายเกี่ยวกับการรักษาความปลอดภัย เช่น ค่าจ้างเหมารักษาความ
A49: หรืออื่นๆ ค่าจ้างเหมาทำความสะอาด ค่าใช้จ่ายในการตกแต่ง จัดสถานที่ ค่าสาธารณูปโภคต่างๆ เช่น กระแสไฟฟ้า
A50: น้ำประปา โทรทัศน์ รวมถึงค่าติดตั้ง ค่าเช่าอุปกรณ์ และอื่นๆ ที่เกี่ยวข้อง ค่าใช้จ่ายในการประกวดหรือแข่งขัน ได้แก่
A51: ค่าตอบแทนกรรมการตัดสิน ค่าโล่ หรือถ้วยรางวัลที่มอบให้ผู้ชนะการประกวดหรือการแข่งขันเป็นการประกาศเกียรติ
A52: คุณเงินหรือของรางวัลที่มอบให้ผู้ชนะการประกวดหรือแข่งขัน ค่าจ้างเหมาจัดนิทรรศการ ค่ามหรศพ การแสดง และ
A53: ค่าใช้จ่ายในการโฆษณาประชาสัมพันธ์งาน เช่น ค่าโฆษณาทางวิทยุ โทรทัศน์ และสื่อประเภทสิ่งพิมพ์ต่างๆ
A54: ค่าใช้จ่ายในการออกอากาศทางวิทยุ โทรทัศน์ ค่าจ้างเหมาทำป้ายโฆษณาหรือสิ่งพิมพ์ ค่าใช้จ่ายอื่นๆ ที่จำเป็นและ
A55: เกี่ยวข้องในการจัดงาน
A56: - เป็นไปตามระเบียบ ดังนี้
B57: 1) ระเบียบกระทรวงมหาดไทย ว่าด้วยการเบิกจ่ายในการจัดงาน การจัดการแข่งขันกีฬาและการส่งนักกีฬา
A58: เข้าร่วมการแข่งขันกีฬาขององค์กรปกครองส่วนท้องถิ่น พ.ศ. 2559
A59: (ปรากฎในแผนพัฒนาท้องถิ่นสี่ปี พ.ศ. 2561-2564 หน้า 136 ลำดับที่ 3)
B60: 4. โครงการหล่อเทียนและถวายเทียนเข้าพรรษา | G60: จำนวน | H60: 40000 | I60: บาท
A61: เพื่อจ่ายเป็นค่าใช้จ่ายในการจัดทำโครงการหล่อเทียนและถวายเทียนเข้าพรรษา โดยมีค่าใช้จ่ายเกี่ยวกับการดำเนิน
A62: โครงการดังนี้ ค่าใช้จ่ายพิธีทางศาสนา ค่ารับรองผู้ที่เชิญมาร่วมงานและผู้มาร่วมประกอบกิจกรรมตามวัตถุประสงค์
A63: ได้แก่ค่าอาหารว่างและเครื่องดื่ม ค่าใช้จ่ายเกี่ยวกับสถานที่และค่าใช้จ่ายอื่นๆ ที่จำเป็นและเกี่ยวข้อง ได้แก่ ค่าสถานที่
A64: จัดงาน เช่น ค่าเช่าหรือค่าบำรุง ค่าเช่าหรือค่าบริการวัสดุอุปกรณ์ที่จำเป็นในการจัดงาน รวมค่าติดตั้งรื้อถอน เช่น
A65: เครื่องโปรเจคเตอร์ เครื่องเสียง เต้นท์ เวที ค่าใช้จ่ายเกี่ยวกับการรักษาความปลอดภัย เช่น ค่าจ้างเหมารักษาความ
A66: หรืออื่นๆ ค่าจ้างเหมาทำความสะอาด ค่าใช้จ่ายในการตกแต่ง จัดสถานที่ ค่าสาธารณูปโภคต่างๆ เช่น กระแสไฟฟ้า
A67: น้ำประปา โทรทัศน์ รวมถึงค่าติดตั้ง ค่าเช่าอุปกรณ์ และอื่นๆ ที่เกี่ยวข้อง ค่าใช้จ่ายในการประกวดหรือแข่งขัน ได้แก่
A68: ค่าตอบแทนกรรมการตัดสิน ค่าโล่ หรือถ้วยรางวัลที่มอบให้ผู้ชนะการประกวดหรือการแข่งขันเป็นการประกาศเกียรติ
A69: คุณ เงินหรือของรางวัลที่มอบให้ผู้ชนะการประกวดหรือแข่งขัน ค่าจ้างเหมาจัดนิทรรศการ ค่ามหรศพ การแสดง และ
A70: ค่าใช้จ่ายในการโฆษณาประชาสัมพันธ์งาน เช่น ค่าโฆษณาทางวิทยุ โทรทัศน์ และสื่อประเภทสิ่งพิมพ์ต่างๆ
A71: ค่าใช้จ่ายในการออกอากาศทางวิทยุ โทรทัศน์ ค่าจ้างเหมาทำป้ายโฆษณาหรือสิ่งพิมพ์ ค่าใช้จ่ายอื่นๆ ที่จำเป็นและ
A72: เกี่ยวข้องในการจัดงาน
A73: - เป็นไปตามระเบียบ ดังนี้
B75: 1) ระเบียบกระทรวงมหาดไทย ว่าด้วยการเบิกจ่ายในการจัดงาน การจัดการแข่งขันกีฬาและการส่งนักกีฬา
A76: เข้าร่วมการแข่งขันกีฬาขององค์กรปกครองส่วนท้องถิ่น พ.ศ. 2559
A77: (ปรากฎในแผนพัฒนาท้องถิ่นสี่ปี พ.ศ. 2561-2564 หน้า 136 ลำดับที่ 4)
B78: 5. โครงการจัดขบวนเฉลิมพระเกียรติเนื่องในการจัดงานบุญกุ้มข้าวใหญ่ ไหว้พระธาตุเจดีย์
A79: ของดีแวงใหญ่ | G79: จำนวน | H79: 30000 | I79: บาท
A80: เพื่อจ่ายเป็นค่าใช้จ่ายในการจัดทำโครงการจัดขบวนเฉลิมพระเกียรติเนื่องในการจัดงานบุญกุ้มข้าวใหญ่ ไหว้พระธาตุ
A81: เจดีย์ของดีแวงใหญ่ โดยมีค่าใช้จ่ายเกี่ยวกับการดำเนินโครงการดังนี้ ค่าใช้จ่ายพิธีทางศาสนา ค่ารับรองผู้ที่เชิญมาร่วม
A82: งานและผู้มาร่วมประกอบกิจกรรมตามวัตถุประสงค์ ได้แก่ ค่าอาหารว่างและเครื่องดื่ม ค่าใช้จ่ายเกี่ยวกับสถานที่และ
A83: ค่าใช้จ่ายอื่นๆ ที่จำเป็นและเกี่ยวข้อง ได้แก่ ค่าสถานที่จัดงาน เช่น ค่าเช่าหรือค่าบำรุง ค่าเช่าหรือค่าบริการวัสดุอุปกรณ์
A84: ที่จำเป็นในการจัดงาน รวมค่าติดตั้งรื้อถอน เช่น เครื่องโปรเจคเตอร์ เครื่องเสียง เต้นท์ เวที ค่าใช้จ่ายเกี่ยวกับการรักษา
A85: ความปลอดภัย เช่น ค่าจ้างเหมารักษาความสะอาดหรืออื่นๆ ค่าใช้จ่ายในการตกแต่ง จัดสถานที่ ค่าสาธารณูปโภคต่างๆ
A86: เช่น กระแสไฟฟ้า น้ำประปา โทรทัศน์ รวมถึงค่าติดตั้ง ค่าเช่าอุปกรณ์ และอื่นๆ ที่เกี่ยวข้อง ค่าใช้จ่ายในการประกวดหรือ
A87: แข่งขัน ได้แก่ ค่าตอบแทนกรรมการตัดสิน ค่าโล่ หรือถ้วยรางวัลที่มอบให้ผู้ชนะการประกวดหรือการแข่งขันเป็นการ
A88: ประกาศเกียรติคุณ เงินหรือของรางวัลที่มอบให้ผู้ชนะการประกวดหรือแข่งขัน ค่าจ้างเหมาจัดนิทรรศการ ค่ามหรศพ
A89: การแสดง และค่าใช้จ่ายในการโฆษณาประชาสัมพันธ์งาน เช่น ค่าโฆษณาทางวิทยุ โทรทัศน์ และสื่อประเภทสิ่งพิมพ์
A90: ต่างๆ ค่าใช้จ่ายในการออกอากาศทางวิทยุ โทรทัศน์ ค่าจ้างเหมาทำป้ายโฆษณาหรือสิ่งพิมพ์ ค่าใช้จ่ายอื่นๆ ที่จำเป็น
A91: และเกี่ยวข้องในการจัดงาน
A92: - เป็นไปตามระเบียบ ดังนี้
B93: 1) ระเบียบกระทรวงมหาดไทย ว่าด้วยการเบิกจ่ายในการจัดงาน การจัดการแข่งขันกีฬาและการส่งนักกีฬา
A94: เข้าร่วมการแข่งขันกีฬาขององค์กรปกครองส่วนท้องถิ่น พ.ศ. 2559
A95: (ปรากฎในแผนพัฒนาท้องถิ่นสี่ปี พ.ศ. 2561-2564 หน้า 136 ลำดับที่ 6)
A96: งบเงินอุดหนุน | G96: รวม | H96: =SUM(H98,H126) -> 170000 | I96: บาท
A97: หมวดเงินอุดหนุน
A98: 1. เงินอุดหนุนส่วนราชการ | G98: รวม | H98: =SUM(H100,H111,H119) -> 70000 | I98: บาท
B99: 1) อุดหนุนโครงการประเพณีบุญกุ้มข้าวใหญ่ ไหว้พระธาตุเจดีย์ ของดีแวงใหญ่
G100: จำนวน | H100: 50000 | I100: บาท
A101: เพื่อจ่ายเป็นเงินอุดหนุนที่ทำการปกครองอำเภอแวงใหญ่ ในการดำเนินงานตามโครงการประเพณีบุญกุ้มข้าวใหญ่
...

Sheet แผนงานการเกษตร
A1: แผนงานการเกษตร | G1: รวม | H1: =SUM(H2,H34) -> 70000 | I1: บาท
A2: งานส่งเสริมการเกษตร | G2: รวม | H2: =SUM(H3) -> 60000 | I2: บาท
A3: งบดำเนินการ | G3: รวม | H3: =SUM(H5) -> 60000 | I3: บาท
A4: หมวดค่าตอบแทน ใช้สอย และวัสดุ
A5: ค่าใช้สอย | G5: รวม | H5: =SUM(H7) -> 60000 | I5: บาท
A6: 1) รายจ่ายเกี่ยวเนื่องกับการปฏิบัติราชการที่ไม่เข้าลักษณะรายจ่ายหมวดอื่น ๆ
G7: รวม | H7: =SUM(H9,H22) -> 60000 | I7: บาท
B8: 1) โครงการส่งเสริมและพัฒนาศูนย์บริการและถ่ายทอดเทคโนโลยีการเกษตร
G9: จำนวน | H9: 20000 | I9: บาท
A10: เพื่อจ่ายเป็นค่าใช้จ่ายในการการจัดทำโครงการส่งเสริมและพัฒนาศูนย์บริการและถ่ายทอดเทคโนโลยีการเกษตร
A11: โดยมีค่าใช้จ่ายเกี่ยวกับ ค่าดำเนินการจัดประชุมคณะกรรมการบริหาร เช่น ค่าอาหารว่างและเครื่องดื่ม ค่าอาหาร และ
A12: ค่าใช้จ่ายเกี่ยวกับค่าจัดทำป้ายประชาสัมพันธ์หรือป้ายแนะนำองค์ความรู้ด้านเทคโนโลยีการเกษตร เพื่อปรับปรุงศูนย์
A13: เรียนรู้เชิงเกษตร การจัดเป็นแปลงสาธิตการทำเกษตรทฤษฎีใหม่ ค่าใช้จ่ายอื่นที่จำเป็นในการดำเนินโครงการ
A14: - เป็นไปตามพระราชบัญญัติ และระเบียบ ดังนี้
B15: 1) พระราชบัญญัติเทศบาล พ.ศ. 2496
B16: 2) พระราชบัญญัติกำหนดแผนและขั้นตอนการกระจายอำนาจให้แก่องค์กรปกครองส่วนท้องถิ่น พ.ศ. 2542
B17: 3) ระเบียบกระทรวงมหาดไทย ว่าด้วยการเบิกจ่ายในการจัดงาน การจัดการแข่งขันกีฬาและการส่งนักกีฬา
A18: เข้าร่วมการแข่งขันกีฬาขององค์กรปกครองส่วนท้องถิ่น พ.ศ. 2559
B19: 4) ระเบียบกระทรวงมหาดไทย ว่าด้วยค่าใช้จ่ายในการฝึกอบรมขององค์กรปกครองส่วนท้องถิ่น พ.ศ. 2557
A20: (ปรากฎในแผนพัฒนาท้องถิ่นสี่ปี พ.ศ. 2561-2564 หน้า 149 ลำดับที่ 7)
B21: 2) โครงการอบรมให้ความรู้แก่ประชาชนด้านการเกษตร
G22: จำนวน | H22: 40000 | I22: บาท
A23: เพื่อจ่ายเป็นค่าใช้จ่ายในการจัดทำโครงการอบรมให้ความรู้แก่ประชาชนด้านการเกษตร เช่น การเลี้ยงโคเนื้อ การเลี้ยง
A24: กระบือ การทำนาหยอด การผลิตข้าวหอมมะลิปลอดสารพิษ การปลูกผักปลอดสารพิษ การเพาะเห็ดฟางแบบกองเตี้ย
A25: การส่งเสริมการใช้ปุ๋ยหมัก การจัดทำไร่นาสวนผสม การรณรงค์ไม่เผาตอซังข้าว โดยมีค่าใช้จ่ายเกี่ยวกับ ค่าวัสดุ
A26: ค่าเครื่องเขียน และอุปกรณ์ ค่าอาหารว่างและเครื่องดื่ม ค่าอาหาร ค่าป้ายโครงการ ค่าป้ายประชาสัมพันธ์ ค่าใช้จ่าย
A27: ที่เกี่ยวข้องและจำเป็นในการจัดทำโครงการ
A28: - เป็นไปตามพระราชบัญญัติ และระเบียบ ดังนี้
B29: 1) พระราชบัญญัติเทศบาล พ.ศ. 2496
B30: 2) พระราชบัญญัติกำหนดแผนและขั้นตอนการกระจายอำนาจให้แก่องค์กรปกครองส่วนท้องถิ่น พ.ศ. 2542
B31: 3) ระเบียบกระทรวงมหาดไทย ว่าด้วยค่าใช้จ่ายในการฝึกอบรมขององค์กรปกครองส่วนท้องถิ่น พ.ศ. 2557
A32: (ปรากฎในแผนพัฒนาท้องถิ่นสี่ปี พ.ศ. 2561-2564 หน้า 149 ลำดับที่ 7)
A34: งานอนุรักษ์แหล่งน้ำและป่าไม้ | G34: รวม | H34: =SUM(H35) -> 10000 | I34: บาท
A35: งบดำเนินการ | G35: รวม | H35: =SUM(H37) -> 10000 | I35: บาท
A36: หมวดค่าตอบแทน ใช้สอย และวัสดุ
A37: ค่าใช้สอย | G37: รวม | H37: =SUM(H39) -> 10000 | I37: บาท
A38: 1) รายจ่ายเกี่ยวเนื่องกับการปฏิบัติราชการที่ไม่เข้าลักษณะรายจ่ายหมวดอื่น ๆ
G39: รวม | H39: =SUM(H41) -> 10000 | I39: บาท
B40: 1) โครงการอนุรักษ์พันธุกรรมพืชอันเนื่องมาจากพระราชดำริสมเด็จพระเทพรัตนราชสุดาฯ
A41: สยามบรมราชกุมารี (อพ.สธ.) | G41: จำนวน | H41: 10000 | I41: บาท
A42: เพื่อจ่ายเป็นค่าใช้จ่ายในการอนุรักษ์พันธุกรรมพืชอันเนื่องมาจากพระราชดำริสมเด็จพระเทพรัตนราชสุดาฯ สยามบรม
A43: ราชกุมารี (อพ.สธ.) ในการออกสำรวจและจัดเก็บข้อมูลพันธุ์พืช พันธุ์สัตว์ ภายในเขตเทศบาลตำบลแวงใหญ่
A44: โดยมีค่าใช้จ่ายเกี่ยวกับ ค่าวัสดุ ค่าเครื่องเขียน และอุปกรณ์ ค่าอาหารว่างและเครื่องดื่ม ค่าอาหาร ค่าป้ายโครงการ
A45: ค่าป้ายประชาสัมพันธ์ ค่าใช้จ่ายที่เกี่ยวข้องและจำเป็นในการจัดทำโครงการ
A46: - เป็นไปตามพระราชบัญญัติ และระเบียบ ดังนี้
B47: 1) พระราชบัญญัติเทศบาล พ.ศ. 2496
B48: 2) พระราชบัญญัติกำหนดแผนและขั้นตอนการกระจายอำนาจให้แก่องค์กรปกครองส่วนท้องถิ่น พ.ศ. 2542
B49: 3) ระเบียบกระทรวงมหาดไทย ว่าด้วยค่าใช้จ่ายในการฝึกอบรมขององค์กรปกครองส่วนท้องถิ่น พ.ศ. 2557
B50: 4) หนังสือกรมส่งเสริมการปกครองท้องถิ่น ด่วนที่สุด ที่ มท 0891.4/ว 164 ลงวันที่ 28 มกราคม 2558
A51: เรื่อง การดำเนินโครงการอนุรักษ์พันธุกรรมพืชอันเนื่องมาจากพระราชดำริ สมเด็จพระเทพรัตนราชสุดาฯ สยามบรม
A52: ราชกุมารี (อพ.สธ.)
A53: (ปรากฎในแผนพัฒนาท้องถิ่นสี่ปี พ.ศ. 2561-2564 เพิ่มเติม ครั้งที่ 3 พ.ศ. 2561 หน้า 23 ลำดับที่ 1)

Sheet แผนงานการพาณิชย์
A1: แผนงานการพาณิชย์ | G1: รวม | H1: =SUM(H2,) -> 50000 | I1: บาท
A2: งานตลาดสด | G2: รวม | H2: =SUM(H3) -> 50000 | I2: บาท
A3: งบดำเนินงาน | G3: รวม | H3: =SUM(H5) -> 50000 | I3: บาท
A4: หมวดค่าตอบแทน ใช้สอย และวัสดุ
A5: ค่าใช้สอย | G5: รวม | H5: =SUM(H7) -> 50000 | I5: บาท
A6: 1. ค่าบำรุงรักษาและซ่อมแซม
B7: 1. ค่าบำรุงรักษาหรือซ่อมแซมที่ดินและสิ่งก่อสร้าง | G7: จำนวน | H7: 50000 | I7: บาท
A8: เพื่อจ่ายเป็นค่าบำรุงรักษาหรือซ่อมแซมตลาดสดเทศบาลให้เป็นตลาดสดน่าซื้อ ที่เป็นการซ่อมแซมปกติ มิใช่เป็นการ
A9: ต่อเติม ดัดแปลงอาคาร ได้แก่ ค่าซ่อมแซมแผงขายของ ค่าซ่อมแซมไฟฟ้าที่ชำรุด ค่าปรับปรุงระบบระบายน้ำ
A10: หลังคา ฯลฯ กรณีเป็นการจ้างเหมาทั้งค่าสิ่งของและค่าแรงงาน ให้จ่ายจากค่าใช้สอย ส่วนกรณีที่องค์กรปกครอง
A11: ส่วนท้องถิ่นเป็นผู้ดำเนินการซ่อมแซมบำรุงรักษาทรัพย์สินเองให้ปฏิบัติ ดังนี้
B12: 1) ค่าจ้างเหมาแรงงานของบุคคลภายนอกให้จ่ายจากค่าใช้สอย
B13: 2) ค่าสิ่งของที่ซื้อมาใช้ในการบำรุงรักษาทรัพย์สินให้จ่ายจากวัสดุ

Sheet แผนงานงบกลาง
A1: แผนงานงบกลาง | G1: รวม | H1: =SUM(H2) -> 10597642 | I1: บาท
A2: งานงบกลาง | G2: รวม | H2: =SUM(H3,H11,H19,H33,H54,H77,H88,H112,H162,H171) -> 10597642 | I2: บาท
B3: 1. ค่าชำระหนี้เงินต้น | G3: จำนวน | H3: 549000 | I3: บาท
A4: เพื่อจ่ายเป็นค่าชำระเงินต้น เงินกู้ธนาคารกรุงไทย จำกัด (มหาชน)
A5: - เป็นไปตามพระราชบัญญัติ และหนังสือสั่งการ ดังนี้
B6: 1) พระราชับัญญัติเทศบาล พ.ศ. 2496
B7: 2) หนังสือกระทรวงมหาดไทย ด่วนที่สุดที่ มท 0808.3/ว 4715 ลงวันที่ 23 พฤศจิกายน 2544 เรื่อง
A8: หลักเกณฑ์ในการพิจารณาการขอกู้เงินขององค์การบริหารส่วนจังหวัด เทศบาล และเมืองพัทยา
B9: 3) หนังสือกรมส่งเสริมการปกครองท้องถิ่น ที่ มท 0808.4/ว 298 ลงวันที่ 10 กุมภาพันธ์ 2559 เรื่อง การจัดส่ง
A10: รายงานการเงินและแนวทางการกู้ยืมเงินขององค์กรปกครองส่วนท้องถิ่น
B11: 2. ค่าชำระดอกเบี้ย | G11: จำนวน | H11: 85000 | I11: บาท
A12: เพื่อจ่ายเป็นค่าชำระดอกเบี้ยเงินกู้ธนาคารกรุงไทย จำกัด (มหาชน)
A13: - เป็นไปตามพระราชบัญญัติ และหนังสือสั่งการ ดังนี้
B14: 1) พระราชับัญญัติเทศบาล พ.ศ. 2496
B15: 2) หนังสือกระทรวงมหาดไทย ด่วนที่สุดที่ มท 0808.3/ว 4715 ลงวันที่ 23 พฤศจิกายน 2544 เรื่อง
A16: หลักเกณฑ์ในการพิจารณาการขอกู้เงินขององค์การบริหารส่วนจังหวัด เทศบาล และเมืองพัทยา
B17: 3) หนังสือกรมส่งเสริมการปกครองท้องถิ่น ที่ มท 0808.4/ว 298 ลงวันที่ 10 กุมภาพันธ์ 2559 เรื่อง การจัดส่ง
A18: รายงานการเงินและแนวทางการกู้ยืมเงินขององค์กรปกครองส่วนท้องถิ่น
B19: 3. เงินสมทบกองทุนประกันสังคม | G19: จำนวน | H19: =SUM([8]เงินประกันสังคม!$H$30) -> 53535 | I19: บาท
A20: เพื่อจ่ายเป็นเงินสมทบกองทุนประกันสังคมของพนักงานจ้างกรณีนายจ้างในอัตราร้อยละ 5 ของค่าจ้างที่เทศบาลจะต้อง
A21: จ่าย เพื่ออุดหนุนเงินค่าเบี้ยประกันสังคมของพนักงานจ้าง และผู้ดูแลเด็กของศูนย์พัฒนาเด็กเล็ก
A22: - เป็นไปตามพระราชบัญญัติ
B23: 1) พระราชบัญญัติประกันสังคม พ.ศ. 2533
B24: 2) หนังสือสำนักงาน ก.จ. ก.ท. และ ก.อบต. ด่วนที่สุด ที่ มท 0809.5/ว 9 ลงวันที่ 22 มกราคม 2557
A25: เรื่อง การจ่ายเบี้ยประกันสังคมของพนักงานจ้าง
B26: 3) หนังสือสำนักงาน ก.จ. ก.ท. และ ก.อบต. ด่วนที่สุดที่ มท 0809.5/ว 81 ลงวันที่ 10 กรกฎาคม 2557 เรื่อง
A27: ประกาศ ก.จ. ก.ท. และ ก.อบต. เรื่องมาตรฐานทั่วไปเกี่ยวกับพนักงานจ้าง (ฉบับที่ 3)
B28: 4) หนังสือกระทรวงมหาดไทย ด่วนที่สุด ที่ มท 0808.2/ว 3028 ลงวันที่ 6 มิถุนายน 2561 เรื่อง ซักซ้อม
A29: แนวทางการจัดทำงบประมาณรายจ่ายประจำปีงบประมาณ พ.ศ. 2562 ขององค์กรปกครองส่วนท้องถิ่น
B30: 5) หนังสือกระทรวงมหาดไทย ด่วนที่สุด ที่ มท 0816.2/ว 3274 ลงวันที่ 19 มิถุนายน 2561 เรื่อง ซักซ้อม
A31: แนวทางการจัดทำงบประมาณรายจ่ายรองรับเงินอุดหนุนทั่วไปด้านการศึกษาขององค์กรปกครองส่วนท้องถิ่น ประจำปี
A32: งบประมาณ พ.ศ. 2562
B33: 4. เบี้ยยังชีพผู้สูงอายุ | G33: จำนวน | H33: 7132800 | I33: บาท
A34: เพื่อจ่ายเป็นเบี้ยยังชีพให้แก่ผู้สูงอายุ
A35: - เป็นไปตามพระราชบัญญัติ ระเบียบ และหนังสือสั่งการ ดังนี้
B36: 1) พระราชบัญญัติกำหนดแผนและขั้นตอนการกระจายอำนาจให้แก่องค์กรปกครองส่วนท้องถิ่น พ.ศ. 2542
B37: 2) ระเบียบกระทรวงมหาดไทย ว่าด้วยการจ่ายเงินสงเคราะห์เพื่อการยังชีพขององค์กรปกครองส่วนท้องถิ่น
A38: พ.ศ. 2548
B39: 3) ระเบียบกระทรวงมหาดไทย ว่าด้วยหลักเกณฑ์การจ่ายเบี้ยยังชีพผู้สูงอายุขององค์กรปกครองส่วนท้องถิ่น
A40: พ.ศ. 2552
B41: 4) ระเบียบกระทรวงมหาดไทย ว่าด้วยหลักเกณฑ์การจ่ายเบี้ยยังชีพผู้สูงอายุขององค์กรปกครองส่วนท้องถิ่น
A42: พ.ศ. 2553
B43: 5) ระเบียบกระทรวงมหาดไทย ว่าด้วยหลักเกณฑ์การจ่ายเบี้ยยังชีพผู้สูงอายุขององค์กรปกครองส่วนท้องถิ่น
A44: (ฉบับที่ 2) พ.ศ. 2560
B45: 6) หนังสือกรมส่งเสริมการปกครองท้องถิ่น ที่ มท 0891.3/ว 118 ลงวันที่ 15 มกราคม 2556 เรื่อง ซักซ้อม
A46: แนวทางปฏิบัติตามระเบียบกระทรวงมหาดไทย ว่าด้วยหลักเกณฑ์การจ่ายเบี้ยยังชีพผู้สูงอายุขององค์กรปกครองส่วน
A47: ท้องถิ่น พ.ศ. 2553 และระเบียบกระทรวงมหาดไทย ว่าด้วยหลักเกณฑ์การจ่ายเบี้ยความพิการให้คนพิการขององค์กร
A48: ปกครองส่วนท้องถิ่น พ.ศ. 2553
B49: 7) หนังสือกรมส่งเสริมการปกครองท้องถิ่น ที่ มท 0810.6/ว 2076 ลงวันที่ 5 กรกฎาคม 2561 เรื่อง การ
A50: ซักซ้อมแนวทางตั้งงบประมาณรายจ่ายประจำปีงบประมาณ พ.ศ. 2562 เงินอุดหนุนทั่วไป เงินอุดหนุนสำหรับโครงการ
A51: เสริมสร้างสวัสดิการทางสังคมให้แก่ผู้พิการและทุพพลภาพ โครงการสนับสนุนการจัดสวัสดิการทางสังคมแก่ผู้ด้อยโอกาส
A52: ทางสังคม และโครงการสร้างหลักประกันรายได้ให้แก่ผู้สูงอายุ
A53: (ปรากฎในแผนพัฒนาท้องถิ่นสี่ปี พ.ศ. 2561-2564 หน้า 144 ลำดับที่ 3)
B54: 5. เบี้ยยังชีพคนพิการ | G54: จำนวน | H54: 1920000 | I54: บาท
A55: เพื่อจ่ายเป็นเบี้ยยังชีพให้แก่คนพิการ
A56: - เป็นไปตามพระราชบัญญัติ ระเบียบ และหนังสือสั่งการ ดังนี้
B57: 1) พระราชบัญญัติกำหนดแผนและขั้นตอนการกระจายอำนาจให้แก่องค์กรปกครองส่วนท้องถิ่น พ.ศ. 2542
B58: 2) ระเบียบกระทรวงมหาดไทย ว่าด้วยการจ่ายเงินสงเคราะห์เพื่อการยังชีพขององค์กรปกครองส่วนท้องถิ่น
A59: พ.ศ. 2548
B60: 3) ระเบียบกระทรวงมหาดไทย ว่าด้วยหลักเกณฑ์การจ่ายเบี้ยความพิการให้คนพิการขององค์กรปกครอง
A61: ส่วนท้องถิ่น พ.ศ. 2553
B62: 4) ระเบียบกระทรวงมหาดไทย ว่าด้วยหลักเกณฑ์การจ่ายเบี้ยความพิการให้คนพิการขององค์กรปกครอง
A63: ส่วนท้องถิ่น (ฉบับที่ 2) พ.ศ. 2559
B64: 5) หนังสือกรมส่งเสริมการปกครองท้องถิ่น ที่ มท 0891.3/ว 118 ลงวันที่ 15 มกราคม 2556 เรื่อง ซักซ้อม
A65: แนวทางปฏิบัติตามระเบียบกระทรวงมหาดไทย ว่าด้วยหลักเกณฑ์การจ่ายเบี้ยยังชีพผู้สูงอายุขององค์กรปกครองส่วน
A66: ท้องถิ่น พ.ศ. 2553 และระเบียบกระทรวงมหาดไทย ว่าด้วยหลักเกณฑ์การจ่ายเบี้ยความพิการให้คนพิการขององค์กร
A67: ปกครองส่วนท้องถิ่น พ.ศ. 2553
B68: 6) หนังสือกระทรวงมหาดไทย ด่วนมาก ที่ มท 0891.3/ว 3609 ลงวันที่ 24 มิถุนายน 2559 เรื่อง แนวทางการ
A69: จ่ายเบี้ยความพิการ ตามระเบียบกระทรวงมหาดไทย ว่าด้วยหลักเกณฑ์การจ่ายเบี้ยความพิการขององค์กรปกครองส่วน
A70: ท้องถิ่น พ.ศ. 2553 (ฉบับที่ 2) พ.ศ. 2559
B72: 7) หนังสือกรมส่งเสริมการปกครองท้องถิ่น ที่ มท 0810.6/ว 2076 ลงวันที่ 5 กรกฎาคม 2561 เรื่อง การ
A73: ซักซ้อมแนวทางตั้งงบประมาณรายจ่ายประจำปีงบประมาณ พ.ศ. 2562 เงินอุดหนุนทั่วไป เงินอุดหนุนสำหรับโครงการ
A74: เสริมสร้างสวัสดิการทางสังคมให้แก่ผู้พิการและทุพพลภาพ โครงการสนับสนุนการจัดสวัสดิการทางสังคมแก่ผู้ด้อยโอกาส
A75: ทางสังคม และโครงการสร้างหลักประกันรายได้ให้แก่ผู้สูงอายุ
A76: (ปรากฎในแผนพัฒนาท้องถิ่นสี่ปี พ.ศ. 2561-2564 หน้า 144 ลำดับที่ 1)
B77: 6. เบี้ยยังชีพผู้ป่วยเอดส์ | G77: จำนวน | H77: 36000 | I77: บาท
A78: เพื่อจ่ายเป็นเบี้ยยังชีพให้แก่ผู้ป่วยเอดส์ ตามบัญชีรายชื่อที่ได้รับอนุมัติจากผู้บริหาร
A79: - เป็นไปตามพระราชบัญญัติ ระเบียบ และหนังสือสั่งการ ดังนี้
B80: 1) พระราชบัญญัติกำหนดแผนและขั้นตอนการกระจายอำนาจให้แก่องค์กรปกครองส่วนท้องถิ่น พ.ศ. 2542
B81: 2) ระเบียบกระทรวงมหาดไทย ว่าด้วยการจ่ายเงินสงเคราะห์เพื่อการยังชีพขององค์กรปกครองส่วนท้องถิ่น
A82: พ.ศ. 2548 ข้อ 16 และ ข้อ 17
B83: 3) หนังสือกรมส่งเสริมการปกครองท้องถิ่น ที่ มท 0810.6/ว 2076 ลงวันที่ 5 กรกฎาคม 2561 เรื่อง การ
A84: ซักซ้อมแนวทางตั้งงบประมาณรายจ่ายประจำปีงบประมาณ พ.ศ. 2562 เงินอุดหนุนทั่วไป เงินอุดหนุนสำหรับโครงการ
A85: เสริมสร้างสวัสดิการทางสังคมให้แก่ผู้พิการและทุพพลภาพ โครงการสนับสนุนการจัดสวัสดิการทางสังคมแก่ผู้ด้อยโอกาส
A86: ทางสังคม และโครงการสร้างหลักประกันรายได้ให้แก่ผู้สูงอายุ
A87: (ปรากฎในแผนพัฒนาท้องถิ่นสี่ปี พ.ศ. 2561-2564 หน้า 144 ลำดับที่ 2)
B88: 7. เงินสำรองจ่าย | G88: จำนวน | H88: 120000 | I88: บาท
A89: เพื่อสำรองจ่าย เป็นรายจ่ายที่ตั้งไว้เพื่อใช้จ่ายกรณีฉุกเฉินที่มีสาธารณภัยเกิดขึ้น หรือบรรเทาปัญหาความเดือดร้อนของ
A90: ประชาชนเป็นส่วนรวมเท่านั้น และในการช่วยเหลือองค์กรปกครองส่วนท้องถิ่นอื่นและจังหวัดที่ประสบสาธารณภัย
A91: - เป็นไปพระราชบัญญัติ และหนังสือสั่งการ ดังนี้
B92: 1) พระราชบัญญัติป้องกันและบรรเทาสาธารณภัย พ.ศ. 2560
B93: 2) หนังสือกระทรวงมหาดไทย ด่วนมาก ที่ มท 0313. 4 /ว 667 ลงวันที่ 12 มีนาคม 2545 เรื่อง การช่วยเหลือ
A94: ประชาชนกรณีเกิดสาธารณภัยขององค์กรปกครองส่วนท้องถิ่น
B95: 3) หนังสือกระทรวงมหาดไทย ด่วนที่สุด ที่ มท 0808.2/ว 4224 ลงวันที่ 10 ตุลาคม 2554 เรื่องการช่วยเหลือผู้
A96: ประสบอุทกภัย น้ำท่วมฉับพลัน น้ำป่าไหลหลาก และน้ำล้นตลิ่ง
B97: 4) หนังสือกระทรวงมหาดไทย ที่ มท 0808.2/ว 3215 ลงวันที่ 6 มิถุนายน 2559 เรื่อง ซักซ้อมแนวทางการ
A98: ใช้จ่ายงบประมาณเพื่อช่วยเหลือประชาชนกรณีเกิดสาธารณภัยขององค์กรปกครองส่วนท้องถิ่น
B99: 5) หนังสือกรมส่งเสริมการปกครองท้องถิ่น ด่วนที่สุด ที่ มท 0891.2/ว 76 ลงวันที่ 13 มกราคม 2558 เรื่อง
A100: การเตรียมการป้องกันและแก้ไขปัญหาภัยหนาว
B101: 6) หนังสือกระทรวงมหาดไทย ด่วนที่สุด ที่ มท 0808.2/ว 0684 ลงวันที่ 8 กุมภาพันธ์ 2560 เรื่อง หลักเกณฑ์
...

Sheet รายจ่ายแยกตามหมวด
A1: รายจ่ายตามหมวดรายจ่าย
A2: ประจำปีงบประมาณ พ.ศ. 2562
A3: เทศบาลตำบลแวงใหญ่
A4: อำเภอแวงใหญ่ จังหวัดขอนแก่น
A6: หมวดรายจ่าย | B6: จำนวนเงิน
A7: เงินเดือน (ฝ่ายการเมือง) | B7: =SUM(แผนงานบริหารทั่วไป!H11) -> 2392800
A8: เงินเดือน (ฝ่ายประจำ) | B8: =SUM(แผนงานบริหารทั่วไป!H850,แผนงานบริหารทั่วไป!H751,แผนงานบริหารทั่วไป!H72+แผนงานรักษาความสงบภายใน!H5+แผนงานการศึกษา!H5+แผนงานการศึกษา!H69+แผนงานสาธารณสุข!H5+แผนงานเคหะและชุมชน!H5) -> 12931680
A9: ค่าตอบแทน | B9: =SUM(เทศบัญญัติงบประมาณรายจ่าย!P45) -> 1313098
A10: ค่าใช้สอย | B10: =SUM(เทศบัญญัติงบประมาณรายจ่าย!P60) -> 8256120
A11: ค่าวัสดุ | B11: =SUM(เทศบัญญัติงบประมาณรายจ่าย!P90) -> 2760640
A12: ค่าสาธารณูปโภค | B12: =SUM(เทศบัญญัติงบประมาณรายจ่าย!P95) -> 833200
A13: เงินอุดหนุน | B13: =SUM(เทศบัญญัติงบประมาณรายจ่าย!P126) -> 2576000
A14: ค่าครุภัณฑ์ | B14: =SUM(เทศบัญญัติงบประมาณรายจ่าย!P115) -> 332700 | D14: =SUM(B14:B15) -> 1031080 | E14: 10 %
A15: ค่าที่ดินและสิ่งก่อสร้าง | B15: =SUM(เทศบัญญัติงบประมาณรายจ่าย!P116) -> 698380
A16: งบกลาง | B16: =SUM(เทศบัญญัติงบประมาณรายจ่าย!D127) -> 10597642
A18: รวม | B18: =SUM(B7:B17) -> 42692260

Sheet เทศบัญญัติงบประมาณรายจ่าย
A1: เทศบัญญัติงบประมาณรายจ่าย
A2: แผนงาน | D2: แผนงาน งบกลาง | E2: แผนงานบริหารทั่วไป | F2: แผนงานการรักษาความสงบภายใน | G2: แผนงานการศึกษา | H2: แผนงานสาธารณสุข | I2: แผนงานสังคมสงเคราะห์ | J2: แผนงานเคหะและชุมชน | K2: แผนงานสร้างความเข้มแข็งของชุมชน | L2: แผนงานศาสนาวัฒนธรรมและนันทนาการ | M2: แผนงานการเกษตร | N2: แผนงานการพานิชย์ | O2: รวม
A3: งบ/หมวด/ประเภทรายจ่าย
A4: งบกลาง | B4: งบกลาง | C4: (1) ค่าชำระหนี้เงินต้น | D4: =SUM(แผนงานงบกลาง!H3) -> 549000 | O4: =SUM(D4:N4) -> 549000
C5: (2) ค่าชำระดอกเบี้ย | D5: =SUM(แผนงานงบกลาง!H11) -> 85000 | O5: =SUM(D5:N5) -> 85000
C6: (3) เงินสมทบกองทุนประกันสังคม | D6: =SUM(แผนงานงบกลาง!H19) -> 53535 | O6: =SUM(D6:N6) -> 53535
C7: (4) เบี้ยยังชีพผู้สูงอายุ | D7: =SUM(แผนงานงบกลาง!H33) -> 7132800 | O7: =SUM(D7:N7) -> 7132800
C8: (5) เบี้ยยังชีพคนพิการ | D8: =SUM(แผนงานงบกลาง!H54) -> 1920000 | O8: =SUM(D8:N8) -> 1920000
C9: (6) เบี้ยยังชีพผู้ป่วยเอดส์ | D9: =SUM(แผนงานงบกลาง!H77) -> 36000 | O9: =SUM(D9:N9) -> 36000
C10: (5) เงินสำรองจ่าย | D10: =SUM(แผนงานงบกลาง!H88) -> 120000 | O10: =SUM(D10:N10) -> 120000
C11: (6) รายจ่ายตามข้อผูกพัน | D11: =SUM(แผนงานงบกลาง!H112) -> 229087 | O11: =SUM(D11:N11) -> 229087
C12: (7) เงินช่วยพิเศษ | D12: =SUM(แผนงานงบกลาง!H162) -> 5000 | O12: =SUM(D12:N12) -> 5000
C13: (8) เงินสมทบกองทุนบำเหน็จข้าราชการส่วนท้องถิ่น (กบท.) | D13: =SUM(แผนงานงบกลาง!H171) -> 467220 | O13: =SUM(D13:N13) -> 467220 | P13: =SUM(O4:O13) -> 10597642
A18: แผนงาน | D18: แผนงานงบกลาง | E18: แผนงานบริหารทั่วไป | F18: แผนงานการรักษาความสงบภายใน | G18: แผนงานการศึกษา | H18: แผนงานสาธารณสุข | I18: แผนงานสังคมสงเคราะห์ | J18: แผนงานเคหะและชุมชน | K18: แผนงานสร้างความเข้มแข็งของชุมชน | L18: แผนงานศาสนาวัฒนธรรมและนันทนาการ | M18: แผนงานการเกษตร | N18: แผนงานการพานิชย์ | O18: รวม
A19: งบ/หมวด/ประเภทรายจ่าย
A20: งบบุคลากร | B20: เงินเดือน (ฝ่ายการเมือง) | C20: (1) เงินเดือนนายก/รองนายก | E20: =SUM(แผนงานบริหารทั่วไป!H12) -> 695520 | O20: =SUM(D20:N20) -> 695520
C21: (2) เงินค่าตอบแทนประจำตำแหน่งนายก/รองนายก | E21: =SUM(แผนงานบริหารทั่วไป!H23) -> 120000 | O21: =SUM(D21:N21) -> 120000
C22: (3) เงินค่าตอบแทนพิเศษนายก/รองนายก | E22: =SUM(แผนงานบริหารทั่วไป!H36) -> 120000 | O22: =SUM(D22:N22) -> 120000
C23: (4) เงินค่าตอบแทนเลขานุการ/ที่ปรึกษานายกเทศมนตรี | E23: =SUM(แผนงานบริหารทั่วไป!H46) -> 198720 | O23: =SUM(D23:N23) -> 198720
C24: (5) เงินค่าตอบแทนสมาชิกสภาองค์กรปกครองส่วนท้องถิ่น | E24: =SUM(แผนงานบริหารทั่วไป!H57) -> 1258560 | O24: =SUM(D24:N24) -> 1258560 | P24: =SUM(O20:O24) -> 2392800
A29: แผนงาน | D29: แผนงานงบกลาง | E29: แผนงานบริหารทั่วไป | F29: แผนงานการรักษาความสงบภายใน | G29: แผนงานการศึกษา | H29: แผนงานสาธารณสุข | I29: แผนงานสังคมสงเคราะห์ | J29: แผนงานเคหะและชุมชน | K29: แผนงานสร้างความเข้มแข็งของชุมชน | L29: แผนงานศาสนาวัฒนธรรมและนันทนาการ | M29: แผนงานการเกษตร | N29: แผนงานการพานิชย์ | O29: รวม
A30: งบ/หมวด/ประเภทรายจ่าย
A31: งบบุคลากร | B31: เงินเดือน (ฝ่ายประจำ) | C31: (1) เงินเดือนพนักงานเทศบาล | E31: =SUM(แผนงานบริหารทั่วไป!H73,แผนงานบริหารทั่วไป!H752,แผนงานบริหารทั่วไป!H851) -> 5290200 | F31: =SUM(แผนงานรักษาความสงบภายใน!H6) -> 216720 | G31: =SUM(แผนงานการศึกษา!H6,แผนงานการศึกษา!H70) -> 1137000 | H31: =SUM(แผนงานสาธารณสุข!H6) -> 1507920 | J31: =SUM(แผนงานเคหะและชุมชน!H6) -> 1663560 | O31: =SUM(D31:N31) -> 9815400
C32: (2) เงินเพิ่มต่างๆ ของพนักงานเทศบาล | E32: =SUM(แผนงานบริหารทั่วไป!H97) -> 84000 | G32: 0 | O32: =SUM(D32:N32) -> 84000
C33: (3) เงินเพิ่มตามวุฒิพนักงานเทศบาล | G33: 0 | O33: =SUM(D33:N33) -> 0
C34: (4) เงินประจำตำแหน่งปลัดเทศบาล/รองปลัดเทศบาล/หัวหน้าส่วนราชการและหัวฝ่าย | E34: =SUM(แผนงานบริหารทั่วไป!H110,แผนงานบริหารทั่วไป!H863) -> 246000 | F34: 0 | H34: =SUM(แผนงานสาธารณสุข!H26) -> 60000 | J34: =SUM(แผนงานเคหะและชุมชน!H19) -> 60000 | O34: =SUM(D34:N34) -> 366000
C35: (5) ค่าจ้างลูกจ้างประจำ | E35: =SUM(แผนงานบริหารทั่วไป!H880) -> 442140 | F35: =SUM(แผนงานรักษาความสงบภายใน!H22) -> 439200 | H35: =SUM(แผนงานสาธารณสุข!H43) -> 203520 | J35: =SUM(แผนงานเคหะและชุมชน!H38) -> 199800 | O35: =SUM(D35:N35) -> 1284660
C36: (6) เงินเพิ่มต่าง ๆ ของลูกจ้างประจำ | F36: 0 | O36: =SUM(D36:N36) -> 0
C37: (7) ค่าตอบแทนพนักงานจ้าง | E37: =SUM(แผนงานบริหารทั่วไป!H128,แผนงานบริหารทั่วไป!H885) -> 324120 | G37: =SUM(แผนงานการศึกษา!H88) -> 352800 | H37: =SUM(แผนงานสาธารณสุข!H52) -> 150240 | J37: =SUM(แผนงานเคหะและชุมชน!H42) -> 453600 | O37: =SUM(D37:N37) -> 1280760
C38: (8) เงินเพิ่มต่าง ๆของพนักงานจ้าง | E38: =SUM(แผนงานบริหารทั่วไป!H140) -> 4020 | F38: 0 | G38: =SUM(แผนงานการศึกษา!H100) -> 60000 | H38: =SUM(แผนงานสาธารณสุข!H62) -> 9900 | J38: =SUM(แผนงานเคหะและชุมชน!H53) -> 26940 | O38: =SUM(D38:N38) -> 100860 | P38: =SUM(O31:O38) -> 12931680
A39: แผนงาน | D39: แผนงานงบกลาง | E39: แผนงานบริหารทั่วไป | F39: แผนงานการรักษาความสงบภายใน | G39: แผนงานการศึกษา | H39: แผนงานสาธารณสุข | I39: แผนงานสังคมสงเคราะห์ | J39: แผนงานเคหะและชุมชน | K39: แผนงานสร้างความเข้มแข็งของชุมชน | L39: แผนงานศาสนาวัฒนธรรมและนันทนาการ | M39: แผนงานการเกษตร | N39: แผนงานการพานิชย์ | O39: รวม
A40: งบ/หมวด/ประเภทรายจ่าย
A41: งบดำเนินงาน | B41: ค่าตอบแทน | C41: (1) ค่าตอบแทนผู้ปฏิบัติราชการอันเป็นประโยชน์แก่องค์กรปกครองส่วนท้องถิ่น | E41: =SUM(แผนงานบริหารทั่วไป!H159,แผนงานบริหารทั่วไป!H765,แผนงานบริหารทั่วไป!H898) -> 387798 | F41: =SUM(แผนงานรักษาความสงบภายใน!H46,แผนงานรักษาความสงบภายใน!H89) -> 97510 | G41: =SUM(แผนงานการศึกษา!H28) -> 57185 | H41: =SUM(แผนงานสาธารณสุข!H92) -> 77570 | J41: =SUM(แผนงานเคหะและชุมชน!H69) -> 78835 | O41: =SUM(D41:N41) -> 698898
C42: (2) ค่าเบี้ยประชุม | E42: =SUM(แผนงานบริหารทั่วไป!H183) -> 25000 | O42: =SUM(D42:N42) -> 25000
C43: (3) ค่าตอบแทนการปฏิบัติงานนอกเวลาราชการ | E43: =SUM(แผนงานบริหารทั่วไป!H195,แผนงานบริหารทั่วไป!H927) -> 20000 | H43: =SUM(แผนงานสาธารณสุข!H108) -> 10000 | J43: =SUM(แผนงานเคหะและชุมชน!H85) -> 10000 | O43: =SUM(D43:N43) -> 40000
C44: (4) ค่าเช่าบ้าน | E44: =SUM(แผนงานบริหารทั่วไป!H936,แผนงานบริหารทั่วไป!H204) -> 174000 | F44: =SUM(แผนงานรักษาความสงบภายใน!H63) -> 27600 | G44: =SUM(แผนงานการศึกษา!H46) -> 30000 | H44: =SUM(แผนงานสาธารณสุข!H117) -> 69600 | J44: =SUM(แผนงานเคหะและชุมชน!H94) -> 5000 | O44: =SUM(D44:N44) -> 306200
C45: (5) เงินช่วยเหลือการศึกษาบุตร | E45: =SUM(แผนงานบริหารทั่วไป!H212,แผนงานบริหารทั่วไป!H944) -> 83000 | G45: =SUM(แผนงานการศึกษา!H121) -> 75000 | H45: =SUM(แผนงานสาธารณสุข!H126) -> 75000 | J45: =SUM(แผนงานเคหะและชุมชน!H102) -> 10000 | O45: =SUM(D45:N45) -> 243000 | P45: =SUM(O41:O45) -> 1313098
A55: แผนงาน | D55: แผนงานงบกลาง | E55: แผนงานบริหารทั่วไป | F55: แผนงานการรักษาความสงบภายใน | G55: แผนงานการศึกษา | H55: แผนงานสาธารณสุข | I55: แผนงานสังคมสงเคราะห์ | J55: แผนงานเคหะและชุมชน | K55: แผนงานสร้างความเข้มแข็งของชุมชน | L55: แผนงานศาสนาวัฒนธรรมและนันทนาการ | M55: แผนงานการเกษตร | N55: แผนงานการพานิชย์ | O55: รวม
A56: งบ/หมวด/ประเภทรายจ่าย
A57: งบดำเนินงาน | B57: ค่าใช้สอย | C57: (1) รายจ่ายเพื่อให้ได้มาซึ่งบริการ | E57: =SUM(แผนงานบริหารทั่วไป!H227,แผนงานบริหารทั่วไป!H783,แผนงานบริหารทั่วไป!H960) -> 945000 | F57: =SUM(แผนงานรักษาความสงบภายใน!H74) -> 480000 | G57: =SUM(แผนงานการศึกษา!H56,แผนงานการศึกษา!H130) -> 168000 | H57: =SUM(แผนงานสาธารณสุข!H140) -> 2082000 | J57: =SUM(แผนงานเคหะและชุมชน!H117,แผนงานเคหะและชุมชน!H466,แผนงานเคหะและชุมชน!H486) -> 438000 | O57: =SUM(D57:N57) -> 4113000
C58: (2) รายจ่ายเกี่ยวกับการรับรองและพิธีการ | E58: =SUM(แผนงานบริหารทั่วไป!H981,แผนงานบริหารทั่วไป!H249) -> 30000 | G58: 0 | H58: =SUM(แผนงานสาธารณสุข!H163) -> 40000 | K58: =SUM(แผนงานสร้างความเข้มแข็งของชุมชน!H5) -> 135000 | M58: =SUM(แผนงานการเกษตร!H6) -> 0 | O58: =SUM(D58:N58) -> 205000
C59: (3) รายจ่ายเกี่ยวเนื่องกับการปฏิบัติราชการที่ไม่เข้าลักษณะรายจ่ายหมวดอื่น ๆ | E59: =SUM(แผนงานบริหารทั่วไป!H267,แผนงานบริหารทั่วไป!H982) -> 958500 | F59: =SUM(แผนงานรักษาความสงบภายใน!H114) -> 75000 | G59: =SUM(แผนงานการศึกษา!H140) -> 764620 | H59: =SUM(แผนงานสาธารณสุข!H176,แผนงานสาธารณสุข!H451) -> 370000 | I59: =SUM(แผนงานสังคมสงเคราะห์!H7) -> 70000 | J59: =SUM(แผนงานเคหะและชุมชน!H139) -> 70000 | L59: =SUM(แผนงานศาสนาวัฒนธรรมและนันทนาการ!H7) -> 545000 | M59: =SUM(แผนงานการเกษตร!H7,แผนงานการเกษตร!H39) -> 70000 | O59: =SUM(D59:N59) -> 2923120
C60: (4) ค่าบำรุงรักษาและซ่อมแซม | E60: =SUM(แผนงานบริหารทั่วไป!H1006,แผนงานบริหารทั่วไป!H429) -> 250000 | G60: =SUM(แผนงานการศึกษา!H269) -> 25000 | H60: =SUM(แผนงานสาธารณสุข!H189) -> 140000 | J60: =SUM(แผนงานเคหะและชุมชน!H160,แผนงานเคหะและชุมชน!H428) -> 550000 | N60: =SUM(แผนงานการพาณิชย์!H7) -> 50000 | O60: =SUM(D60:N60) -> 1015000 | P60: =SUM(O57:O60) -> 8256120
A70: แผนงาน | D70: แผนงานงบกลาง | E70: แผนงานบริหารทั่วไป | F70: แผนงานการรักษาความสงบภายใน | G70: แผนงานการศึกษา | H70: แผนงานสาธารณสุข | I70: แผนงานสังคมสงเคราะห์ | J70: แผนงานเคหะและชุมชน | K70: แผนงานสร้างความเข้มแข็งของชุมชน | L70: แผนงานศาสนาวัฒนธรรมและนันทนาการ | M70: แผนงานการเกษตร | N70: แผนงานการพานิชย์ | O70: รวม
A71: งบ/หมวด/ประเภทรายจ่าย
A72: งบดำเนินงาน | B72: ค่าวัสดุ | C72: (1) วัสดุสำนักงาน | E72: =SUM(แผนงานบริหารทั่วไป!H451,แผนงานบริหารทั่วไป!H1029) -> 287000 | G72: =SUM(แผนงานการศึกษา!H296) -> 10000 | H72: =SUM(แผนงานสาธารณสุข!H209) -> 30000 | J72: =SUM(แผนงานเคหะและชุมชน!H185) -> 10000 | O72: =SUM(D72:N72) -> 337000
C73: (2) วัสดุไฟฟ้าและวิทยุ | E73: =SUM(แผนงานบริหารทั่วไป!H1054,แผนงานบริหารทั่วไป!H476) -> 25000 | G73: =SUM(แผนงานการศึกษา!H373) -> 5000 | H73: =SUM(แผนงานสาธารณสุข!H235) -> 5000 | J73: =SUM(แผนงานเคหะและชุมชน!H210) -> 100000 | O73: =SUM(D73:N73) -> 135000
C74: (3) วัสดุงานบ้านงานครัว | E74: =SUM(แผนงานบริหารทั่วไป!H500,แผนงานบริหารทั่วไป!H1077) -> 35000 | G74: =SUM(แผนงานการศึกษา!H321) -> 10000 | H74: =SUM(แผนงานสาธารณสุข!H258) -> 20000 | J74: =SUM(แผนงานเคหะและชุมชน!H233) -> 5000 | O74: =SUM(D74:N74) -> 70000
C75: (4) ค่าอาหารเสริม (นม) | G75: =SUM(แผนงานการศึกษา!H442) -> 1069240 | O75: =SUM(D75:N75) -> 1069240
C76: (5) ค่าอาหารกลางวันเด็กนักเรียน | O76: =SUM(D76:N76) -> 0
C77: (6) วัสดุก่อสร้าง | E77: =SUM(แผนงานบริหารทั่วไป!H521) -> 25000 | G77: =SUM(แผนงานการศึกษา!H397) -> 10000 | H77: =SUM(แผนงานสาธารณสุข!H282) -> 30000 | J77: =SUM(แผนงานเคหะและชุมชน!H254) -> 50000 | O77: =SUM(D77:N77) -> 115000
C78: (7) วัสดุยานพาหนะและขนส่ง | E78: =SUM(แผนงานบริหารทั่วไป!H543) -> 15000 | H78: =SUM(แผนงานสาธารณสุข!H305) -> 20000 | J78: =SUM(แผนงานเคหะและชุมชน!H276) -> 10000 | O78: =SUM(D78:N78) -> 45000
C79: (8) วัสดุเชื้อเพลิงและหล่อหลื่น | E79: =SUM(แผนงานบริหารทั่วไป!H1098,แผนงานบริหารทั่วไป!H569) -> 170000 | H79: =SUM(แผนงานสาธารณสุข!H329) -> 150000 | J79: =SUM(แผนงานเคหะและชุมชน!H299) -> 100000 | O79: =SUM(D79:N79) -> 420000
C80: (9) วัสดุโฆษณาและเผยแพร่ | E80: =SUM(แผนงานบริหารทั่วไป!H588) -> 5000 | H80: =SUM(แผนงานสาธารณสุข!H362) -> 5000 | J80: =SUM(แผนงานเคหะและชุมชน!H320) -> 5000 | O80: =SUM(D80:N80) -> 15000
C81: (10) วัสดุเครื่องแต่งกาย | F81: =SUM(แผนงานรักษาความสงบภายใน!H176) -> 70000 | G81: 0 | H81: =SUM(แผนงานสาธารณสุข!H382) -> 30000 | J81: =SUM(แผนงานเคหะและชุมชน!H340) -> 5000 | O81: =SUM(D81:N81) -> 105000
C82: (11) วัสดุกีฬา | O82: =SUM(D82:N82) -> 0
C83: (12) วัสดุคอมพิวเตอร์ | E83: =SUM(แผนงานบริหารทั่วไป!H1116,แผนงานบริหารทั่วไป!H608) -> 159400 | G83: =SUM(แผนงานการศึกษา!H343) -> 10000 | H83: =SUM(แผนงานสาธารณสุข!H394) -> 50000 | J83: =SUM(แผนงานเคหะและชุมชน!H354) -> 40000 | O83: =SUM(D83:N83) -> 259400
A84: แผนงาน | D84: แผนงานงบกลาง | E84: แผนงานบริหารทั่วไป | F84: แผนงานการรักษาความสงบภายใน | G84: แผนงานการศึกษา | H84: แผนงานสาธารณสุข | I84: แผนงานสังคมสงเคราะห์ | J84: แผนงานเคหะและชุมชน | K84: แผนงานสร้างความเข้มแข็งของชุมชน | L84: แผนงานศาสนาวัฒนธรรมและนันทนาการ | M84: แผนงานการเกษตร | N84: แผนงานการพานิชย์ | O84: รวม
A85: งบ/หมวด/ประเภทรายจ่าย
A86: งบดำเนินงาน | B86: ค่าวัสดุ | C86: (13) วัสดุการศึกษา | G86: 0 | O86: =SUM(D86:N86) -> 0
C87: (14) วัสดุดับเพลิง | F87: =SUM(แผนงานรักษาความสงบภายใน!H191) -> 100000 | O87: =SUM(D87:N87) -> 100000
C88: (15) วัสดุสำรวจ | J88: =SUM(แผนงานเคหะและชุมชน!H382) -> 5000 | O88: =SUM(D88:N88) -> 5000
C89: (16) วัสดุวิทยาศาสตร์หรือการแพทย์ | H89: =SUM(แผนงานสาธารณสุข!H347) -> 20000 | O89: =SUM(D89:N89) -> 20000
C90: (17) วัสดุอื่น ๆ | E90: =SUM(แผนงานบริหารทั่วไป!H638) -> 10000 | G90: =SUM(แผนงานการศึกษา!H420) -> 5000 | H90: =SUM(แผนงานสาธารณสุข!H423) -> 50000 | O90: =SUM(D90:N90) -> 65000 | P90: =SUM(O72:O90) -> 2760640
B91: ค่าสาธารณูปโภค | C91: (1) ค่าไฟฟ้า | E91: =SUM(แผนงานบริหารทั่วไป!H659,แผนงานบริหารทั่วไป!H1147) -> 493000 | G91: =SUM(แผนงานการศึกษา!H468) -> 48000 | O91: =SUM(D91:N91) -> 541000
C92: (2) ค่าน้ำประปา ค่าน้ำบาดาล | E92: =SUM(แผนงานบริหารทั่วไป!H1156,แผนงานบริหารทั่วไป!H669) -> 150000 | G92: =SUM(แผนงานการศึกษา!H478) -> 15000 | O92: =SUM(D92:N92) -> 165000
C93: (3) ค่าบริการโทรศัพท์ | E93: =SUM(แผนงานบริหารทั่วไป!H679) -> 30000 | G93: =SUM(แผนงานการศึกษา!H489) -> 6000 | O93: =SUM(D93:N93) -> 36000
C94: (4) ค่าบริการไปรษณีย์ | E94: =SUM(แผนงานบริหารทั่วไป!H686) -> 20000 | O94: =SUM(D94:N94) -> 20000
C95: (5) ค่าบริการสื่อสารและโทรคมนาคม | E95: =SUM(แผนงานบริหารทั่วไป!H692) -> 52000 | G95: =SUM(แผนงานการศึกษา!H496) -> 19200 | O95: =SUM(D95:N95) -> 71200 | P95: =SUM(O91:O95) -> 833200
A102: แผนงาน | D102: แผนงานงบกลาง | E102: แผนงานบริหารทั่วไป | F102: แผนงานการรักษาความสงบภายใน | G102: แผนงานการศึกษา | H102: แผนงานสาธารณสุข | I102: แผนงานสังคมสงเคราะห์ | J102: แผนงานเคหะและชุมชน | K102: แผนงานสร้างความเข้มแข็งของชุมชน | L102: แผนงานศาสนาวัฒนธรรมและนันทนาการ | M102: แผนงานการเกษตร | N102: แผนงานการพานิชย์ | O102: รวม
A103: งบ/หมวด/ประเภทรายจ่าย
A104: งบลงทุน | B104: ค่าครุภัณฑ์ | O104: =SUM(D104:N104) -> 0
B105: (1) ครุภัณฑ์สำนักงาน | E105: =SUM(แผนงานบริหารทั่วไป!H1168,แผนงานบริหารทั่วไป!H703) -> 68900 | F105: 0 | G105: =SUM(แผนงานการศึกษา!H508) -> 95200 | H105: =SUM(แผนงานสาธารณสุข!H622) -> 35500 | O105: =SUM(D105:N105) -> 199600
B106: (2) ครุภัณฑ์การศึกษา | O106: =SUM(D106:N106) -> 0
B107: (3) ครุภัณฑ์ยานพาหนะและขนส่ง | E107: 0 | O107: =SUM(D107:N107) -> 0
B108: (4) ครุภัณฑ์การเกษตร | F108: =SUM(แผนงานรักษาความสงบภายใน!H220) -> 13400 | H108: 0 | O108: =SUM(D108:N108) -> 13400
B109: (5) ครุภัณฑ์ก่อสร้าง | O109: =SUM(D109:N109) -> 0
B110: (6) ครุภัณฑ์ไฟฟ้าและวิทยุ | J110: =SUM(แผนงานเคหะและชุมชน!H419) -> 0 | O110: =SUM(D110:N110) -> 0
B111: (7) ครุภัณฑ์โฆษณาและเผยแพร่ | H111: =SUM(แผนงานสาธารณสุข!H612) -> 27700 | J111: 0 | O111: =SUM(D111:N111) -> 27700
B112: (8) ครุภัณฑ์งานบ้านงานครัว | O112: =SUM(D112:N112) -> 0
B113: (9) ครุภัณฑ์คอมพิวเตอร์ | E113: =SUM(แผนงานบริหารทั่วไป!H729,แผนงานบริหารทั่วไป!H1173) -> 31500 | F113: 0 | H113: =SUM(แผนงานสาธารณสุข!H644) -> 23500 | O113: =SUM(D113:N113) -> 55000
B114: (10) ครุภัณฑ์สำรวจ | F114: 0 | J114: =SUM(แผนงานเคหะและชุมชน!H404) -> 37000 | O114: =SUM(D114:N114) -> 37000
B115: (11) ครุภัณฑ์อื่น | E115: 0 | F115: 0 | O115: =SUM(D115:N115) -> 0 | P115: =SUM(O105:O115) -> 332700
B116: ค่าที่ดินและสิ่งก่อสร้าง | G116: =SUM(แผนงานการศึกษา!H529) -> 346380 | J116: =SUM(แผนงานเคหะและชุมชน!H438) -> 352000 | O116: =SUM(D116:N116) -> 698380 | P116: =SUM(O116) -> 698380
A120: แผนงาน | D120: แผนงานงบกลาง | E120: แผนงานบริหารทั่วไป | F120: แผนงานการรักษาความสงบภายใน | G120: แผนงานการศึกษา | H120: แผนงานสาธารณสุข | I120: แผนงานสังคมสงเคราะห์ | J120: แผนงานเคหะและชุมชน | K120: แผนงานสร้างความเข้มแข็งของชุมชน | L120: แผนงานศาสนาวัฒนธรรมและนันทนาการ | M120: แผนงานการเกษตร | N120: แผนงานการพานิชย์ | O120: รวม
A121: งบ/หมวด/ประเภทรายจ่าย
A122: งบเงินอุดหนุน | B122: เงินอุดหนุน | O122: =SUM(D122:N122) -> 0
B123: (1) เงินอุดหนุนองค์กรปกครองส่วนท้องถิ่น | O123: =SUM(D123:N123) -> 0
B124: (2) เงินอุดหนุนส่วนราชการ | G124: =SUM(แผนงานการศึกษา!H572) -> 1896000 | I124: =SUM(แผนงานสังคมสงเคราะห์!H21) -> 20000 | K124: =SUM(แผนงานสร้างความเข้มแข็งของชุมชน!H98) -> 80000 | L124: =SUM(แผนงานศาสนาวัฒนธรรมและนันทนาการ!H98) -> 70000 | O124: =SUM(D124:N124) -> 2066000
B125: (3) เงินอุดหนุนเอกชน | H125: =SUM(แผนงานสาธารณสุข!H672) -> 110000 | L125: =SUM(แผนงานศาสนาวัฒนธรรมและนันทนาการ!H126) -> 100000 | O125: =SUM(D125:N125) -> 210000
B126: (4) เงินอุดหนุนกิจการที่เป็นสาธารณประโยชน์ | J126: =SUM(แผนงานเคหะและชุมชน!H446) -> 300000 | O126: =SUM(D126:N126) -> 300000 | P126: =SUM(O123:O126) -> 2576000
A127: รวม | D127: =SUM(D4:D125) -> 10597642 | E127: =SUM(E4:E125) -> 13233378 | F127: =SUM(F4:F125) -> 1519430 | G127: =SUM(G4:G125) -> 6214625 | H127: =SUM(H4:H125) -> 5402450 | I127: =SUM(I4:I125) -> 90000 | J127: =SUM(J4:J126) -> 4584735 | K127: =SUM(K4:K125) -> 215000 | L127: =SUM(L4:L125) -> 715000 | M127: =SUM(M4:M125) -> 70000 | N127: =SUM(N4:N125) -> 50000 | O127: =SUM(D127:N127) -> 42692260 | P127: =SUM(P13,P24,P38,P45,P60,P90,P95,P115,P116,P126) -> 42692260
A139: งบกลาง | B139: =SUM(P13) -> 10597642
A140: งบบุคลากร | B140: =SUM(P24,P38) -> 15324480
A141: งบดำเนินงาน | B141: =SUM(P45,P60,P90,P95) -> 13163058
A142: งบลงทุน | B142: =SUM(P115:P116) -> 1031080
A143: งบเงินอุดหนุน | B143: =SUM(P126) -> 2576000
A144: รวม | B144: =SUM(B139:B143) -> 42692260

Sheet สรุปรับต่างจาย
A1: สรุป รายรับ-รายจ่าย
A3: ประมาณการรายรับ | B3: =SUM(รายละเอียดประมาณการรายรับ!F6) -> 42692260 | C3: บาท
A4: ประมาณการรายจ่าย | B4: =SUM(แผนงานบริหารทั่วไป!H5) -> 42692260 | C4: บาท
A5: ผลต่าง ประมาณการรายจ่ายเท่ากับประมาณการรายรับ | B5: =SUM(B3-B4) -> 0 | C5: บาท

Sheet เงินอุดหนุน
A1: รายการเงินอุดหนุนที่อุดหนุนให้กับหน่วยงานที่ขอรับเงินอุดหนุน
A2: ประจำปีงบประมาณ 2562
A4: ลำดับที่ | B4: ชื่อโครงการ | C4: อุดหนุนให้หน่วยงาน | D4: จำนวนงบประมาณ | E4: หมายเหตุ
D5: บาท
B6: เงินอุดหนุนส่วนราชการ
A7: 1 | B7: อุดหนุนค่าอาหารกลางวันโรงเรียนชุมชนบ้าน แวงใหญ่ | C7: โรงเรียนชุมชนบ้านแวงใหญ่ | D7: 1424000 | E7: =SUM(D7:D8) -> 1752000
A8: 2 | B8: อุดหนุนค่าอาหารกลางวันโรงเรียนบ้านบะแค | C8: โรงเรียนบ้านบะแค | D8: 328000
A9: 3 | B9: อุดหนุนโครงการศูนย์เฉลิมพระเกียรติเพื่อช่วยเหลือผู้ป่วยโรคเอดส์และผู้ติดเชื้อ H.I.V. | C9: ที่ทำการปกครองอำเภอแวงใหญ่ | D9: 20000
A10: 4 | B10: อุดหนุนโครงการแข่งขันกีฬาต้านยาเสพติด | C10: โรงเรียนชุมชนบ้านแวงใหญ่ | D10: 24000
A11: 5 | B11: อุดหนุนโครงการประเพณีบุญกุ้มข้าวใหญ่ ไหว้พระธาตุเจดีย์ ของดีแวงใหญ่ | C11: ที่ทำการปกครองอำเภอแวงใหญ่ | D11: 80000
A12: 6 | B12: อุดหนุนโครงการสนับสนุนภารกิจของเหล่ากาชาดจังหวัดขอนแก่น ประจำปี พ.ศ. 2561 | C12: เหล่ากาชาดจังหวัดขอนแก่น | D12: 10000
A13: 10 | B13: อุดหนุนโครงการป้องกันและแก้ไขปัญหายา เสพติดในพื้นที่ | C13: ศูนย์ปฏิบัติการป้องกันและปราบปรามยาเสพติดอำเภอแวงใหญ่และที่ทำการปกครองอำเภอแวงใหญ่ | D13: 30000
A14: 11 | B14: อุดหนุนโครงการป้องกันและแก้ไขปัญหายา เสพติดจังหวัดหวัดขอนแก่น (ศพส.จ.ขก.) | C14: ศูนย์อำนวยการพลังแผ่นดินเอาชนะยาเสพติดจังหวัดขอนแก่น (ศพส.จ.ขก.) | D14: 30000
A16: ลำดับที่ | B16: ชื่อโครงการ | C16: อุดหนุนให้หน่วยงาน | D16: จำนวนงบประมาณ | E16: หมายเหตุ
D17: บาท
A18: 12 | B18: อุดหนุนโครงการจัดกิจกรรมเข้าค่ายเยาวชนรักสิ่งแวดล้อม | C18: 1. โรงเรียนบ้านบะแค จำนวน 10,000 บาท 2. โรงเรียนชุมชนบ้านแวงใหญ่ จำนวน 20,000 บาท | D18: 30000
A20: รวมเงินอุดหนุนส่วนราชการ | D20: =SUM(D7:D19) -> 1976000
B21: เงินอุดหนุนเอกชน
A22: 1 | B22: อุดหนุนการจัดงานบุญประเพณีมหาลัยปูนา | C22: คณะกรรมการหมู่บ้าน หมู่ที่ 1 บ้านแวงใหญ่ | D22: 10000
A23: 2 | B23: อุดหนุนการจัดงานฉลองศาลเจ้าพ่อหนองโบสถ์ | C23: คณะกรรมการหมู่บ้าน หมู่ที่ 2 บ้านดอนบาลไท | D23: 10000
A24: 3 | B24: อุดหนุนการจัดงานฉลองศาลเจ้าพ่อปู่ตา | C24: คณะกรรมการหมู่บ้าน หมู่ที่ 1 | D24: 10000
C25: คณะกรรมการหมู่บ้าน หมู่ที่ 3 | D25: 10000
C26: คณะกรรมการหมู่บ้าน หมู่ที่ 4 | D26: 10000 | E26: 60,000 บาท
C27: คณะกรรมการหมู่บ้าน หมู่ที่ 5 | D27: 10000
C28: คณะกรรมการหมู่บ้าน หมู่ที่ 6 | D28: 10000
C29: คณะกรรมการหมู่บ้าน หมู่ที่ 7 | D29: 10000
A30: 4 | B30: อุดหนุนโครงการปฏิบัติธรรมและจัดอยู่ปริวาสกรรมบวชศิลจาริณี | C30: คณะกรรมการหมู่บ้าน หมู่ที่ 5 บ้านบะแค | D30: 20000
A31: รวมเงินอุดหนุนเอกชน | D31: =SUM(D22:D30) -> 100000
A32: รวมเงินอุดหนุนที่อุดหนุนให้กับหน่วยงานที่ขอรับเงินอุดหนุนทั้งหมด | D32: =SUM(#REF!,D20,D31) -> #REF! | G32: =SUM(D32-D7-D8) -> #REF!
B34: จำนวนเงินที่สามารถจ่ายเงินอุดหนุนในปีงบประมาณ พ.ศ 2561
B35: เทศบาลสามารถอุดหนุนได้ไม่เกินร้อยละสามของรายได้จริงในปีงบประมาณที่ผ่านมา
B36: คำนวณ
B37: รายได้รับจริงปี 2559 = | C37: 25,312,526.82 x 3
C38: 100
B39: = | C39: 759,375.80

Sheet Sheet1
